Workbook

Sheet 計画承認申請チェック表
B1: 計画承認申請書提出書類チェック表
B2: 提 出 書 類 | F2: ﾁｪｯｸ | G2: 備考
B3: 助成事業計画承認申請書 | E3: 第３号様式
B4: (1) | C4: 退職金共済制度加入促進対策事業計画書 | E4: 第４号様式
C5: 退職金共済制度従事者別年間就業計画表 | E5: 第４号様式の２
B6: (2) | C6: 社会保険加入促進事業計画書 | E6: 第４号様式の３
C7: 従事者別社会保険料負担計画表 | E7: 第４号様式の４
C8: 社会保険従事者別年間就業計画表 | E8: 第４号-３,４参考（事業割合）
C9: 社会保険料負担実績明細表 | E9: 別記第１０号様式の６
B10: (3) | C10: 新規参入者給与安定対策事業計画書 | E10: 第４号様式の５
C11: 添付資料 | D11: 新規参入者であることを証する書類の写し | E11: 雇用契約書等
D12: 退職金共済加入を証する書類の写し | E12: 共済手帳（1冊目） or 共済手帳申込書（受付印入り）
D13: 雇用保険加入を証する書類の写し | E13: 雇用保険被保険者資格取得等確認通知書 | G13: ﾊﾛｰﾜｰｸから入手
D14: 健康保険・厚生年金加入を証する書類の写し | E14: 健康保険・厚生年金保険資格取得確認および標準報酬決定通知書 | G14: 年金事務所から入手
B15: (4) | C15: 新規参入者確保促進事業計画書 | E15: 第４号様式の６
C16: 添付資料 | D16: 新規参入者であることを証する書類の写し | E16: 雇用契約書等
D17: 雇用保険加入を証する書類の写し | E17: 雇用保険被保険者資格取得等確認通知書 | G17: ﾊﾛｰﾜｰｸから入手
D18: 健康保険・厚生年金加入を証する書類の写し | E18: 健康保険・厚生年金保険資格取得確認および標準報酬決定通知書 | G18: 年金事務所から入手
B19: (5) | C19: 新規参入者住宅確保支援事業（代理申請）計画書 | E19: 第４号様式の７
C20: 添付資料 | D20: 前住所及び現住所が確認できる書類の写し | E20: 住民票（発行日から３カ月以内）等
D21: 住宅の賃貸契約書の写し
B22: (6) | C22: 緑の雇用現場技能者育成対策事業実地研修期間一覧表 | E22: 第５号様式
B23: （注１） (6)の第５号様式は緑の雇用の有無に関わらず、申請する事業すべてに添付すること。 （注２） 該当する項目にチェックを記入すること

Sheet 交付申請チェック表
B1: 助成金交付申請書提出書類チェック表
B2: 提 出 書 類 | F2: ﾁｪｯｸ | G2: 備 考
B3: 退職金共済制度加入促進事業 | C3: 退職金共済制度加入促進対策事業の助成金交付申請書 | E3: 第7号様式
C4: 退職金共済制度加入促進対策事業実績書 | E4: 第10号様式
C5: 退職金共済制度従事者別年間就業実績表 | E5: 第10号様式の2 | G5: 林退共、中退共毎に作成
C6: 従事者別、月別就業日数及び掛け金額一覧表 | E6: 第10号様式の3 | G6: 林退共、中退共毎に作成
C7: 添付資料 | D7: 林退共掛け金収納書（写） | G7: 林退共のみ
D8: 掛け金等振り替え結果のお知らせ（写） 通帳の写し（該当部分） | G8: 中退共のみ
C9: １月から１２月までの間に受注した公共工事一覧 | E9: 第8号様式 | G9: ★R5～附表の提出を想定（該当者のみ）
C10: 緑の雇用現場技能者育成対策事業実地研修期間一覧表 | E10: 第9号様式
B11: 社会保険加入促進事業 | C11: 社会保険加入促進事業の助成金交付申請書 | E11: 第7号様式の2
C12: 社会保険加入促進事業実績書 | E12: 第10号様式の4
C13: 従事者別社会保険料負担実績表 | E13: 第10号様式の5
C14: 社会保険料負担実績明細表 | E14: 第10号様式の6
C15: 添付 資料 | D15: 個人別の給与所得に対する所得源泉徴収簿（写） | G15: 源泉徴収票ではないので注意
C16: １月から１２月までの間に受注した公共工事一覧 | E16: 第8号様式 | G16: ★R5～附表の提出を想定（該当者のみ）
C17: 緑の雇用現場技能者育成対策事業実地研修期間一覧表 | E17: 第9号様式
B18: 新規参入者給与安定対策事業 新規参入者確保促進事業 | C18: 新規参入者給与安定対策事業、 新規参入者確保促進事業の助成金交付申請書 | E18: 第7号様式の3
C19: 新規参入者給与安定対策事業実績書 | E19: 第10号様式の7
C20: 新規参入者給与安定対策事業対象者 への月別現金給与支給明細書 | E20: 第10号様式の8
C21: 新規参入者確保促進事業実績書 | E21: 第10号様式の9
C22: 緑の雇用現場技能者育成対策事業実地研修期間一覧表 | E22: 第9号様式
B23: 新規参入者住宅 確保支援事業 | C23: 新規参入者住宅確保支援事業の助成金交付申請書 | E23: 第7号様式の4
C24: 新規参入者住宅確保支援事業（代理申請）実績書 | E24: 第10号様式の10
B25: （注）該当する項目にチェックを記入すること

Sheet 4号
A1: 別記第４号様式
A2: 令和7年度 | C2: 退職金共済制度加入促進対策事業計画書
A3: １ 事業計画総括表
A4: 区分 | B4: 事業種目 | D4: 延べ 作業日数 | E4: 事業主負担額 | F4: 備 考
A5: 林退共 | B5: 公共工事請負 | D5: ='4号-2(林退共)'!$E$31 -> 55 | E5: 25850
B6: 主伐 | D6: ='4号-2(林退共)'!$F$31 -> 65 | E6: 30550
B7: 造林補助金等事業 （申請者） | D7: ='4号-2(林退共)'!$G$31 -> 25 | E7: 11750
B8: 公共工事・造林補助金等事業（下請） | D8: ='4号-2(林退共)'!$H$31 -> 35 | E8: 16450
B9: その他 | D9: ='4号-2(林退共)'!$I$31 -> 25 | E9: 11750
B10: 計 | D10: ='4号-2(林退共)'!$J$31 -> 205 | E10: =SUM(E5:E9) -> 96350
A11: 中退共 | B11: 公共工事請負 | D11: ='4号-2(中退共)'!$E$31 -> 10 | E11: 5000 | G11: =IFERROR(F11/D11/12,"") -> 0
B12: 主伐 | D12: ='4号-2(中退共)'!$F$31 -> 33 | E12: 10000
B13: 造林補助金等事業 （申請者） | D13: ='4号-2(中退共)'!$G$31 -> 67 | E13: 20000
B14: 公共工事・造林補助金等事業（下請） | D14: ='4号-2(中退共)'!$H$31 -> 35 | E14: 12000
B15: その他 | D15: ='4号-2(中退共)'!$I$31 -> 45 | E15: 18000
B16: 計 | D16: ='4号-2(中退共)'!$J$31 -> 190 | E16: =SUM(E11:E15) -> 65000
A17: 合計 | D17: =SUM(D10,D16) -> 395 | E17: =SUM(E10,E16) -> 161350
A19: 注（１） | B19: 暦年（１～１２月）の計画を計上してください。
A20: （２） | B20: 事務職、加工場勤務、トラック運送を主たる業務とする者は、当基金の助成対象となりません。
A21: （３） | B21: 公共工事請負、造林補助金等事業は、別紙参照のこと。
A22: （４） | B22: 造林補助金等事業（申請者）とは、造林補助金等事業の申請者が行った場合、公共工事・造林補助金等事業（下請）とは、森林組合等の補助金申請事業体と補助事業対象の作業を請け負った場合は記入。
A23: （５） | B23: その他とは、上記事業種目以外で作業をした日数を記入。

Sheet 4号-2(林退共)
B1: 別記第４号様式の２
B2: ２ 令和7年度 | C2: 退職金共済制度従事者別年間就業計画表（助成対象者のみ） | L2: 年齢算出基準日 | M2: 45992
I3: 【 林退共 】
B4: 氏名 | C4: 生年月日 | D4: 年齢 | E4: 公共工事請負 | F4: 主伐 | G4: 造林補助金等事業（申請者） | H4: 公共工事・造林補助金等事業(下請) | I4: その他 | J4: 計
E5: 日 | F5: 日 | G5: 日 | H5: 日 | I5: 日 | J5: 日
A6: 1 | B6: い | C6: 37047 | D6: =IF(ISBLANK(C6),"",DATEDIF(C6,$M$2,"y")) -> 24 | E6: 30 | H6: 10 | I6: 25 | J6: =SUM(E6:I6) -> 65 | K6: =IF(ISBLANK(B6),"",1) -> 1
A7: 2 | B7: う | C7: 29403 | D7: =IF(ISBLANK(C7),"",DATEDIF(C7,$M$2,"y")) -> 45 | F7: 65 | G7: 25 | H7: 15 | J7: =SUM(E7:I7) -> 105 | K7: =IF(ISBLANK(B7),"",1) -> 1
A8: 3 | B8: え | C8: 26590 | D8: =IF(ISBLANK(C8),"",DATEDIF(C8,$M$2,"y")) -> 53 | E8: 25 | H8: 10 | J8: =SUM(E8:I8) -> 35 | K8: =IF(ISBLANK(B8),"",1) -> 1
A9: 4 | D9: =IF(ISBLANK(C9),"",DATEDIF(C9,$M$2,"y")) | J9: =SUM(E9:I9) -> 0 | K9: =IF(ISBLANK(B9),"",1)
A10: 5 | D10: =IF(ISBLANK(C10),"",DATEDIF(C10,$M$2,"y")) | J10: =SUM(E10:I10) -> 0 | K10: =IF(ISBLANK(B10),"",1)
A11: 6 | D11: =IF(ISBLANK(C11),"",DATEDIF(C11,$M$2,"y")) | J11: =SUM(E11:I11) -> 0 | K11: =IF(ISBLANK(B11),"",1)
A12: 7 | D12: =IF(ISBLANK(C12),"",DATEDIF(C12,$M$2,"y")) | J12: =SUM(E12:I12) -> 0 | K12: =IF(ISBLANK(B12),"",1)
A13: 8 | D13: =IF(ISBLANK(C13),"",DATEDIF(C13,$M$2,"y")) | J13: =SUM(E13:I13) -> 0 | K13: =IF(ISBLANK(B13),"",1)
A14: 9 | D14: =IF(ISBLANK(C14),"",DATEDIF(C14,$M$2,"y")) | J14: =SUM(E14:I14) -> 0 | K14: =IF(ISBLANK(B14),"",1)
A15: 10 | D15: =IF(ISBLANK(C15),"",DATEDIF(C15,$M$2,"y")) | J15: =SUM(E15:I15) -> 0 | K15: =IF(ISBLANK(B15),"",1)
A16: 11 | D16: =IF(ISBLANK(C16),"",DATEDIF(C16,$M$2,"y")) | J16: =SUM(E16:I16) -> 0 | K16: =IF(ISBLANK(B16),"",1)
A17: 12 | D17: =IF(ISBLANK(C17),"",DATEDIF(C17,$M$2,"y")) | J17: =SUM(E17:I17) -> 0 | K17: =IF(ISBLANK(B17),"",1)
A18: 13 | D18: =IF(ISBLANK(C18),"",DATEDIF(C18,$M$2,"y")) | J18: =SUM(E18:I18) -> 0 | K18: =IF(ISBLANK(B18),"",1)
A19: 14 | D19: =IF(ISBLANK(C19),"",DATEDIF(C19,$M$2,"y")) | J19: =SUM(E19:I19) -> 0 | K19: =IF(ISBLANK(B19),"",1)
A20: 15 | D20: =IF(ISBLANK(C20),"",DATEDIF(C20,$M$2,"y")) | J20: =SUM(E20:I20) -> 0 | K20: =IF(ISBLANK(B20),"",1)
... A30: 25 | D30: =IF(ISBLANK(C30),"",DATEDIF(C30,$M$2,"y")) | J30: =SUM(E30:I30) -> 0 | K30: =IF(ISBLANK(B30),"",1)
B31: 計 | C31: =K31 -> 3 | D31: 人 | E31: =SUM(E6:E30) -> 55 | F31: =SUM(F6:F30) -> 65 | G31: =SUM(G6:G30) -> 25 | H31: =SUM(H6:H30) -> 35 | I31: =SUM(I6:I30) -> 25 | J31: =SUM(E31:I31) -> 205 | K31: =SUM(K6:K30) -> 3
B32: 注1：林退共と中退共加入の従事者は、別葉で記載してください。
B33: 注2：記録に基づき事業種目ごとに日数を記載する。
B34: 注3：行が足りない場合は、挿入して行を増やしてください。

Sheet 4号-2(中退共)
B1: 別記第４号様式の２
B2: ='4号-2(林退共)'!B2 -> ２ 令和7年度 | C2: 退職金共済制度従事者別年間就業計画表（助成対象者のみ） | L2: 年齢算出基準日 | M2: 45992
I3: 【 中退共 】
B4: 氏名 | C4: 生年月日 | D4: 年齢 | E4: 公共工事請負 | F4: 主伐 | G4: 造林補助金等事業（申請者） | H4: 公共工事・造林補助金等事業(下請) | I4: その他 | J4: 計
E5: 日 | F5: 日 | G5: 日 | H5: 日 | I5: 日 | J5: 日
A6: 1 | B6: あ | C6: 29985 | D6: =IF(ISBLANK(C6),"",DATEDIF(C6,$M$2,"y")) -> 43 | E6: 10 | G6: 40 | H6: 20 | I6: 40 | J6: =SUM(E6:I6) -> 110 | K6: =IF(ISBLANK(B6),"",1) -> 1
A7: 2 | B7: お | C7: 33947 | D7: =IF(ISBLANK(C7),"",DATEDIF(C7,$M$2,"y")) -> 32 | F7: 33 | G7: 27 | H7: 15 | I7: 5 | J7: =SUM(E7:I7) -> 80 | K7: =IF(ISBLANK(B7),"",1) -> 1
A8: 3 | D8: =IF(ISBLANK(C8),"",DATEDIF(C8,$M$2,"y")) | J8: =SUM(E8:I8) -> 0 | K8: =IF(ISBLANK(B8),"",1)
A9: 4 | D9: =IF(ISBLANK(C9),"",DATEDIF(C9,$M$2,"y")) | J9: =SUM(E9:I9) -> 0 | K9: =IF(ISBLANK(B9),"",1)
A10: 5 | D10: =IF(ISBLANK(C10),"",DATEDIF(C10,$M$2,"y")) | J10: =SUM(E10:I10) -> 0 | K10: =IF(ISBLANK(B10),"",1)
A11: 6 | D11: =IF(ISBLANK(C11),"",DATEDIF(C11,$M$2,"y")) | J11: =SUM(E11:I11) -> 0 | K11: =IF(ISBLANK(B11),"",1)
A12: 7 | D12: =IF(ISBLANK(C12),"",DATEDIF(C12,$M$2,"y")) | J12: =SUM(E12:I12) -> 0 | K12: =IF(ISBLANK(B12),"",1)
A13: 8 | D13: =IF(ISBLANK(C13),"",DATEDIF(C13,$M$2,"y")) | J13: =SUM(E13:I13) -> 0 | K13: =IF(ISBLANK(B13),"",1)
A14: 9 | D14: =IF(ISBLANK(C14),"",DATEDIF(C14,$M$2,"y")) | J14: =SUM(E14:I14) -> 0 | K14: =IF(ISBLANK(B14),"",1)
A15: 10 | D15: =IF(ISBLANK(C15),"",DATEDIF(C15,$M$2,"y")) | J15: =SUM(E15:I15) -> 0 | K15: =IF(ISBLANK(B15),"",1)
A16: 11 | D16: =IF(ISBLANK(C16),"",DATEDIF(C16,$M$2,"y")) | J16: =SUM(E16:I16) -> 0 | K16: =IF(ISBLANK(B16),"",1)
A17: 12 | D17: =IF(ISBLANK(C17),"",DATEDIF(C17,$M$2,"y")) | J17: =SUM(E17:I17) -> 0 | K17: =IF(ISBLANK(B17),"",1)
A18: 13 | D18: =IF(ISBLANK(C18),"",DATEDIF(C18,$M$2,"y")) | J18: =SUM(E18:I18) -> 0 | K18: =IF(ISBLANK(B18),"",1)
A19: 14 | D19: =IF(ISBLANK(C19),"",DATEDIF(C19,$M$2,"y")) | J19: =SUM(E19:I19) -> 0 | K19: =IF(ISBLANK(B19),"",1)
... A30: 25 | D30: =IF(ISBLANK(C30),"",DATEDIF(C30,$M$2,"y")) | J30: =SUM(E30:I30) -> 0 | K30: =IF(ISBLANK(B30),"",1)
B31: 計 | C31: =K31 -> 2 | D31: 人 | E31: =SUM(E6:E30) -> 10 | F31: =SUM(F6:F30) -> 33 | G31: =SUM(G6:G30) -> 67 | H31: =SUM(H6:H30) -> 35 | I31: =SUM(I6:I30) -> 45 | J31: =SUM(E31:I31) -> 190 | K31: =SUM(K6:K30) -> 2
B32: 注1：林退共と中退共加入の従事者は、別葉で記載してください。
B33: 注2：記録に基づき事業種目ごとに日数を記載する。
B34: 注3：行が足りない場合は、挿入して行を増やしてください。

Sheet 4号-3
A1: 別記第４号様式の３
A2: 令和7年度 | C2: 社会保険加入促進事業計画書
A3: １ 事業計画総括表
A4: 保険等の種類 | B4: 事業種 | C4: 掛金総額 | D4: 事業主負担額 | E4: 摘 要
A5: 雇用保険 | B5: 公共工事請負 | C5: ='4号-4(対象)'!E$32+'4号-4(対象)'!AB$32 -> 45602.398 | D5: ='4号-4(対象)'!$E$32 -> 30401.598
B6: 主伐 | C6: ='4号-4(対象)'!F$32+'4号-4(対象)'!AC$32 -> 37135.714 | D6: ='4号-4(対象)'!$F$32 -> 24757.143
B7: 造林補助金等事業 （申請者） | C7: ='4号-4(対象)'!G$32+'4号-4(対象)'!AD$32 -> 33812.338 | D7: ='4号-4(対象)'!$G$32 -> 22541.558
B8: 公共工事・造林補助金等 事業（下請） | C8: ='4号-4(対象)'!H$32+'4号-4(対象)'!AE$32 -> 34262.488 | D8: ='4号-4(対象)'!$H$32 -> 22841.658
B9: その他 | C9: ='4号-4(対象)'!I$32+'4号-4(対象)'!AF$32 -> 29187.063 | D9: ='4号-4(対象)'!$I$32 -> 19458.042
B10: 計 | C10: =SUM(C5:C9) -> 180000 | D10: =SUM(D5:D9) -> 120000 | F10: =IF(ISERROR(D10/C10),"",(D10/C10)) -> 0.66666667
A11: 健康保険 | B11: 公共工事請負 | C11: ='4号-4(対象)'!K$32+'4号-4(対象)'!AH$32 -> 45602.398 | D11: ='4号-4(対象)'!$K$32 -> 30401.598 | F11: =IF(ISERROR(E11/D11),"",(E11/D11)) -> 0
B12: 主伐 | C12: ='4号-4(対象)'!L$32+'4号-4(対象)'!AI$32 -> 37135.714 | D12: ='4号-4(対象)'!$L$32 -> 24757.143
B13: 造林補助金等事業 （申請者） | C13: ='4号-4(対象)'!M$32+'4号-4(対象)'!AJ$32 -> 33812.338 | D13: ='4号-4(対象)'!$M$32 -> 22541.558
B14: 公共工事・造林補助金等 事業（下請） | C14: ='4号-4(対象)'!N$32+'4号-4(対象)'!AK$32 -> 34262.488 | D14: ='4号-4(対象)'!$N$32 -> 22841.658
B15: その他 | C15: ='4号-4(対象)'!O$32+'4号-4(対象)'!AL$32 -> 29187.063 | D15: ='4号-4(対象)'!$O$32 -> 19458.042
B16: 計 | C16: =SUM(C11:C15) -> 180000 | D16: =SUM(D11:D15) -> 120000 | F16: =IF(ISERROR(D16/C16),"",(D16/C16)) -> 0.66666667
A17: 厚生年金 | B17: 公共工事請負 | C17: ='4号-4(対象)'!Q$32+'4号-4(対象)'!AN$32 -> 45602.398 | D17: ='4号-4(対象)'!$Q$32 -> 30401.598 | F17: =IF(ISERROR(E17/D17),"",(E17/D17)) -> 0
B18: 主伐 | C18: ='4号-4(対象)'!R$32+'4号-4(対象)'!AO$32 -> 37135.714 | D18: ='4号-4(対象)'!$R$32 -> 24757.143
B19: 造林補助金等事業 （申請者） | C19: ='4号-4(対象)'!S$32+'4号-4(対象)'!AP$32 -> 33812.338 | D19: ='4号-4(対象)'!$S$32 -> 22541.558
B20: 公共工事・造林補助金等 事業（下請） | C20: ='4号-4(対象)'!T$32+'4号-4(対象)'!AQ$32 -> 34262.488 | D20: ='4号-4(対象)'!$T$32 -> 22841.658
B21: その他 | C21: ='4号-4(対象)'!U$32+'4号-4(対象)'!AR$32 -> 29187.063 | D21: ='4号-4(対象)'!$U$32 -> 19458.042
B22: 計 | C22: =SUM(C17:C21) -> 180000 | D22: =SUM(D17:D21) -> 120000 | F22: =IF(ISERROR(D22/C22),"",(D22/C22)) -> 0.66666667
A23: 合計 | C23: =SUM(C10,C16,C22) -> 540000 | D23: =SUM(D10,D16,D22) -> 360000 | F23: =IF(ISERROR(D23/C23),"",(D23/C23)) -> 0.66666667
A24: 注（１） | B24: 暦年（１～１２月）の計画を計上してください。
A25: （２） | B25: 事務職、加工場勤務、トラック運送を主たる業務とする者は、当基金の助成対象となりません。
A26: （３） | B26: 公共工事請負、造林補助金等事業は、別紙参照のこと。
A27: （４） | B27: 造林補助金等事業（申請者）とは、造林補助金等事業の申請者が行った場合、公共工事・造林補助金等事業（下請）とは、森林組合等の補助金申請事業体と補助事業対象の作業を請け負った場合は記入。
A28: （５） | B28: その他とは、上記事業種目以外で作業をした日数を記入。

Sheet 4号-4(対象)
B1: 別記第４号様式の４ | Y1: 別記第４号様式の４
B2: ２ 令和7年度 | E2: 従事者別社会保険料負担計画表（助成対象者） | Y2: ２ 令和7年度 | AB2: 従事者別社会保険料負担計画表（助成対象者） | AU2: 年齢算出基準日 | AV2: 45992
Q3: 単位：円 | AN3: 単位：円
B4: 氏名 | C4: 生年月日 | D4: 年齢 | E4: 事業主の負担額 | Y4: 氏名 | Z4: 生年月日 | AA4: 年齢 | AB4: 本人の負担額
E5: 雇用保険 | K5: 健康保険 | Q5: 厚生年金 | W5: 合計 | AB5: 雇用保険 | AH5: 健康保険 | AN5: 厚生年金 | AT5: 合計
E6: 公共工事 請負 | F6: 主伐 | G6: 造林補助金等 事業(申請者) | H6: 公共・補助金（下請） | I6: その他 | J6: 小計 | K6: 公共工事 請負 | L6: 主伐 | M6: 造林補助金等 事業(申請者) | N6: 公共・補助金（下請） | O6: その他 | P6: 小計 | Q6: 公共工事 請負 | R6: 主伐 | S6: 造林補助金等 事業(申請者) | T6: 公共・補助金（下請） | U6: その他 | V6: 小計 | AB6: 公共工事 請負 | AC6: 主伐 | AD6: 造林補助金等 事業(申請者) | AE6: 公共・補助金（下請） | AF6: その他 | AG6: 小計 | AH6: 公共工事 請負 | AI6: 主伐 | AJ6: 造林補助金等 事業(申請者) | AK6: 公共・補助金（下請） | AL6: その他 | AM6: 小計 | AN6: 公共工事 請負 | AO6: 主伐 | AP6: 造林補助金等 事業(申請者) | AQ6: 公共・補助金（下請） | AR6: その他 | AS6: 小計
A7: 1 | B7: =+'4号-3,4参考（事業割合）'!B6 -> あ | C7: =+'4号-3,4参考（事業割合）'!C6 -> 29985 | D7: ='4号-3,4参考（事業割合）'!D6 -> 43 | E7: ='4号-3,4参考（事業割合）'!E6/'4号-3,4参考（事業割合）'!$J$6*'10号-6'!$S$5 -> 2181.8182 | F7: ='4号-3,4参考（事業割合）'!F6/'4号-3,4参考（事業割合）'!$J$6*'10号-6'!$S$5 -> 0 | G7: ='4号-3,4参考（事業割合）'!G6/'4号-3,4参考（事業割合）'!$J$6*'10号-6'!$S$5 -> 8727.2727 | H7: ='4号-3,4参考（事業割合）'!H6/'4号-3,4参考（事業割合）'!$J$6*'10号-6'!$S$5 -> 4363.6364 | I7: ='4号-3,4参考（事業割合）'!I6/'4号-3,4参考（事業割合）'!$J$6*'10号-6'!$S$5 -> 8727.2727 | J7: =IFERROR(SUM(E7:I7), "") -> 24000 | K7: ='4号-3,4参考（事業割合）'!E6/'4号-3,4参考（事業割合）'!$J$6*'10号-6'!$S$7 -> 2181.8182 | L7: ='4号-3,4参考（事業割合）'!F6/'4号-3,4参考（事業割合）'!$J$6*'10号-6'!$S$7 -> 0 | M7: ='4号-3,4参考（事業割合）'!G6/'4号-3,4参考（事業割合）'!$J$6*'10号-6'!$S$7 -> 8727.2727 | N7: ='4号-3,4参考（事業割合）'!H6/'4号-3,4参考（事業割合）'!$J$6*'10号-6'!$S$7 -> 4363.6364 | O7: ='4号-3,4参考（事業割合）'!I6/'4号-3,4参考（事業割合）'!$J$6*'10号-6'!$S$7 -> 8727.2727 | P7: =IFERROR(SUM(K7:O7), "") -> 24000 | Q7: =+'4号-3,4参考（事業割合）'!E6/'4号-3,4参考（事業割合）'!$J$6*'10号-6'!$S$9 -> 2181.8182 | R7: =+'4号-3,4参考（事業割合）'!F6/'4号-3,4参考（事業割合）'!$J$6*'10号-6'!$S$9 -> 0 | S7: =+'4号-3,4参考（事業割合）'!G6/'4号-3,4参考（事業割合）'!$J$6*'10号-6'!$S$9 -> 8727.2727 | T7: =+'4号-3,4参考（事業割合）'!H6/'4号-3,4参考（事業割合）'!$J$6*'10号-6'!$S$9 -> 4363.6364 | U7: =+'4号-3,4参考（事業割合）'!I6/'4号-3,4参考（事業割合）'!$J$6*'10号-6'!$S$9 -> 8727.2727 | V7: =IFERROR(SUM(Q7:U7), "") -> 24000 | W7: =SUM(V7,P7,J7) -> 72000 | Y7: =+B7 -> あ | Z7: =+C7 -> 29985 | AA7: =+D7 -> 43 | AB7: ='4号-3,4参考（事業割合）'!E6/'4号-3,4参考（事業割合）'!$J6*'10号-6'!$S$4 -> 1090.9091 | AC7: ='4号-3,4参考（事業割合）'!F6/'4号-3,4参考（事業割合）'!$J6*'10号-6'!$S$4 -> 0 | AD7: ='4号-3,4参考（事業割合）'!G6/'4号-3,4参考（事業割合）'!$J6*'10号-6'!$S$4 -> 4363.6364 | AE7: ='4号-3,4参考（事業割合）'!H6/'4号-3,4参考（事業割合）'!$J6*'10号-6'!$S$4 -> 2181.8182 | AF7: ='4号-3,4参考（事業割合）'!I6/'4号-3,4参考（事業割合）'!$J6*'10号-6'!$S$4 -> 4363.6364 | AG7: =IFERROR(SUM(AB7:AF7), "") -> 12000 | AH7: ='4号-3,4参考（事業割合）'!E6/'4号-3,4参考（事業割合）'!$J6*'10号-6'!$S$6 -> 1090.9091 | AI7: ='4号-3,4参考（事業割合）'!F6/'4号-3,4参考（事業割合）'!$J6*'10号-6'!$S$6 -> 0 | AJ7: ='4号-3,4参考（事業割合）'!G6/'4号-3,4参考（事業割合）'!$J6*'10号-6'!$S$6 -> 4363.6364 | AK7: ='4号-3,4参考（事業割合）'!H6/'4号-3,4参考（事業割合）'!$J6*'10号-6'!$S$6 -> 2181.8182 | AL7: ='4号-3,4参考（事業割合）'!I6/'4号-3,4参考（事業割合）'!$J6*'10号-6'!$S$6 -> 4363.6364 | AM7: =IFERROR(SUM(AH7:AL7), "") -> 12000 | AN7: =+'4号-3,4参考（事業割合）'!E6/'4号-3,4参考（事業割合）'!$J6*'10号-6'!$S$8 -> 1090.9091 | AO7: =+'4号-3,4参考（事業割合）'!F6/'4号-3,4参考（事業割合）'!$J6*'10号-6'!$S$8 -> 0 | AP7: =+'4号-3,4参考（事業割合）'!G6/'4号-3,4参考（事業割合）'!$J6*'10号-6'!$S$8 -> 4363.6364 | AQ7: =+'4号-3,4参考（事業割合）'!H6/'4号-3,4参考（事業割合）'!$J6*'10号-6'!$S$8 -> 2181.8182 | AR7: =+'4号-3,4参考（事業割合）'!I6/'4号-3,4参考（事業割合）'!$J6*'10号-6'!$S$8 -> 4363.6364 | AS7: =IFERROR(SUM(AN7:AR7), "") -> 12000 | AT7: =SUM(AS7,AM7,AG7) -> 36000
A8: 2 | B8: =+'4号-3,4参考（事業割合）'!B7 -> い | C8: =+'4号-3,4参考（事業割合）'!C7 -> 37047 | D8: ='4号-3,4参考（事業割合）'!D7 -> 24 | E8: ='4号-3,4参考（事業割合）'!E7/'4号-3,4参考（事業割合）'!$J7*'10号-6'!$S$13 -> 11076.923 | F8: ='4号-3,4参考（事業割合）'!F7/'4号-3,4参考（事業割合）'!$J7*'10号-6'!$S$13 -> 0 | G8: ='4号-3,4参考（事業割合）'!G7/'4号-3,4参考（事業割合）'!$J7*'10号-6'!$S$13 -> 0 | H8: ='4号-3,4参考（事業割合）'!H7/'4号-3,4参考（事業割合）'!$J7*'10号-6'!$S$13 -> 3692.3077 | I8: ='4号-3,4参考（事業割合）'!I7/'4号-3,4参考（事業割合）'!$J7*'10号-6'!$S$13 -> 9230.7692 | J8: =IFERROR(SUM(E8:I8), "") -> 24000 | K8: ='4号-3,4参考（事業割合）'!E7/'4号-3,4参考（事業割合）'!$J$7*'10号-6'!$S$15 -> 11076.923 | L8: ='4号-3,4参考（事業割合）'!F7/'4号-3,4参考（事業割合）'!$J$7*'10号-6'!$S$15 -> 0 | M8: ='4号-3,4参考（事業割合）'!G7/'4号-3,4参考（事業割合）'!$J$7*'10号-6'!$S$15 -> 0 | N8: ='4号-3,4参考（事業割合）'!H7/'4号-3,4参考（事業割合）'!$J$7*'10号-6'!$S$15 -> 3692.3077 | O8: ='4号-3,4参考（事業割合）'!I7/'4号-3,4参考（事業割合）'!$J$7*'10号-6'!$S$15 -> 9230.7692 | P8: =IFERROR(SUM(K8:O8), "") -> 24000 | Q8: =+'4号-3,4参考（事業割合）'!E7/'4号-3,4参考（事業割合）'!$J7*'10号-6'!$S$17 -> 11076.923 | R8: =+'4号-3,4参考（事業割合）'!F7/'4号-3,4参考（事業割合）'!$J7*'10号-6'!$S$17 -> 0 | S8: =+'4号-3,4参考（事業割合）'!G7/'4号-3,4参考（事業割合）'!$J7*'10号-6'!$S$17 -> 0 | T8: =+'4号-3,4参考（事業割合）'!H7/'4号-3,4参考（事業割合）'!$J7*'10号-6'!$S$17 -> 3692.3077 | U8: =+'4号-3,4参考（事業割合）'!I7/'4号-3,4参考（事業割合）'!$J7*'10号-6'!$S$17 -> 9230.7692 | V8: =IFERROR(SUM(Q8:U8), "") -> 24000 | W8: =SUM(V8,P8,J8) -> 72000 | Y8: =+B8 -> い | Z8: =+C8 -> 37047 | AA8: =+D8 -> 24 | AB8: ='4号-3,4参考（事業割合）'!E7/'4号-3,4参考（事業割合）'!$J7*'10号-6'!$S$12 -> 5538.4615 | AC8: ='4号-3,4参考（事業割合）'!F7/'4号-3,4参考（事業割合）'!$J7*'10号-6'!$S$12 -> 0 | AD8: ='4号-3,4参考（事業割合）'!G7/'4号-3,4参考（事業割合）'!$J7*'10号-6'!$S$12 -> 0 | AE8: ='4号-3,4参考（事業割合）'!H7/'4号-3,4参考（事業割合）'!$J7*'10号-6'!$S$12 -> 1846.1538 | AF8: ='4号-3,4参考（事業割合）'!I7/'4号-3,4参考（事業割合）'!$J7*'10号-6'!$S$12 -> 4615.3846 | AG8: =IFERROR(SUM(AB8:AF8), "") -> 12000 | AH8: ='4号-3,4参考（事業割合）'!E7/'4号-3,4参考（事業割合）'!$J7*'10号-6'!$S$14 -> 5538.4615 | AI8: ='4号-3,4参考（事業割合）'!F7/'4号-3,4参考（事業割合）'!$J7*'10号-6'!$S$14 -> 0 | AJ8: ='4号-3,4参考（事業割合）'!G7/'4号-3,4参考（事業割合）'!$J7*'10号-6'!$S$14 -> 0 | AK8: ='4号-3,4参考（事業割合）'!H7/'4号-3,4参考（事業割合）'!$J7*'10号-6'!$S$14 -> 1846.1538 | AL8: ='4号-3,4参考（事業割合）'!I7/'4号-3,4参考（事業割合）'!$J7*'10号-6'!$S$14 -> 4615.3846 | AM8: =IFERROR(SUM(AH8:AL8), "") -> 12000 | AN8: =+'4号-3,4参考（事業割合）'!E7/'4号-3,4参考（事業割合）'!$J7*'10号-6'!$S$16 -> 5538.4615 | AO8: =+'4号-3,4参考（事業割合）'!F7/'4号-3,4参考（事業割合）'!$J7*'10号-6'!$S$16 -> 0 | AP8: =+'4号-3,4参考（事業割合）'!G7/'4号-3,4参考（事業割合）'!$J7*'10号-6'!$S$16 -> 0 | AQ8: =+'4号-3,4参考（事業割合）'!H7/'4号-3,4参考（事業割合）'!$J7*'10号-6'!$S$16 -> 1846.1538 | AR8: =+'4号-3,4参考（事業割合）'!I7/'4号-3,4参考（事業割合）'!$J7*'10号-6'!$S$16 -> 4615.3846 | AS8: =IFERROR(SUM(AN8:AR8), "") -> 12000 | AT8: =SUM(AS8,AM8,AG8) -> 36000
A9: 3 | B9: =+'4号-3,4参考（事業割合）'!B8 -> う | C9: =+'4号-3,4参考（事業割合）'!C8 -> 29403 | D9: ='4号-3,4参考（事業割合）'!D8 -> 45 | E9: ='4号-3,4参考（事業割合）'!E8/'4号-3,4参考（事業割合）'!$J8*'10号-6'!$S$21 -> 0 | F9: ='4号-3,4参考（事業割合）'!F8/'4号-3,4参考（事業割合）'!$J8*'10号-6'!$S$21 -> 14857.143 | G9: ='4号-3,4参考（事業割合）'!G8/'4号-3,4参考（事業割合）'!$J8*'10号-6'!$S$21 -> 5714.2857 | H9: ='4号-3,4参考（事業割合）'!H8/'4号-3,4参考（事業割合）'!$J8*'10号-6'!$S$21 -> 3428.5714 | I9: ='4号-3,4参考（事業割合）'!I8/'4号-3,4参考（事業割合）'!$J8*'10号-6'!$S$21 -> 0 | J9: =IFERROR(SUM(E9:I9), "") -> 24000 | K9: ='4号-3,4参考（事業割合）'!E8/'4号-3,4参考（事業割合）'!$J$8*'10号-6'!$S$23 -> 0 | L9: ='4号-3,4参考（事業割合）'!F8/'4号-3,4参考（事業割合）'!$J$8*'10号-6'!$S$23 -> 14857.143 | M9: ='4号-3,4参考（事業割合）'!G8/'4号-3,4参考（事業割合）'!$J$8*'10号-6'!$S$23 -> 5714.2857 | N9: ='4号-3,4参考（事業割合）'!H8/'4号-3,4参考（事業割合）'!$J$8*'10号-6'!$S$23 -> 3428.5714 | O9: ='4号-3,4参考（事業割合）'!I8/'4号-3,4参考（事業割合）'!$J$8*'10号-6'!$S$23 -> 0 | P9: =IFERROR(SUM(K9:O9), "") -> 24000 | Q9: =+'4号-3,4参考（事業割合）'!E8/'4号-3,4参考（事業割合）'!$J8*'10号-6'!$S$25 -> 0 | R9: =+'4号-3,4参考（事業割合）'!F8/'4号-3,4参考（事業割合）'!$J8*'10号-6'!$S$25 -> 14857.143 | S9: =+'4号-3,4参考（事業割合）'!G8/'4号-3,4参考（事業割合）'!$J8*'10号-6'!$S$25 -> 5714.2857 | T9: =+'4号-3,4参考（事業割合）'!H8/'4号-3,4参考（事業割合）'!$J8*'10号-6'!$S$25 -> 3428.5714 | U9: =+'4号-3,4参考（事業割合）'!I8/'4号-3,4参考（事業割合）'!$J8*'10号-6'!$S$25 -> 0 | V9: =IFERROR(SUM(Q9:U9), "") -> 24000 | W9: =SUM(V9,P9,J9) -> 72000 | Y9: =+B9 -> う | Z9: =+C9 -> 29403 | AA9: =+D9 -> 45 | AB9: ='4号-3,4参考（事業割合）'!E8/'4号-3,4参考（事業割合）'!$J8*'10号-6'!$S$20 -> 0 | AC9: ='4号-3,4参考（事業割合）'!F8/'4号-3,4参考（事業割合）'!$J8*'10号-6'!$S$20 -> 7428.5714 | AD9: ='4号-3,4参考（事業割合）'!G8/'4号-3,4参考（事業割合）'!$J8*'10号-6'!$S$20 -> 2857.1429 | AE9: ='4号-3,4参考（事業割合）'!H8/'4号-3,4参考（事業割合）'!$J8*'10号-6'!$S$20 -> 1714.2857 | AF9: ='4号-3,4参考（事業割合）'!I8/'4号-3,4参考（事業割合）'!$J8*'10号-6'!$S$20 -> 0 | AG9: =IFERROR(SUM(AB9:AF9), "") -> 12000 | AH9: ='4号-3,4参考（事業割合）'!E8/'4号-3,4参考（事業割合）'!$J8*'10号-6'!$S$22 -> 0 | AI9: ='4号-3,4参考（事業割合）'!F8/'4号-3,4参考（事業割合）'!$J8*'10号-6'!$S$22 -> 7428.5714 | AJ9: ='4号-3,4参考（事業割合）'!G8/'4号-3,4参考（事業割合）'!$J8*'10号-6'!$S$22 -> 2857.1429 | AK9: ='4号-3,4参考（事業割合）'!H8/'4号-3,4参考（事業割合）'!$J8*'10号-6'!$S$22 -> 1714.2857 | AL9: ='4号-3,4参考（事業割合）'!I8/'4号-3,4参考（事業割合）'!$J8*'10号-6'!$S$22 -> 0 | AM9: =IFERROR(SUM(AH9:AL9), "") -> 12000 | AN9: =+'4号-3,4参考（事業割合）'!E8/'4号-3,4参考（事業割合）'!$J8*'10号-6'!$S$24 -> 0 | AO9: =+'4号-3,4参考（事業割合）'!F8/'4号-3,4参考（事業割合）'!$J8*'10号-6'!$S$24 -> 7428.5714 | AP9: =+'4号-3,4参考（事業割合）'!G8/'4号-3,4参考（事業割合）'!$J8*'10号-6'!$S$24 -> 2857.1429 | AQ9: =+'4号-3,4参考（事業割合）'!H8/'4号-3,4参考（事業割合）'!$J8*'10号-6'!$S$24 -> 1714.2857 | AR9: =+'4号-3,4参考（事業割合）'!I8/'4号-3,4参考（事業割合）'!$J8*'10号-6'!$S$24 -> 0 | AS9: =IFERROR(SUM(AN9:AR9), "") -> 12000 | AT9: =SUM(AS9,AM9,AG9) -> 36000
A10: 4 | B10: =+'4号-3,4参考（事業割合）'!B9 -> え | C10: =+'4号-3,4参考（事業割合）'!C9 -> 26590 | D10: ='4号-3,4参考（事業割合）'!D9 -> 53 | E10: ='4号-3,4参考（事業割合）'!E9/'4号-3,4参考（事業割合）'!$J9*'10号-6'!$S$29 -> 17142.857 | F10: ='4号-3,4参考（事業割合）'!F9/'4号-3,4参考（事業割合）'!$J9*'10号-6'!$S$29 -> 0 | G10: ='4号-3,4参考（事業割合）'!G9/'4号-3,4参考（事業割合）'!$J9*'10号-6'!$S$29 -> 0 | H10: ='4号-3,4参考（事業割合）'!H9/'4号-3,4参考（事業割合）'!$J9*'10号-6'!$S$29 -> 6857.1429 | I10: ='4号-3,4参考（事業割合）'!I9/'4号-3,4参考（事業割合）'!$J9*'10号-6'!$S$29 -> 0 | J10: =IFERROR(SUM(E10:I10), "") -> 24000 | K10: ='4号-3,4参考（事業割合）'!E9/'4号-3,4参考（事業割合）'!$J$9*'10号-6'!$S$31 -> 17142.857 | L10: ='4号-3,4参考（事業割合）'!F9/'4号-3,4参考（事業割合）'!$J$9*'10号-6'!$S$31 -> 0 | M10: ='4号-3,4参考（事業割合）'!G9/'4号-3,4参考（事業割合）'!$J$9*'10号-6'!$S$31 -> 0 | N10: ='4号-3,4参考（事業割合）'!H9/'4号-3,4参考（事業割合）'!$J$9*'10号-6'!$S$31 -> 6857.1429 | O10: ='4号-3,4参考（事業割合）'!I9/'4号-3,4参考（事業割合）'!$J$9*'10号-6'!$S$31 -> 0 | P10: =IFERROR(SUM(K10:O10), "") -> 24000 | Q10: =+'4号-3,4参考（事業割合）'!E9/'4号-3,4参考（事業割合）'!$J9*'10号-6'!$S$33 -> 17142.857 | R10: =+'4号-3,4参考（事業割合）'!F9/'4号-3,4参考（事業割合）'!$J9*'10号-6'!$S$33 -> 0 | S10: =+'4号-3,4参考（事業割合）'!G9/'4号-3,4参考（事業割合）'!$J9*'10号-6'!$S$33 -> 0 | T10: =+'4号-3,4参考（事業割合）'!H9/'4号-3,4参考（事業割合）'!$J9*'10号-6'!$S$33 -> 6857.1429 | U10: =+'4号-3,4参考（事業割合）'!I9/'4号-3,4参考（事業割合）'!$J9*'10号-6'!$S$33 -> 0 | V10: =IFERROR(SUM(Q10:U10), "") -> 24000 | W10: =SUM(V10,P10,J10) -> 72000 | Y10: =+B10 -> え | Z10: =+C10 -> 26590 | AA10: =+D10 -> 53 | AB10: ='4号-3,4参考（事業割合）'!E9/'4号-3,4参考（事業割合）'!$J9*'10号-6'!$S$28 -> 8571.4286 | AC10: ='4号-3,4参考（事業割合）'!F9/'4号-3,4参考（事業割合）'!$J9*'10号-6'!$S$28 -> 0 | AD10: ='4号-3,4参考（事業割合）'!G9/'4号-3,4参考（事業割合）'!$J9*'10号-6'!$S$28 -> 0 | AE10: ='4号-3,4参考（事業割合）'!H9/'4号-3,4参考（事業割合）'!$J9*'10号-6'!$S$28 -> 3428.5714 | AF10: ='4号-3,4参考（事業割合）'!I9/'4号-3,4参考（事業割合）'!$J9*'10号-6'!$S$28 -> 0 | AG10: =IFERROR(SUM(AB10:AF10), "") -> 12000 | AH10: ='4号-3,4参考（事業割合）'!E9/'4号-3,4参考（事業割合）'!$J9*'10号-6'!$S$30 -> 8571.4286 | AI10: ='4号-3,4参考（事業割合）'!F9/'4号-3,4参考（事業割合）'!$J9*'10号-6'!$S$30 -> 0 | AJ10: ='4号-3,4参考（事業割合）'!G9/'4号-3,4参考（事業割合）'!$J9*'10号-6'!$S$30 -> 0 | AK10: ='4号-3,4参考（事業割合）'!H9/'4号-3,4参考（事業割合）'!$J9*'10号-6'!$S$30 -> 3428.5714 | AL10: ='4号-3,4参考（事業割合）'!I9/'4号-3,4参考（事業割合）'!$J9*'10号-6'!$S$30 -> 0 | AM10: =IFERROR(SUM(AH10:AL10), "") -> 12000 | AN10: =+'4号-3,4参考（事業割合）'!E9/'4号-3,4参考（事業割合）'!$J9*'10号-6'!$S$32 -> 8571.4286 | AO10: =+'4号-3,4参考（事業割合）'!F9/'4号-3,4参考（事業割合）'!$J9*'10号-6'!$S$32 -> 0 | AP10: =+'4号-3,4参考（事業割合）'!G9/'4号-3,4参考（事業割合）'!$J9*'10号-6'!$S$32 -> 0 | AQ10: =+'4号-3,4参考（事業割合）'!H9/'4号-3,4参考（事業割合）'!$J9*'10号-6'!$S$32 -> 3428.5714 | AR10: =+'4号-3,4参考（事業割合）'!I9/'4号-3,4参考（事業割合）'!$J9*'10号-6'!$S$32 -> 0 | AS10: =IFERROR(SUM(AN10:AR10), "") -> 12000 | AT10: =SUM(AS10,AM10,AG10) -> 36000
A11: 5 | B11: =+'4号-3,4参考（事業割合）'!B10 -> お | C11: =+'4号-3,4参考（事業割合）'!C10 -> 33947 | D11: ='4号-3,4参考（事業割合）'!D10 -> 32 | E11: ='4号-3,4参考（事業割合）'!E10/'4号-3,4参考（事業割合）'!$J10*'10号-6'!$S$37 -> 0 | F11: ='4号-3,4参考（事業割合）'!F10/'4号-3,4参考（事業割合）'!$J10*'10号-6'!$S$37 -> 9900 | G11: ='4号-3,4参考（事業割合）'!G10/'4号-3,4参考（事業割合）'!$J10*'10号-6'!$S$37 -> 8100 | H11: ='4号-3,4参考（事業割合）'!H10/'4号-3,4参考（事業割合）'!$J10*'10号-6'!$S$37 -> 4500 | I11: ='4号-3,4参考（事業割合）'!I10/'4号-3,4参考（事業割合）'!$J10*'10号-6'!$S$37 -> 1500 | J11: =IFERROR(SUM(E11:I11), "") -> 24000 | K11: ='4号-3,4参考（事業割合）'!E10/'4号-3,4参考（事業割合）'!$J$10*'10号-6'!$S$39 -> 0 | L11: ='4号-3,4参考（事業割合）'!F10/'4号-3,4参考（事業割合）'!$J$10*'10号-6'!$S$39 -> 9900 | M11: ='4号-3,4参考（事業割合）'!G10/'4号-3,4参考（事業割合）'!$J$10*'10号-6'!$S$39 -> 8100 | N11: ='4号-3,4参考（事業割合）'!H10/'4号-3,4参考（事業割合）'!$J$10*'10号-6'!$S$39 -> 4500 | O11: ='4号-3,4参考（事業割合）'!I10/'4号-3,4参考（事業割合）'!$J$10*'10号-6'!$S$39 -> 1500 | P11: =IFERROR(SUM(K11:O11), "") -> 24000 | Q11: =+'4号-3,4参考（事業割合）'!E10/'4号-3,4参考（事業割合）'!$J10*'10号-6'!$S$41 -> 0 | R11: =+'4号-3,4参考（事業割合）'!F10/'4号-3,4参考（事業割合）'!$J10*'10号-6'!$S$41 -> 9900 | S11: =+'4号-3,4参考（事業割合）'!G10/'4号-3,4参考（事業割合）'!$J10*'10号-6'!$S$41 -> 8100 | T11: =+'4号-3,4参考（事業割合）'!H10/'4号-3,4参考（事業割合）'!$J10*'10号-6'!$S$41 -> 4500 | U11: =+'4号-3,4参考（事業割合）'!I10/'4号-3,4参考（事業割合）'!$J10*'10号-6'!$S$41 -> 1500 | V11: =IFERROR(SUM(Q11:U11), "") -> 24000 | W11: =SUM(V11,P11,J11) -> 72000 | Y11: =+B11 -> お | Z11: =+C11 -> 33947 | AA11: =+D11 -> 32 | AB11: ='4号-3,4参考（事業割合）'!E10/'4号-3,4参考（事業割合）'!$J10*'10号-6'!$S$36 -> 0 | AC11: ='4号-3,4参考（事業割合）'!F10/'4号-3,4参考（事業割合）'!$J10*'10号-6'!$S$36 -> 4950 | AD11: ='4号-3,4参考（事業割合）'!G10/'4号-3,4参考（事業割合）'!$J10*'10号-6'!$S$36 -> 4050 | AE11: ='4号-3,4参考（事業割合）'!H10/'4号-3,4参考（事業割合）'!$J10*'10号-6'!$S$36 -> 2250 | AF11: ='4号-3,4参考（事業割合）'!I10/'4号-3,4参考（事業割合）'!$J10*'10号-6'!$S$36 -> 750 | AG11: =IFERROR(SUM(AB11:AF11), "") -> 12000 | AH11: ='4号-3,4参考（事業割合）'!E10/'4号-3,4参考（事業割合）'!$J10*'10号-6'!$S$38 -> 0 | AI11: ='4号-3,4参考（事業割合）'!F10/'4号-3,4参考（事業割合）'!$J10*'10号-6'!$S$38 -> 4950 | AJ11: ='4号-3,4参考（事業割合）'!G10/'4号-3,4参考（事業割合）'!$J10*'10号-6'!$S$38 -> 4050 | AK11: ='4号-3,4参考（事業割合）'!H10/'4号-3,4参考（事業割合）'!$J10*'10号-6'!$S$38 -> 2250 | AL11: ='4号-3,4参考（事業割合）'!I10/'4号-3,4参考（事業割合）'!$J10*'10号-6'!$S$38 -> 750 | AM11: =IFERROR(SUM(AH11:AL11), "") -> 12000 | AN11: =+'4号-3,4参考（事業割合）'!E10/'4号-3,4参考（事業割合）'!$J10*'10号-6'!$S$40 -> 0 | AO11: =+'4号-3,4参考（事業割合）'!F10/'4号-3,4参考（事業割合）'!$J10*'10号-6'!$S$40 -> 4950 | AP11: =+'4号-3,4参考（事業割合）'!G10/'4号-3,4参考（事業割合）'!$J10*'10号-6'!$S$40 -> 4050 | AQ11: =+'4号-3,4参考（事業割合）'!H10/'4号-3,4参考（事業割合）'!$J10*'10号-6'!$S$40 -> 2250 | AR11: =+'4号-3,4参考（事業割合）'!I10/'4号-3,4参考（事業割合）'!$J10*'10号-6'!$S$40 -> 750 | AS11: =IFERROR(SUM(AN11:AR11), "") -> 12000 | AT11: =SUM(AS11,AM11,AG11) -> 36000
A12: 6 | B12: =+'4号-3,4参考（事業割合）'!B11 -> 0 | C12: =+'4号-3,4参考（事業割合）'!C11 -> 0 | D12: ='4号-3,4参考（事業割合）'!D11 | E12: ='4号-3,4参考（事業割合）'!E11/'4号-3,4参考（事業割合）'!$J11*'10号-6'!$S$56 -> #DIV/0! | F12: ='4号-3,4参考（事業割合）'!F11/'4号-3,4参考（事業割合）'!$J11*'10号-6'!$S$56 -> #DIV/0! | G12: ='4号-3,4参考（事業割合）'!G11/'4号-3,4参考（事業割合）'!$J11*'10号-6'!$S$56 -> #DIV/0! | H12: ='4号-3,4参考（事業割合）'!H11/'4号-3,4参考（事業割合）'!$J11*'10号-6'!$S$56 -> #DIV/0! | I12: ='4号-3,4参考（事業割合）'!I11/'4号-3,4参考（事業割合）'!$J11*'10号-6'!$S$56 -> #DIV/0! | J12: =IFERROR(SUM(E12:I12), "") | K12: ='4号-3,4参考（事業割合）'!E11/'4号-3,4参考（事業割合）'!$J$11*'10号-6'!$S$58 -> #DIV/0! | L12: ='4号-3,4参考（事業割合）'!F11/'4号-3,4参考（事業割合）'!$J$11*'10号-6'!$S$58 -> #DIV/0! | M12: ='4号-3,4参考（事業割合）'!G11/'4号-3,4参考（事業割合）'!$J$11*'10号-6'!$S$58 -> #DIV/0! | N12: ='4号-3,4参考（事業割合）'!H11/'4号-3,4参考（事業割合）'!$J$11*'10号-6'!$S$58 -> #DIV/0! | O12: ='4号-3,4参考（事業割合）'!I11/'4号-3,4参考（事業割合）'!$J$11*'10号-6'!$S$58 -> #DIV/0! | P12: =IFERROR(SUM(K12:O12), "") | Q12: =+'4号-3,4参考（事業割合）'!E11/'4号-3,4参考（事業割合）'!$J11*'10号-6'!$S$60 -> #DIV/0! | R12: =+'4号-3,4参考（事業割合）'!F11/'4号-3,4参考（事業割合）'!$J11*'10号-6'!$S$60 -> #DIV/0! | S12: =+'4号-3,4参考（事業割合）'!G11/'4号-3,4参考（事業割合）'!$J11*'10号-6'!$S$60 -> #DIV/0! | T12: =+'4号-3,4参考（事業割合）'!H11/'4号-3,4参考（事業割合）'!$J11*'10号-6'!$S$60 -> #DIV/0! | U12: =+'4号-3,4参考（事業割合）'!I11/'4号-3,4参考（事業割合）'!$J11*'10号-6'!$S$60 -> #DIV/0! | V12: =IFERROR(SUM(Q12:U12), "") | W12: =SUM(V12,P12,J12) -> 0 | Y12: =+B12 -> 0 | Z12: =+C12 -> 0 | AA12: =+D12 | AB12: ='4号-3,4参考（事業割合）'!E11/'4号-3,4参考（事業割合）'!$J11*'10号-6'!$S$55 -> #DIV/0! | AC12: ='4号-3,4参考（事業割合）'!F11/'4号-3,4参考（事業割合）'!$J11*'10号-6'!$S$55 -> #DIV/0! | AD12: ='4号-3,4参考（事業割合）'!G11/'4号-3,4参考（事業割合）'!$J11*'10号-6'!$S$55 -> #DIV/0! | AE12: ='4号-3,4参考（事業割合）'!H11/'4号-3,4参考（事業割合）'!$J11*'10号-6'!$S$55 -> #DIV/0! | AF12: ='4号-3,4参考（事業割合）'!I11/'4号-3,4参考（事業割合）'!$J11*'10号-6'!$S$55 -> #DIV/0! | AG12: =IFERROR(SUM(AB12:AF12), "") | AH12: ='4号-3,4参考（事業割合）'!E11/'4号-3,4参考（事業割合）'!$J11*'10号-6'!$S$57 -> #DIV/0! | AI12: ='4号-3,4参考（事業割合）'!F11/'4号-3,4参考（事業割合）'!$J11*'10号-6'!$S$57 -> #DIV/0! | AJ12: ='4号-3,4参考（事業割合）'!G11/'4号-3,4参考（事業割合）'!$J11*'10号-6'!$S$57 -> #DIV/0! | AK12: ='4号-3,4参考（事業割合）'!H11/'4号-3,4参考（事業割合）'!$J11*'10号-6'!$S$57 -> #DIV/0! | AL12: ='4号-3,4参考（事業割合）'!I11/'4号-3,4参考（事業割合）'!$J11*'10号-6'!$S$57 -> #DIV/0! | AM12: =IFERROR(SUM(AH12:AL12), "") | AN12: =+'4号-3,4参考（事業割合）'!E11/'4号-3,4参考（事業割合）'!$J11*'10号-6'!$S$59 -> #DIV/0! | AO12: =+'4号-3,4参考（事業割合）'!F11/'4号-3,4参考（事業割合）'!$J11*'10号-6'!$S$59 -> #DIV/0! | AP12: =+'4号-3,4参考（事業割合）'!G11/'4号-3,4参考（事業割合）'!$J11*'10号-6'!$S$59 -> #DIV/0! | AQ12: =+'4号-3,4参考（事業割合）'!H11/'4号-3,4参考（事業割合）'!$J11*'10号-6'!$S$59 -> #DIV/0! | AR12: =+'4号-3,4参考（事業割合）'!I11/'4号-3,4参考（事業割合）'!$J11*'10号-6'!$S$59 -> #DIV/0! | AS12: =IFERROR(SUM(AN12:AR12), "") | AT12: =SUM(AS12,AM12,AG12) -> 0
A13: 7 | B13: =+'4号-3,4参考（事業割合）'!B12 -> 0 | C13: =+'4号-3,4参考（事業割合）'!C12 -> 0 | D13: ='4号-3,4参考（事業割合）'!D12 | E13: ='4号-3,4参考（事業割合）'!E12/'4号-3,4参考（事業割合）'!$J12*'10号-6'!$S$64 -> #DIV/0! | F13: ='4号-3,4参考（事業割合）'!F12/'4号-3,4参考（事業割合）'!$J12*'10号-6'!$S$64 -> #DIV/0! | G13: ='4号-3,4参考（事業割合）'!G12/'4号-3,4参考（事業割合）'!$J12*'10号-6'!$S$64 -> #DIV/0! | H13: ='4号-3,4参考（事業割合）'!H12/'4号-3,4参考（事業割合）'!$J12*'10号-6'!$S$64 -> #DIV/0! | I13: ='4号-3,4参考（事業割合）'!I12/'4号-3,4参考（事業割合）'!$J12*'10号-6'!$S$64 -> #DIV/0! | J13: =IFERROR(SUM(E13:I13), "") | K13: ='4号-3,4参考（事業割合）'!E12/'4号-3,4参考（事業割合）'!$J$12*'10号-6'!$S$66 -> #DIV/0! | L13: ='4号-3,4参考（事業割合）'!F12/'4号-3,4参考（事業割合）'!$J$12*'10号-6'!$S$66 -> #DIV/0! | M13: ='4号-3,4参考（事業割合）'!G12/'4号-3,4参考（事業割合）'!$J$12*'10号-6'!$S$66 -> #DIV/0! | N13: ='4号-3,4参考（事業割合）'!H12/'4号-3,4参考（事業割合）'!$J$12*'10号-6'!$S$66 -> #DIV/0! | O13: ='4号-3,4参考（事業割合）'!I12/'4号-3,4参考（事業割合）'!$J$12*'10号-6'!$S$66 -> #DIV/0! | P13: =IFERROR(SUM(K13:O13), "") | Q13: =+'4号-3,4参考（事業割合）'!E12/'4号-3,4参考（事業割合）'!$J12*'10号-6'!$S$68 -> #DIV/0! | R13: =+'4号-3,4参考（事業割合）'!F12/'4号-3,4参考（事業割合）'!$J12*'10号-6'!$S$68 -> #DIV/0! | S13: =+'4号-3,4参考（事業割合）'!G12/'4号-3,4参考（事業割合）'!$J12*'10号-6'!$S$68 -> #DIV/0! | T13: =+'4号-3,4参考（事業割合）'!H12/'4号-3,4参考（事業割合）'!$J12*'10号-6'!$S$68 -> #DIV/0! | U13: =+'4号-3,4参考（事業割合）'!I12/'4号-3,4参考（事業割合）'!$J12*'10号-6'!$S$68 -> #DIV/0! | V13: =IFERROR(SUM(Q13:U13), "") | W13: =SUM(V13,P13,J13) -> 0 | Y13: =+B13 -> 0 | Z13: =+C13 -> 0 | AA13: =+D13 | AB13: ='4号-3,4参考（事業割合）'!E12/'4号-3,4参考（事業割合）'!$J12*'10号-6'!$S$63 -> #DIV/0! | AC13: ='4号-3,4参考（事業割合）'!F12/'4号-3,4参考（事業割合）'!$J12*'10号-6'!$S$63 -> #DIV/0! | AD13: ='4号-3,4参考（事業割合）'!G12/'4号-3,4参考（事業割合）'!$J12*'10号-6'!$S$63 -> #DIV/0! | AE13: ='4号-3,4参考（事業割合）'!H12/'4号-3,4参考（事業割合）'!$J12*'10号-6'!$S$63 -> #DIV/0! | AF13: ='4号-3,4参考（事業割合）'!I12/'4号-3,4参考（事業割合）'!$J12*'10号-6'!$S$63 -> #DIV/0! | AG13: =IFERROR(SUM(AB13:AF13), "") | AH13: ='4号-3,4参考（事業割合）'!E12/'4号-3,4参考（事業割合）'!$J12*'10号-6'!$S$65 -> #DIV/0! | AI13: ='4号-3,4参考（事業割合）'!F12/'4号-3,4参考（事業割合）'!$J12*'10号-6'!$S$65 -> #DIV/0! | AJ13: ='4号-3,4参考（事業割合）'!G12/'4号-3,4参考（事業割合）'!$J12*'10号-6'!$S$65 -> #DIV/0! | AK13: ='4号-3,4参考（事業割合）'!H12/'4号-3,4参考（事業割合）'!$J12*'10号-6'!$S$65 -> #DIV/0! | AL13: ='4号-3,4参考（事業割合）'!I12/'4号-3,4参考（事業割合）'!$J12*'10号-6'!$S$65 -> #DIV/0! | AM13: =IFERROR(SUM(AH13:AL13), "") | AN13: =+'4号-3,4参考（事業割合）'!E12/'4号-3,4参考（事業割合）'!$J12*'10号-6'!$S$67 -> #DIV/0! | AO13: =+'4号-3,4参考（事業割合）'!F12/'4号-3,4参考（事業割合）'!$J12*'10号-6'!$S$67 -> #DIV/0! | AP13: =+'4号-3,4参考（事業割合）'!G12/'4号-3,4参考（事業割合）'!$J12*'10号-6'!$S$67 -> #DIV/0! | AQ13: =+'4号-3,4参考（事業割合）'!H12/'4号-3,4参考（事業割合）'!$J12*'10号-6'!$S$67 -> #DIV/0! | AR13: =+'4号-3,4参考（事業割合）'!I12/'4号-3,4参考（事業割合）'!$J12*'10号-6'!$S$67 -> #DIV/0! | AS13: =IFERROR(SUM(AN13:AR13), "") | AT13: =SUM(AS13,AM13,AG13) -> 0
A14: 8 | B14: =+'4号-3,4参考（事業割合）'!B13 -> 0 | C14: =+'4号-3,4参考（事業割合）'!C13 -> 0 | D14: ='4号-3,4参考（事業割合）'!D13 | E14: ='4号-3,4参考（事業割合）'!E13/'4号-3,4参考（事業割合）'!$J13*'10号-6'!$S$72 -> #DIV/0! | F14: ='4号-3,4参考（事業割合）'!F13/'4号-3,4参考（事業割合）'!$J13*'10号-6'!$S$72 -> #DIV/0! | G14: ='4号-3,4参考（事業割合）'!G13/'4号-3,4参考（事業割合）'!$J13*'10号-6'!$S$72 -> #DIV/0! | H14: ='4号-3,4参考（事業割合）'!H13/'4号-3,4参考（事業割合）'!$J13*'10号-6'!$S$72 -> #DIV/0! | I14: ='4号-3,4参考（事業割合）'!I13/'4号-3,4参考（事業割合）'!$J13*'10号-6'!$S$72 -> #DIV/0! | J14: =IFERROR(SUM(E14:I14), "") | K14: ='4号-3,4参考（事業割合）'!E13/'4号-3,4参考（事業割合）'!$J$13*'10号-6'!$S$74 -> #DIV/0! | L14: ='4号-3,4参考（事業割合）'!F13/'4号-3,4参考（事業割合）'!$J$13*'10号-6'!$S$74 -> #DIV/0! | M14: ='4号-3,4参考（事業割合）'!G13/'4号-3,4参考（事業割合）'!$J$13*'10号-6'!$S$74 -> #DIV/0! | N14: ='4号-3,4参考（事業割合）'!H13/'4号-3,4参考（事業割合）'!$J$13*'10号-6'!$S$74 -> #DIV/0! | O14: ='4号-3,4参考（事業割合）'!I13/'4号-3,4参考（事業割合）'!$J$13*'10号-6'!$S$74 -> #DIV/0! | P14: =IFERROR(SUM(K14:O14), "") | Q14: =+'4号-3,4参考（事業割合）'!E13/'4号-3,4参考（事業割合）'!$J13*'10号-6'!$S$76 -> #DIV/0! | R14: =+'4号-3,4参考（事業割合）'!F13/'4号-3,4参考（事業割合）'!$J13*'10号-6'!$S$76 -> #DIV/0! | S14: =+'4号-3,4参考（事業割合）'!G13/'4号-3,4参考（事業割合）'!$J13*'10号-6'!$S$76 -> #DIV/0! | T14: =+'4号-3,4参考（事業割合）'!H13/'4号-3,4参考（事業割合）'!$J13*'10号-6'!$S$76 -> #DIV/0! | U14: =+'4号-3,4参考（事業割合）'!I13/'4号-3,4参考（事業割合）'!$J13*'10号-6'!$S$76 -> #DIV/0! | V14: =IFERROR(SUM(Q14:U14), "") | W14: =SUM(V14,P14,J14) -> 0 | Y14: =+B14 -> 0 | Z14: =+C14 -> 0 | AA14: =+D14 | AB14: ='4号-3,4参考（事業割合）'!E13/'4号-3,4参考（事業割合）'!$J13*'10号-6'!$S$71 -> #DIV/0! | AC14: ='4号-3,4参考（事業割合）'!F13/'4号-3,4参考（事業割合）'!$J13*'10号-6'!$S$71 -> #DIV/0! | AD14: ='4号-3,4参考（事業割合）'!G13/'4号-3,4参考（事業割合）'!$J13*'10号-6'!$S$71 -> #DIV/0! | AE14: ='4号-3,4参考（事業割合）'!H13/'4号-3,4参考（事業割合）'!$J13*'10号-6'!$S$71 -> #DIV/0! | AF14: ='4号-3,4参考（事業割合）'!I13/'4号-3,4参考（事業割合）'!$J13*'10号-6'!$S$71 -> #DIV/0! | AG14: =IFERROR(SUM(AB14:AF14), "") | AH14: ='4号-3,4参考（事業割合）'!E13/'4号-3,4参考（事業割合）'!$J13*'10号-6'!$S$73 -> #DIV/0! | AI14: ='4号-3,4参考（事業割合）'!F13/'4号-3,4参考（事業割合）'!$J13*'10号-6'!$S$73 -> #DIV/0! | AJ14: ='4号-3,4参考（事業割合）'!G13/'4号-3,4参考（事業割合）'!$J13*'10号-6'!$S$73 -> #DIV/0! | AK14: ='4号-3,4参考（事業割合）'!H13/'4号-3,4参考（事業割合）'!$J13*'10号-6'!$S$73 -> #DIV/0! | AL14: ='4号-3,4参考（事業割合）'!I13/'4号-3,4参考（事業割合）'!$J13*'10号-6'!$S$73 -> #DIV/0! | AM14: =IFERROR(SUM(AH14:AL14), "") | AN14: =+'4号-3,4参考（事業割合）'!E13/'4号-3,4参考（事業割合）'!$J13*'10号-6'!$S$75 -> #DIV/0! | AO14: =+'4号-3,4参考（事業割合）'!F13/'4号-3,4参考（事業割合）'!$J13*'10号-6'!$S$75 -> #DIV/0! | AP14: =+'4号-3,4参考（事業割合）'!G13/'4号-3,4参考（事業割合）'!$J13*'10号-6'!$S$75 -> #DIV/0! | AQ14: =+'4号-3,4参考（事業割合）'!H13/'4号-3,4参考（事業割合）'!$J13*'10号-6'!$S$75 -> #DIV/0! | AR14: =+'4号-3,4参考（事業割合）'!I13/'4号-3,4参考（事業割合）'!$J13*'10号-6'!$S$75 -> #DIV/0! | AS14: =IFERROR(SUM(AN14:AR14), "") | AT14: =SUM(AS14,AM14,AG14) -> 0
A15: 9 | B15: =+'4号-3,4参考（事業割合）'!B14 -> 0 | C15: =+'4号-3,4参考（事業割合）'!C14 -> 0 | D15: ='4号-3,4参考（事業割合）'!D14 | E15: ='4号-3,4参考（事業割合）'!E14/'4号-3,4参考（事業割合）'!$J14*'10号-6'!$S$80 -> #DIV/0! | F15: ='4号-3,4参考（事業割合）'!F14/'4号-3,4参考（事業割合）'!$J14*'10号-6'!$S$80 -> #DIV/0! | G15: ='4号-3,4参考（事業割合）'!G14/'4号-3,4参考（事業割合）'!$J14*'10号-6'!$S$80 -> #DIV/0! | H15: ='4号-3,4参考（事業割合）'!H14/'4号-3,4参考（事業割合）'!$J14*'10号-6'!$S$80 -> #DIV/0! | I15: ='4号-3,4参考（事業割合）'!I14/'4号-3,4参考（事業割合）'!$J14*'10号-6'!$S$80 -> #DIV/0! | J15: =IFERROR(SUM(E15:I15), "") | K15: ='4号-3,4参考（事業割合）'!E14/'4号-3,4参考（事業割合）'!$J$14*'10号-6'!$S$82 -> #DIV/0! | L15: ='4号-3,4参考（事業割合）'!F14/'4号-3,4参考（事業割合）'!$J$14*'10号-6'!$S$82 -> #DIV/0! | M15: ='4号-3,4参考（事業割合）'!G14/'4号-3,4参考（事業割合）'!$J$14*'10号-6'!$S$82 -> #DIV/0! | N15: ='4号-3,4参考（事業割合）'!H14/'4号-3,4参考（事業割合）'!$J$14*'10号-6'!$S$82 -> #DIV/0! | O15: ='4号-3,4参考（事業割合）'!I14/'4号-3,4参考（事業割合）'!$J$14*'10号-6'!$S$82 -> #DIV/0! | P15: =IFERROR(SUM(K15:O15), "") | Q15: =+'4号-3,4参考（事業割合）'!E14/'4号-3,4参考（事業割合）'!$J14*'10号-6'!$S$84 -> #DIV/0! | R15: =+'4号-3,4参考（事業割合）'!F14/'4号-3,4参考（事業割合）'!$J14*'10号-6'!$S$84 -> #DIV/0! | S15: =+'4号-3,4参考（事業割合）'!G14/'4号-3,4参考（事業割合）'!$J14*'10号-6'!$S$84 -> #DIV/0! | T15: =+'4号-3,4参考（事業割合）'!H14/'4号-3,4参考（事業割合）'!$J14*'10号-6'!$S$84 -> #DIV/0! | U15: =+'4号-3,4参考（事業割合）'!I14/'4号-3,4参考（事業割合）'!$J14*'10号-6'!$S$84 -> #DIV/0! | V15: =IFERROR(SUM(Q15:U15), "") | W15: =SUM(V15,P15,J15) -> 0 | Y15: =+B15 -> 0 | Z15: =+C15 -> 0 | AA15: =+D15 | AB15: ='4号-3,4参考（事業割合）'!E14/'4号-3,4参考（事業割合）'!$J14*'10号-6'!$S$79 -> #DIV/0! | AC15: ='4号-3,4参考（事業割合）'!F14/'4号-3,4参考（事業割合）'!$J14*'10号-6'!$S$79 -> #DIV/0! | AD15: ='4号-3,4参考（事業割合）'!G14/'4号-3,4参考（事業割合）'!$J14*'10号-6'!$S$79 -> #DIV/0! | AE15: ='4号-3,4参考（事業割合）'!H14/'4号-3,4参考（事業割合）'!$J14*'10号-6'!$S$79 -> #DIV/0! | AF15: ='4号-3,4参考（事業割合）'!I14/'4号-3,4参考（事業割合）'!$J14*'10号-6'!$S$79 -> #DIV/0! | AG15: =IFERROR(SUM(AB15:AF15), "") | AH15: ='4号-3,4参考（事業割合）'!E14/'4号-3,4参考（事業割合）'!$J14*'10号-6'!$S$81 -> #DIV/0! | AI15: ='4号-3,4参考（事業割合）'!F14/'4号-3,4参考（事業割合）'!$J14*'10号-6'!$S$81 -> #DIV/0! | AJ15: ='4号-3,4参考（事業割合）'!G14/'4号-3,4参考（事業割合）'!$J14*'10号-6'!$S$81 -> #DIV/0! | AK15: ='4号-3,4参考（事業割合）'!H14/'4号-3,4参考（事業割合）'!$J14*'10号-6'!$S$81 -> #DIV/0! | AL15: ='4号-3,4参考（事業割合）'!I14/'4号-3,4参考（事業割合）'!$J14*'10号-6'!$S$81 -> #DIV/0! | AM15: =IFERROR(SUM(AH15:AL15), "") | AN15: =+'4号-3,4参考（事業割合）'!E14/'4号-3,4参考（事業割合）'!$J14*'10号-6'!$S$83 -> #DIV/0! | AO15: =+'4号-3,4参考（事業割合）'!F14/'4号-3,4参考（事業割合）'!$J14*'10号-6'!$S$83 -> #DIV/0! | AP15: =+'4号-3,4参考（事業割合）'!G14/'4号-3,4参考（事業割合）'!$J14*'10号-6'!$S$83 -> #DIV/0! | AQ15: =+'4号-3,4参考（事業割合）'!H14/'4号-3,4参考（事業割合）'!$J14*'10号-6'!$S$83 -> #DIV/0! | AR15: =+'4号-3,4参考（事業割合）'!I14/'4号-3,4参考（事業割合）'!$J14*'10号-6'!$S$83 -> #DIV/0! | AS15: =IFERROR(SUM(AN15:AR15), "") | AT15: =SUM(AS15,AM15,AG15) -> 0
A16: 10 | B16: =+'4号-3,4参考（事業割合）'!B15 -> 0 | C16: =+'4号-3,4参考（事業割合）'!C15 -> 0 | D16: ='4号-3,4参考（事業割合）'!D15 | E16: ='4号-3,4参考（事業割合）'!E15/'4号-3,4参考（事業割合）'!$J15*'10号-6'!$S$88 -> #DIV/0! | F16: ='4号-3,4参考（事業割合）'!F15/'4号-3,4参考（事業割合）'!$J15*'10号-6'!$S$88 -> #DIV/0! | G16: ='4号-3,4参考（事業割合）'!G15/'4号-3,4参考（事業割合）'!$J15*'10号-6'!$S$88 -> #DIV/0! | H16: ='4号-3,4参考（事業割合）'!H15/'4号-3,4参考（事業割合）'!$J15*'10号-6'!$S$88 -> #DIV/0! | I16: ='4号-3,4参考（事業割合）'!I15/'4号-3,4参考（事業割合）'!$J15*'10号-6'!$S$88 -> #DIV/0! | J16: =IFERROR(SUM(E16:I16), "") | K16: ='4号-3,4参考（事業割合）'!E15/'4号-3,4参考（事業割合）'!$J$15*'10号-6'!$S$90 -> #DIV/0! | L16: ='4号-3,4参考（事業割合）'!F15/'4号-3,4参考（事業割合）'!$J$15*'10号-6'!$S$90 -> #DIV/0! | M16: ='4号-3,4参考（事業割合）'!G15/'4号-3,4参考（事業割合）'!$J$15*'10号-6'!$S$90 -> #DIV/0! | N16: ='4号-3,4参考（事業割合）'!H15/'4号-3,4参考（事業割合）'!$J$15*'10号-6'!$S$90 -> #DIV/0! | O16: ='4号-3,4参考（事業割合）'!I15/'4号-3,4参考（事業割合）'!$J$15*'10号-6'!$S$90 -> #DIV/0! | P16: =IFERROR(SUM(K16:O16), "") | Q16: =+'4号-3,4参考（事業割合）'!E15/'4号-3,4参考（事業割合）'!$J15*'10号-6'!$S$92 -> #DIV/0! | R16: =+'4号-3,4参考（事業割合）'!F15/'4号-3,4参考（事業割合）'!$J15*'10号-6'!$S$92 -> #DIV/0! | S16: =+'4号-3,4参考（事業割合）'!G15/'4号-3,4参考（事業割合）'!$J15*'10号-6'!$S$92 -> #DIV/0! | T16: =+'4号-3,4参考（事業割合）'!H15/'4号-3,4参考（事業割合）'!$J15*'10号-6'!$S$92 -> #DIV/0! | U16: =+'4号-3,4参考（事業割合）'!I15/'4号-3,4参考（事業割合）'!$J15*'10号-6'!$S$92 -> #DIV/0! | V16: =IFERROR(SUM(Q16:U16), "") | W16: =SUM(V16,P16,J16) -> 0 | Y16: =+B16 -> 0 | Z16: =+C16 -> 0 | AA16: =+D16 | AB16: ='4号-3,4参考（事業割合）'!E15/'4号-3,4参考（事業割合）'!$J15*'10号-6'!$S$87 -> #DIV/0! | AC16: ='4号-3,4参考（事業割合）'!F15/'4号-3,4参考（事業割合）'!$J15*'10号-6'!$S$87 -> #DIV/0! | AD16: ='4号-3,4参考（事業割合）'!G15/'4号-3,4参考（事業割合）'!$J15*'10号-6'!$S$87 -> #DIV/0! | AE16: ='4号-3,4参考（事業割合）'!H15/'4号-3,4参考（事業割合）'!$J15*'10号-6'!$S$87 -> #DIV/0! | AF16: ='4号-3,4参考（事業割合）'!I15/'4号-3,4参考（事業割合）'!$J15*'10号-6'!$S$87 -> #DIV/0! | AG16: =IFERROR(SUM(AB16:AF16), "") | AH16: ='4号-3,4参考（事業割合）'!E15/'4号-3,4参考（事業割合）'!$J15*'10号-6'!$S$89 -> #DIV/0! | AI16: ='4号-3,4参考（事業割合）'!F15/'4号-3,4参考（事業割合）'!$J15*'10号-6'!$S$89 -> #DIV/0! | AJ16: ='4号-3,4参考（事業割合）'!G15/'4号-3,4参考（事業割合）'!$J15*'10号-6'!$S$89 -> #DIV/0! | AK16: ='4号-3,4参考（事業割合）'!H15/'4号-3,4参考（事業割合）'!$J15*'10号-6'!$S$89 -> #DIV/0! | AL16: ='4号-3,4参考（事業割合）'!I15/'4号-3,4参考（事業割合）'!$J15*'10号-6'!$S$89 -> #DIV/0! | AM16: =IFERROR(SUM(AH16:AL16), "") | AN16: =+'4号-3,4参考（事業割合）'!E15/'4号-3,4参考（事業割合）'!$J15*'10号-6'!$S$91 -> #DIV/0! | AO16: =+'4号-3,4参考（事業割合）'!F15/'4号-3,4参考（事業割合）'!$J15*'10号-6'!$S$91 -> #DIV/0! | AP16: =+'4号-3,4参考（事業割合）'!G15/'4号-3,4参考（事業割合）'!$J15*'10号-6'!$S$91 -> #DIV/0! | AQ16: =+'4号-3,4参考（事業割合）'!H15/'4号-3,4参考（事業割合）'!$J15*'10号-6'!$S$91 -> #DIV/0! | AR16: =+'4号-3,4参考（事業割合）'!I15/'4号-3,4参考（事業割合）'!$J15*'10号-6'!$S$91 -> #DIV/0! | AS16: =IFERROR(SUM(AN16:AR16), "") | AT16: =SUM(AS16,AM16,AG16) -> 0
A17: 11 | B17: =+'4号-3,4参考（事業割合）'!B16 -> 0 | C17: =+'4号-3,4参考（事業割合）'!C16 -> 0 | D17: ='4号-3,4参考（事業割合）'!D16 | E17: ='4号-3,4参考（事業割合）'!E16/'4号-3,4参考（事業割合）'!$J16*'10号-6'!$S$107 -> #DIV/0! | F17: ='4号-3,4参考（事業割合）'!F16/'4号-3,4参考（事業割合）'!$J16*'10号-6'!$S$107 -> #DIV/0! | G17: ='4号-3,4参考（事業割合）'!G16/'4号-3,4参考（事業割合）'!$J16*'10号-6'!$S$107 -> #DIV/0! | H17: ='4号-3,4参考（事業割合）'!H16/'4号-3,4参考（事業割合）'!$J16*'10号-6'!$S$107 -> #DIV/0! | I17: ='4号-3,4参考（事業割合）'!I16/'4号-3,4参考（事業割合）'!$J16*'10号-6'!$S$107 -> #DIV/0! | J17: =IFERROR(SUM(E17:I17), "") | K17: ='4号-3,4参考（事業割合）'!E16/'4号-3,4参考（事業割合）'!$J$16*'10号-6'!$S$109 -> #DIV/0! | L17: ='4号-3,4参考（事業割合）'!F16/'4号-3,4参考（事業割合）'!$J$16*'10号-6'!$S$109 -> #DIV/0! | M17: ='4号-3,4参考（事業割合）'!G16/'4号-3,4参考（事業割合）'!$J$16*'10号-6'!$S$109 -> #DIV/0! | N17: ='4号-3,4参考（事業割合）'!H16/'4号-3,4参考（事業割合）'!$J$16*'10号-6'!$S$109 -> #DIV/0! | O17: ='4号-3,4参考（事業割合）'!I16/'4号-3,4参考（事業割合）'!$J$16*'10号-6'!$S$109 -> #DIV/0! | P17: =IFERROR(SUM(K17:O17), "") | Q17: =+'4号-3,4参考（事業割合）'!E16/'4号-3,4参考（事業割合）'!$J16*'10号-6'!$S$111 -> #DIV/0! | R17: =+'4号-3,4参考（事業割合）'!F16/'4号-3,4参考（事業割合）'!$J16*'10号-6'!$S$111 -> #DIV/0! | S17: =+'4号-3,4参考（事業割合）'!G16/'4号-3,4参考（事業割合）'!$J16*'10号-6'!$S$111 -> #DIV/0! | T17: =+'4号-3,4参考（事業割合）'!H16/'4号-3,4参考（事業割合）'!$J16*'10号-6'!$S$111 -> #DIV/0! | U17: =+'4号-3,4参考（事業割合）'!I16/'4号-3,4参考（事業割合）'!$J16*'10号-6'!$S$111 -> #DIV/0! | V17: =IFERROR(SUM(Q17:U17), "") | W17: =SUM(V17,P17,J17) -> 0 | Y17: =+B17 -> 0 | Z17: =+C17 -> 0 | AA17: =+D17 | AB17: ='4号-3,4参考（事業割合）'!E16/'4号-3,4参考（事業割合）'!$J16*'10号-6'!$S$106 -> #DIV/0! | AC17: ='4号-3,4参考（事業割合）'!F16/'4号-3,4参考（事業割合）'!$J16*'10号-6'!$S$106 -> #DIV/0! | AD17: ='4号-3,4参考（事業割合）'!G16/'4号-3,4参考（事業割合）'!$J16*'10号-6'!$S$106 -> #DIV/0! | AE17: ='4号-3,4参考（事業割合）'!H16/'4号-3,4参考（事業割合）'!$J16*'10号-6'!$S$106 -> #DIV/0! | AF17: ='4号-3,4参考（事業割合）'!I16/'4号-3,4参考（事業割合）'!$J16*'10号-6'!$S$106 -> #DIV/0! | AG17: =IFERROR(SUM(AB17:AF17), "") | AH17: ='4号-3,4参考（事業割合）'!E16/'4号-3,4参考（事業割合）'!$J16*'10号-6'!$S$108 -> #DIV/0! | AI17: ='4号-3,4参考（事業割合）'!F16/'4号-3,4参考（事業割合）'!$J16*'10号-6'!$S$108 -> #DIV/0! | AJ17: ='4号-3,4参考（事業割合）'!G16/'4号-3,4参考（事業割合）'!$J16*'10号-6'!$S$108 -> #DIV/0! | AK17: ='4号-3,4参考（事業割合）'!H16/'4号-3,4参考（事業割合）'!$J16*'10号-6'!$S$108 -> #DIV/0! | AL17: ='4号-3,4参考（事業割合）'!I16/'4号-3,4参考（事業割合）'!$J16*'10号-6'!$S$108 -> #DIV/0! | AM17: =IFERROR(SUM(AH17:AL17), "") | AN17: =+'4号-3,4参考（事業割合）'!E16/'4号-3,4参考（事業割合）'!$J16*'10号-6'!$S$110 -> #DIV/0! | AO17: =+'4号-3,4参考（事業割合）'!F16/'4号-3,4参考（事業割合）'!$J16*'10号-6'!$S$110 -> #DIV/0! | AP17: =+'4号-3,4参考（事業割合）'!G16/'4号-3,4参考（事業割合）'!$J16*'10号-6'!$S$110 -> #DIV/0! | AQ17: =+'4号-3,4参考（事業割合）'!H16/'4号-3,4参考（事業割合）'!$J16*'10号-6'!$S$110 -> #DIV/0! | AR17: =+'4号-3,4参考（事業割合）'!I16/'4号-3,4参考（事業割合）'!$J16*'10号-6'!$S$110 -> #DIV/0! | AS17: =IFERROR(SUM(AN17:AR17), "") | AT17: =SUM(AS17,AM17,AG17) -> 0
A18: 12 | B18: =+'4号-3,4参考（事業割合）'!B17 -> 0 | C18: =+'4号-3,4参考（事業割合）'!C17 -> 0 | D18: ='4号-3,4参考（事業割合）'!D17 | E18: ='4号-3,4参考（事業割合）'!E17/'4号-3,4参考（事業割合）'!$J17*'10号-6'!$S$115 -> #DIV/0! | F18: ='4号-3,4参考（事業割合）'!F17/'4号-3,4参考（事業割合）'!$J17*'10号-6'!$S$115 -> #DIV/0! | G18: ='4号-3,4参考（事業割合）'!G17/'4号-3,4参考（事業割合）'!$J17*'10号-6'!$S$115 -> #DIV/0! | H18: ='4号-3,4参考（事業割合）'!H17/'4号-3,4参考（事業割合）'!$J17*'10号-6'!$S$115 -> #DIV/0! | I18: ='4号-3,4参考（事業割合）'!I17/'4号-3,4参考（事業割合）'!$J17*'10号-6'!$S$115 -> #DIV/0! | J18: =IFERROR(SUM(E18:I18), "") | K18: ='4号-3,4参考（事業割合）'!E17/'4号-3,4参考（事業割合）'!$J$17*'10号-6'!$S$117 -> #DIV/0! | L18: ='4号-3,4参考（事業割合）'!F17/'4号-3,4参考（事業割合）'!$J$17*'10号-6'!$S$117 -> #DIV/0! | M18: ='4号-3,4参考（事業割合）'!G17/'4号-3,4参考（事業割合）'!$J$17*'10号-6'!$S$117 -> #DIV/0! | N18: ='4号-3,4参考（事業割合）'!H17/'4号-3,4参考（事業割合）'!$J$17*'10号-6'!$S$117 -> #DIV/0! | O18: ='4号-3,4参考（事業割合）'!I17/'4号-3,4参考（事業割合）'!$J$17*'10号-6'!$S$117 -> #DIV/0! | P18: =IFERROR(SUM(K18:O18), "") | Q18: =+'4号-3,4参考（事業割合）'!E17/'4号-3,4参考（事業割合）'!$J17*'10号-6'!$S$119 -> #DIV/0! | R18: =+'4号-3,4参考（事業割合）'!F17/'4号-3,4参考（事業割合）'!$J17*'10号-6'!$S$119 -> #DIV/0! | S18: =+'4号-3,4参考（事業割合）'!G17/'4号-3,4参考（事業割合）'!$J17*'10号-6'!$S$119 -> #DIV/0! | T18: =+'4号-3,4参考（事業割合）'!H17/'4号-3,4参考（事業割合）'!$J17*'10号-6'!$S$119 -> #DIV/0! | U18: =+'4号-3,4参考（事業割合）'!I17/'4号-3,4参考（事業割合）'!$J17*'10号-6'!$S$119 -> #DIV/0! | V18: =IFERROR(SUM(Q18:U18), "") | W18: =SUM(V18,P18,J18) -> 0 | Y18: =+B18 -> 0 | Z18: =+C18 -> 0 | AA18: =+D18 | AB18: ='4号-3,4参考（事業割合）'!E17/'4号-3,4参考（事業割合）'!$J17*'10号-6'!$S$114 -> #DIV/0! | AC18: ='4号-3,4参考（事業割合）'!F17/'4号-3,4参考（事業割合）'!$J17*'10号-6'!$S$114 -> #DIV/0! | AD18: ='4号-3,4参考（事業割合）'!G17/'4号-3,4参考（事業割合）'!$J17*'10号-6'!$S$114 -> #DIV/0! | AE18: ='4号-3,4参考（事業割合）'!H17/'4号-3,4参考（事業割合）'!$J17*'10号-6'!$S$114 -> #DIV/0! | AF18: ='4号-3,4参考（事業割合）'!I17/'4号-3,4参考（事業割合）'!$J17*'10号-6'!$S$114 -> #DIV/0! | AG18: =IFERROR(SUM(AB18:AF18), "") | AH18: ='4号-3,4参考（事業割合）'!E17/'4号-3,4参考（事業割合）'!$J17*'10号-6'!$S$116 -> #DIV/0! | AI18: ='4号-3,4参考（事業割合）'!F17/'4号-3,4参考（事業割合）'!$J17*'10号-6'!$S$116 -> #DIV/0! | AJ18: ='4号-3,4参考（事業割合）'!G17/'4号-3,4参考（事業割合）'!$J17*'10号-6'!$S$116 -> #DIV/0! | AK18: ='4号-3,4参考（事業割合）'!H17/'4号-3,4参考（事業割合）'!$J17*'10号-6'!$S$116 -> #DIV/0! | AL18: ='4号-3,4参考（事業割合）'!I17/'4号-3,4参考（事業割合）'!$J17*'10号-6'!$S$116 -> #DIV/0! | AM18: =IFERROR(SUM(AH18:AL18), "") | AN18: =+'4号-3,4参考（事業割合）'!E17/'4号-3,4参考（事業割合）'!$J17*'10号-6'!$S$118 -> #DIV/0! | AO18: =+'4号-3,4参考（事業割合）'!F17/'4号-3,4参考（事業割合）'!$J17*'10号-6'!$S$118 -> #DIV/0! | AP18: =+'4号-3,4参考（事業割合）'!G17/'4号-3,4参考（事業割合）'!$J17*'10号-6'!$S$118 -> #DIV/0! | AQ18: =+'4号-3,4参考（事業割合）'!H17/'4号-3,4参考（事業割合）'!$J17*'10号-6'!$S$118 -> #DIV/0! | AR18: =+'4号-3,4参考（事業割合）'!I17/'4号-3,4参考（事業割合）'!$J17*'10号-6'!$S$118 -> #DIV/0! | AS18: =IFERROR(SUM(AN18:AR18), "") | AT18: =SUM(AS18,AM18,AG18) -> 0
A19: 13 | B19: =+'4号-3,4参考（事業割合）'!B18 -> 0 | C19: =+'4号-3,4参考（事業割合）'!C18 -> 0 | D19: ='4号-3,4参考（事業割合）'!D18 | E19: ='4号-3,4参考（事業割合）'!E18/'4号-3,4参考（事業割合）'!$J18*'10号-6'!$S$123 -> #DIV/0! | F19: ='4号-3,4参考（事業割合）'!F18/'4号-3,4参考（事業割合）'!$J18*'10号-6'!$S$123 -> #DIV/0! | G19: ='4号-3,4参考（事業割合）'!G18/'4号-3,4参考（事業割合）'!$J18*'10号-6'!$S$123 -> #DIV/0! | H19: ='4号-3,4参考（事業割合）'!H18/'4号-3,4参考（事業割合）'!$J18*'10号-6'!$S$123 -> #DIV/0! | I19: ='4号-3,4参考（事業割合）'!I18/'4号-3,4参考（事業割合）'!$J18*'10号-6'!$S$123 -> #DIV/0! | J19: =IFERROR(SUM(E19:I19), "") | K19: ='4号-3,4参考（事業割合）'!E18/'4号-3,4参考（事業割合）'!$J$18*'10号-6'!$S$125 -> #DIV/0! | L19: ='4号-3,4参考（事業割合）'!F18/'4号-3,4参考（事業割合）'!$J$18*'10号-6'!$S$125 -> #DIV/0! | M19: ='4号-3,4参考（事業割合）'!G18/'4号-3,4参考（事業割合）'!$J$18*'10号-6'!$S$125 -> #DIV/0! | N19: ='4号-3,4参考（事業割合）'!H18/'4号-3,4参考（事業割合）'!$J$18*'10号-6'!$S$125 -> #DIV/0! | O19: ='4号-3,4参考（事業割合）'!I18/'4号-3,4参考（事業割合）'!$J$18*'10号-6'!$S$125 -> #DIV/0! | P19: =IFERROR(SUM(K19:O19), "") | Q19: =+'4号-3,4参考（事業割合）'!E18/'4号-3,4参考（事業割合）'!$J18*'10号-6'!$S$127 -> #DIV/0! | R19: =+'4号-3,4参考（事業割合）'!F18/'4号-3,4参考（事業割合）'!$J18*'10号-6'!$S$127 -> #DIV/0! | S19: =+'4号-3,4参考（事業割合）'!G18/'4号-3,4参考（事業割合）'!$J18*'10号-6'!$S$127 -> #DIV/0! | T19: =+'4号-3,4参考（事業割合）'!H18/'4号-3,4参考（事業割合）'!$J18*'10号-6'!$S$127 -> #DIV/0! | U19: =+'4号-3,4参考（事業割合）'!I18/'4号-3,4参考（事業割合）'!$J18*'10号-6'!$S$127 -> #DIV/0! | V19: =IFERROR(SUM(Q19:U19), "") | W19: =SUM(V19,P19,J19) -> 0 | Y19: =+B19 -> 0 | Z19: =+C19 -> 0 | AA19: =+D19 | AB19: ='4号-3,4参考（事業割合）'!E18/'4号-3,4参考（事業割合）'!$J18*'10号-6'!$S$122 -> #DIV/0! | AC19: ='4号-3,4参考（事業割合）'!F18/'4号-3,4参考（事業割合）'!$J18*'10号-6'!$S$122 -> #DIV/0! | AD19: ='4号-3,4参考（事業割合）'!G18/'4号-3,4参考（事業割合）'!$J18*'10号-6'!$S$122 -> #DIV/0! | AE19: ='4号-3,4参考（事業割合）'!H18/'4号-3,4参考（事業割合）'!$J18*'10号-6'!$S$122 -> #DIV/0! | AF19: ='4号-3,4参考（事業割合）'!I18/'4号-3,4参考（事業割合）'!$J18*'10号-6'!$S$122 -> #DIV/0! | AG19: =IFERROR(SUM(AB19:AF19), "") | AH19: ='4号-3,4参考（事業割合）'!E18/'4号-3,4参考（事業割合）'!$J18*'10号-6'!$S$124 -> #DIV/0! | AI19: ='4号-3,4参考（事業割合）'!F18/'4号-3,4参考（事業割合）'!$J18*'10号-6'!$S$124 -> #DIV/0! | AJ19: ='4号-3,4参考（事業割合）'!G18/'4号-3,4参考（事業割合）'!$J18*'10号-6'!$S$124 -> #DIV/0! | AK19: ='4号-3,4参考（事業割合）'!H18/'4号-3,4参考（事業割合）'!$J18*'10号-6'!$S$124 -> #DIV/0! | AL19: ='4号-3,4参考（事業割合）'!I18/'4号-3,4参考（事業割合）'!$J18*'10号-6'!$S$124 -> #DIV/0! | AM19: =IFERROR(SUM(AH19:AL19), "") | AN19: =+'4号-3,4参考（事業割合）'!E18/'4号-3,4参考（事業割合）'!$J18*'10号-6'!$S$126 -> #DIV/0! | AO19: =+'4号-3,4参考（事業割合）'!F18/'4号-3,4参考（事業割合）'!$J18*'10号-6'!$S$126 -> #DIV/0! | AP19: =+'4号-3,4参考（事業割合）'!G18/'4号-3,4参考（事業割合）'!$J18*'10号-6'!$S$126 -> #DIV/0! | AQ19: =+'4号-3,4参考（事業割合）'!H18/'4号-3,4参考（事業割合）'!$J18*'10号-6'!$S$126 -> #DIV/0! | AR19: =+'4号-3,4参考（事業割合）'!I18/'4号-3,4参考（事業割合）'!$J18*'10号-6'!$S$126 -> #DIV/0! | AS19: =IFERROR(SUM(AN19:AR19), "") | AT19: =SUM(AS19,AM19,AG19) -> 0
A20: 14 | B20: =+'4号-3,4参考（事業割合）'!B19 -> 0 | C20: =+'4号-3,4参考（事業割合）'!C19 -> 0 | D20: ='4号-3,4参考（事業割合）'!D19 | E20: ='4号-3,4参考（事業割合）'!E19/'4号-3,4参考（事業割合）'!$J19*'10号-6'!$S$131 -> #DIV/0! | F20: ='4号-3,4参考（事業割合）'!F19/'4号-3,4参考（事業割合）'!$J19*'10号-6'!$S$131 -> #DIV/0! | G20: ='4号-3,4参考（事業割合）'!G19/'4号-3,4参考（事業割合）'!$J19*'10号-6'!$S$131 -> #DIV/0! | H20: ='4号-3,4参考（事業割合）'!H19/'4号-3,4参考（事業割合）'!$J19*'10号-6'!$S$131 -> #DIV/0! | I20: ='4号-3,4参考（事業割合）'!I19/'4号-3,4参考（事業割合）'!$J19*'10号-6'!$S$131 -> #DIV/0! | J20: =IFERROR(SUM(E20:I20), "") | K20: ='4号-3,4参考（事業割合）'!E19/'4号-3,4参考（事業割合）'!$J$19*'10号-6'!$S$133 -> #DIV/0! | L20: ='4号-3,4参考（事業割合）'!F19/'4号-3,4参考（事業割合）'!$J$19*'10号-6'!$S$133 -> #DIV/0! | M20: ='4号-3,4参考（事業割合）'!G19/'4号-3,4参考（事業割合）'!$J$19*'10号-6'!$S$133 -> #DIV/0! | N20: ='4号-3,4参考（事業割合）'!H19/'4号-3,4参考（事業割合）'!$J$19*'10号-6'!$S$133 -> #DIV/0! | O20: ='4号-3,4参考（事業割合）'!I19/'4号-3,4参考（事業割合）'!$J$19*'10号-6'!$S$133 -> #DIV/0! | P20: =IFERROR(SUM(K20:O20), "") | Q20: =+'4号-3,4参考（事業割合）'!E19/'4号-3,4参考（事業割合）'!$J19*'10号-6'!$S$135 -> #DIV/0! | R20: =+'4号-3,4参考（事業割合）'!F19/'4号-3,4参考（事業割合）'!$J19*'10号-6'!$S$135 -> #DIV/0! | S20: =+'4号-3,4参考（事業割合）'!G19/'4号-3,4参考（事業割合）'!$J19*'10号-6'!$S$135 -> #DIV/0! | T20: =+'4号-3,4参考（事業割合）'!H19/'4号-3,4参考（事業割合）'!$J19*'10号-6'!$S$135 -> #DIV/0! | U20: =+'4号-3,4参考（事業割合）'!I19/'4号-3,4参考（事業割合）'!$J19*'10号-6'!$S$135 -> #DIV/0! | V20: =IFERROR(SUM(Q20:U20), "") | W20: =SUM(V20,P20,J20) -> 0 | Y20: =+B20 -> 0 | Z20: =+C20 -> 0 | AA20: =+D20 | AB20: ='4号-3,4参考（事業割合）'!E19/'4号-3,4参考（事業割合）'!$J19*'10号-6'!$S$130 -> #DIV/0! | AC20: ='4号-3,4参考（事業割合）'!F19/'4号-3,4参考（事業割合）'!$J19*'10号-6'!$S$130 -> #DIV/0! | AD20: ='4号-3,4参考（事業割合）'!G19/'4号-3,4参考（事業割合）'!$J19*'10号-6'!$S$130 -> #DIV/0! | AE20: ='4号-3,4参考（事業割合）'!H19/'4号-3,4参考（事業割合）'!$J19*'10号-6'!$S$130 -> #DIV/0! | AF20: ='4号-3,4参考（事業割合）'!I19/'4号-3,4参考（事業割合）'!$J19*'10号-6'!$S$130 -> #DIV/0! | AG20: =IFERROR(SUM(AB20:AF20), "") | AH20: ='4号-3,4参考（事業割合）'!E19/'4号-3,4参考（事業割合）'!$J19*'10号-6'!$S$132 -> #DIV/0! | AI20: ='4号-3,4参考（事業割合）'!F19/'4号-3,4参考（事業割合）'!$J19*'10号-6'!$S$132 -> #DIV/0! | AJ20: ='4号-3,4参考（事業割合）'!G19/'4号-3,4参考（事業割合）'!$J19*'10号-6'!$S$132 -> #DIV/0! | AK20: ='4号-3,4参考（事業割合）'!H19/'4号-3,4参考（事業割合）'!$J19*'10号-6'!$S$132 -> #DIV/0! | AL20: ='4号-3,4参考（事業割合）'!I19/'4号-3,4参考（事業割合）'!$J19*'10号-6'!$S$132 -> #DIV/0! | AM20: =IFERROR(SUM(AH20:AL20), "") | AN20: =+'4号-3,4参考（事業割合）'!E19/'4号-3,4参考（事業割合）'!$J19*'10号-6'!$S$134 -> #DIV/0! | AO20: =+'4号-3,4参考（事業割合）'!F19/'4号-3,4参考（事業割合）'!$J19*'10号-6'!$S$134 -> #DIV/0! | AP20: =+'4号-3,4参考（事業割合）'!G19/'4号-3,4参考（事業割合）'!$J19*'10号-6'!$S$134 -> #DIV/0! | AQ20: =+'4号-3,4参考（事業割合）'!H19/'4号-3,4参考（事業割合）'!$J19*'10号-6'!$S$134 -> #DIV/0! | AR20: =+'4号-3,4参考（事業割合）'!I19/'4号-3,4参考（事業割合）'!$J19*'10号-6'!$S$134 -> #DIV/0! | AS20: =IFERROR(SUM(AN20:AR20), "") | AT20: =SUM(AS20,AM20,AG20) -> 0
A21: 15 | B21: =+'4号-3,4参考（事業割合）'!B20 -> 0 | C21: =+'4号-3,4参考（事業割合）'!C20 -> 0 | D21: ='4号-3,4参考（事業割合）'!D20 | E21: ='4号-3,4参考（事業割合）'!E20/'4号-3,4参考（事業割合）'!$J20*'10号-6'!$S$139 -> #DIV/0! | F21: ='4号-3,4参考（事業割合）'!F20/'4号-3,4参考（事業割合）'!$J20*'10号-6'!$S$139 -> #DIV/0! | G21: ='4号-3,4参考（事業割合）'!G20/'4号-3,4参考（事業割合）'!$J20*'10号-6'!$S$139 -> #DIV/0! | H21: ='4号-3,4参考（事業割合）'!H20/'4号-3,4参考（事業割合）'!$J20*'10号-6'!$S$139 -> #DIV/0! | I21: ='4号-3,4参考（事業割合）'!I20/'4号-3,4参考（事業割合）'!$J20*'10号-6'!$S$139 -> #DIV/0! | J21: =IFERROR(SUM(E21:I21), "") | K21: ='4号-3,4参考（事業割合）'!E20/'4号-3,4参考（事業割合）'!$J$20*'10号-6'!$S$141 -> #DIV/0! | L21: ='4号-3,4参考（事業割合）'!F20/'4号-3,4参考（事業割合）'!$J$20*'10号-6'!$S$141 -> #DIV/0! | M21: ='4号-3,4参考（事業割合）'!G20/'4号-3,4参考（事業割合）'!$J$20*'10号-6'!$S$141 -> #DIV/0! | N21: ='4号-3,4参考（事業割合）'!H20/'4号-3,4参考（事業割合）'!$J$20*'10号-6'!$S$141 -> #DIV/0! | O21: ='4号-3,4参考（事業割合）'!I20/'4号-3,4参考（事業割合）'!$J$20*'10号-6'!$S$141 -> #DIV/0! | P21: =IFERROR(SUM(K21:O21), "") | Q21: =+'4号-3,4参考（事業割合）'!E20/'4号-3,4参考（事業割合）'!$J20*'10号-6'!$S$143 -> #DIV/0! | R21: =+'4号-3,4参考（事業割合）'!F20/'4号-3,4参考（事業割合）'!$J20*'10号-6'!$S$143 -> #DIV/0! | S21: =+'4号-3,4参考（事業割合）'!G20/'4号-3,4参考（事業割合）'!$J20*'10号-6'!$S$143 -> #DIV/0! | T21: =+'4号-3,4参考（事業割合）'!H20/'4号-3,4参考（事業割合）'!$J20*'10号-6'!$S$143 -> #DIV/0! | U21: =+'4号-3,4参考（事業割合）'!I20/'4号-3,4参考（事業割合）'!$J20*'10号-6'!$S$143 -> #DIV/0! | V21: =IFERROR(SUM(Q21:U21), "") | W21: =SUM(V21,P21,J21) -> 0 | Y21: =+B21 -> 0 | Z21: =+C21 -> 0 | AA21: =+D21 | AB21: ='4号-3,4参考（事業割合）'!E20/'4号-3,4参考（事業割合）'!$J20*'10号-6'!$S$138 -> #DIV/0! | AC21: ='4号-3,4参考（事業割合）'!F20/'4号-3,4参考（事業割合）'!$J20*'10号-6'!$S$138 -> #DIV/0! | AD21: ='4号-3,4参考（事業割合）'!G20/'4号-3,4参考（事業割合）'!$J20*'10号-6'!$S$138 -> #DIV/0! | AE21: ='4号-3,4参考（事業割合）'!H20/'4号-3,4参考（事業割合）'!$J20*'10号-6'!$S$138 -> #DIV/0! | AF21: ='4号-3,4参考（事業割合）'!I20/'4号-3,4参考（事業割合）'!$J20*'10号-6'!$S$138 -> #DIV/0! | AG21: =IFERROR(SUM(AB21:AF21), "") | AH21: ='4号-3,4参考（事業割合）'!E20/'4号-3,4参考（事業割合）'!$J20*'10号-6'!$S$140 -> #DIV/0! | AI21: ='4号-3,4参考（事業割合）'!F20/'4号-3,4参考（事業割合）'!$J20*'10号-6'!$S$140 -> #DIV/0! | AJ21: ='4号-3,4参考（事業割合）'!G20/'4号-3,4参考（事業割合）'!$J20*'10号-6'!$S$140 -> #DIV/0! | AK21: ='4号-3,4参考（事業割合）'!H20/'4号-3,4参考（事業割合）'!$J20*'10号-6'!$S$140 -> #DIV/0! | AL21: ='4号-3,4参考（事業割合）'!I20/'4号-3,4参考（事業割合）'!$J20*'10号-6'!$S$140 -> #DIV/0! | AM21: =IFERROR(SUM(AH21:AL21), "") | AN21: =+'4号-3,4参考（事業割合）'!E20/'4号-3,4参考（事業割合）'!$J20*'10号-6'!$S$142 -> #DIV/0! | AO21: =+'4号-3,4参考（事業割合）'!F20/'4号-3,4参考（事業割合）'!$J20*'10号-6'!$S$142 -> #DIV/0! | AP21: =+'4号-3,4参考（事業割合）'!G20/'4号-3,4参考（事業割合）'!$J20*'10号-6'!$S$142 -> #DIV/0! | AQ21: =+'4号-3,4参考（事業割合）'!H20/'4号-3,4参考（事業割合）'!$J20*'10号-6'!$S$142 -> #DIV/0! | AR21: =+'4号-3,4参考（事業割合）'!I20/'4号-3,4参考（事業割合）'!$J20*'10号-6'!$S$142 -> #DIV/0! | AS21: =IFERROR(SUM(AN21:AR21), "") | AT21: =SUM(AS21,AM21,AG21) -> 0
A22: 16 | B22: =+'4号-3,4参考（事業割合）'!B21 -> 0 | C22: =+'4号-3,4参考（事業割合）'!C21 -> 0 | D22: ='4号-3,4参考（事業割合）'!D21 | E22: ='4号-3,4参考（事業割合）'!E21/'4号-3,4参考（事業割合）'!$J21*'10号-6'!$S$158 -> #DIV/0! | F22: ='4号-3,4参考（事業割合）'!F21/'4号-3,4参考（事業割合）'!$J21*'10号-6'!$S$158 -> #DIV/0! | G22: ='4号-3,4参考（事業割合）'!G21/'4号-3,4参考（事業割合）'!$J21*'10号-6'!$S$158 -> #DIV/0! | H22: ='4号-3,4参考（事業割合）'!H21/'4号-3,4参考（事業割合）'!$J21*'10号-6'!$S$158 -> #DIV/0! | I22: ='4号-3,4参考（事業割合）'!I21/'4号-3,4参考（事業割合）'!$J21*'10号-6'!$S$158 -> #DIV/0! | J22: =IFERROR(SUM(E22:I22), "") | K22: ='4号-3,4参考（事業割合）'!E21/'4号-3,4参考（事業割合）'!$J$21*'10号-6'!$S$160 -> #DIV/0! | L22: ='4号-3,4参考（事業割合）'!F21/'4号-3,4参考（事業割合）'!$J$21*'10号-6'!$S$160 -> #DIV/0! | M22: ='4号-3,4参考（事業割合）'!G21/'4号-3,4参考（事業割合）'!$J$21*'10号-6'!$S$160 -> #DIV/0! | N22: ='4号-3,4参考（事業割合）'!H21/'4号-3,4参考（事業割合）'!$J$21*'10号-6'!$S$160 -> #DIV/0! | O22: ='4号-3,4参考（事業割合）'!I21/'4号-3,4参考（事業割合）'!$J$21*'10号-6'!$S$160 -> #DIV/0! | P22: =IFERROR(SUM(K22:O22), "") | Q22: =+'4号-3,4参考（事業割合）'!E21/'4号-3,4参考（事業割合）'!$J21*'10号-6'!$S$162 -> #DIV/0! | R22: =+'4号-3,4参考（事業割合）'!F21/'4号-3,4参考（事業割合）'!$J21*'10号-6'!$S$162 -> #DIV/0! | S22: =+'4号-3,4参考（事業割合）'!G21/'4号-3,4参考（事業割合）'!$J21*'10号-6'!$S$162 -> #DIV/0! | T22: =+'4号-3,4参考（事業割合）'!H21/'4号-3,4参考（事業割合）'!$J21*'10号-6'!$S$162 -> #DIV/0! | U22: =+'4号-3,4参考（事業割合）'!I21/'4号-3,4参考（事業割合）'!$J21*'10号-6'!$S$162 -> #DIV/0! | V22: =IFERROR(SUM(Q22:U22), "") | W22: =SUM(V22,P22,J22) -> 0 | Y22: =+B22 -> 0 | Z22: =+C22 -> 0 | AA22: =+D22 | AB22: ='4号-3,4参考（事業割合）'!E21/'4号-3,4参考（事業割合）'!$J21*'10号-6'!$S$157 -> #DIV/0! | AC22: ='4号-3,4参考（事業割合）'!F21/'4号-3,4参考（事業割合）'!$J21*'10号-6'!$S$157 -> #DIV/0! | AD22: ='4号-3,4参考（事業割合）'!G21/'4号-3,4参考（事業割合）'!$J21*'10号-6'!$S$157 -> #DIV/0! | AE22: ='4号-3,4参考（事業割合）'!H21/'4号-3,4参考（事業割合）'!$J21*'10号-6'!$S$157 -> #DIV/0! | AF22: ='4号-3,4参考（事業割合）'!I21/'4号-3,4参考（事業割合）'!$J21*'10号-6'!$S$157 -> #DIV/0! | AG22: =IFERROR(SUM(AB22:AF22), "") | AH22: ='4号-3,4参考（事業割合）'!E21/'4号-3,4参考（事業割合）'!$J21*'10号-6'!$S$159 -> #DIV/0! | AI22: ='4号-3,4参考（事業割合）'!F21/'4号-3,4参考（事業割合）'!$J21*'10号-6'!$S$159 -> #DIV/0! | AJ22: ='4号-3,4参考（事業割合）'!G21/'4号-3,4参考（事業割合）'!$J21*'10号-6'!$S$159 -> #DIV/0! | AK22: ='4号-3,4参考（事業割合）'!H21/'4号-3,4参考（事業割合）'!$J21*'10号-6'!$S$159 -> #DIV/0! | AL22: ='4号-3,4参考（事業割合）'!I21/'4号-3,4参考（事業割合）'!$J21*'10号-6'!$S$159 -> #DIV/0! | AM22: =IFERROR(SUM(AH22:AL22), "") | AN22: =+'4号-3,4参考（事業割合）'!E21/'4号-3,4参考（事業割合）'!$J21*'10号-6'!$S$161 -> #DIV/0! | AO22: =+'4号-3,4参考（事業割合）'!F21/'4号-3,4参考（事業割合）'!$J21*'10号-6'!$S$161 -> #DIV/0! | AP22: =+'4号-3,4参考（事業割合）'!G21/'4号-3,4参考（事業割合）'!$J21*'10号-6'!$S$161 -> #DIV/0! | AQ22: =+'4号-3,4参考（事業割合）'!H21/'4号-3,4参考（事業割合）'!$J21*'10号-6'!$S$161 -> #DIV/0! | AR22: =+'4号-3,4参考（事業割合）'!I21/'4号-3,4参考（事業割合）'!$J21*'10号-6'!$S$161 -> #DIV/0! | AS22: =IFERROR(SUM(AN22:AR22), "") | AT22: =SUM(AS22,AM22,AG22) -> 0
A23: 17 | B23: =+'4号-3,4参考（事業割合）'!B22 -> 0 | C23: =+'4号-3,4参考（事業割合）'!C22 -> 0 | D23: ='4号-3,4参考（事業割合）'!D22 | E23: ='4号-3,4参考（事業割合）'!E22/'4号-3,4参考（事業割合）'!$J22*'10号-6'!$S$166 -> #DIV/0! | F23: ='4号-3,4参考（事業割合）'!F22/'4号-3,4参考（事業割合）'!$J22*'10号-6'!$S$166 -> #DIV/0! | G23: ='4号-3,4参考（事業割合）'!G22/'4号-3,4参考（事業割合）'!$J22*'10号-6'!$S$166 -> #DIV/0! | H23: ='4号-3,4参考（事業割合）'!H22/'4号-3,4参考（事業割合）'!$J22*'10号-6'!$S$166 -> #DIV/0! | I23: ='4号-3,4参考（事業割合）'!I22/'4号-3,4参考（事業割合）'!$J22*'10号-6'!$S$166 -> #DIV/0! | J23: =IFERROR(SUM(E23:I23), "") | K23: ='4号-3,4参考（事業割合）'!E22/'4号-3,4参考（事業割合）'!$J$22*'10号-6'!$S$168 -> #DIV/0! | L23: ='4号-3,4参考（事業割合）'!F22/'4号-3,4参考（事業割合）'!$J$22*'10号-6'!$S$168 -> #DIV/0! | M23: ='4号-3,4参考（事業割合）'!G22/'4号-3,4参考（事業割合）'!$J$22*'10号-6'!$S$168 -> #DIV/0! | N23: ='4号-3,4参考（事業割合）'!H22/'4号-3,4参考（事業割合）'!$J$22*'10号-6'!$S$168 -> #DIV/0! | O23: ='4号-3,4参考（事業割合）'!I22/'4号-3,4参考（事業割合）'!$J$22*'10号-6'!$S$168 -> #DIV/0! | P23: =IFERROR(SUM(K23:O23), "") | Q23: =+'4号-3,4参考（事業割合）'!E22/'4号-3,4参考（事業割合）'!$J22*'10号-6'!$S$170 -> #DIV/0! | R23: =+'4号-3,4参考（事業割合）'!F22/'4号-3,4参考（事業割合）'!$J22*'10号-6'!$S$170 -> #DIV/0! | S23: =+'4号-3,4参考（事業割合）'!G22/'4号-3,4参考（事業割合）'!$J22*'10号-6'!$S$170 -> #DIV/0! | T23: =+'4号-3,4参考（事業割合）'!H22/'4号-3,4参考（事業割合）'!$J22*'10号-6'!$S$170 -> #DIV/0! | U23: =+'4号-3,4参考（事業割合）'!I22/'4号-3,4参考（事業割合）'!$J22*'10号-6'!$S$170 -> #DIV/0! | V23: =IFERROR(SUM(Q23:U23), "") | W23: =SUM(V23,P23,J23) -> 0 | Y23: =+B23 -> 0 | Z23: =+C23 -> 0 | AA23: =+D23 | AB23: ='4号-3,4参考（事業割合）'!E22/'4号-3,4参考（事業割合）'!$J22*'10号-6'!$S$165 -> #DIV/0! | AC23: ='4号-3,4参考（事業割合）'!F22/'4号-3,4参考（事業割合）'!$J22*'10号-6'!$S$165 -> #DIV/0! | AD23: ='4号-3,4参考（事業割合）'!G22/'4号-3,4参考（事業割合）'!$J22*'10号-6'!$S$165 -> #DIV/0! | AE23: ='4号-3,4参考（事業割合）'!H22/'4号-3,4参考（事業割合）'!$J22*'10号-6'!$S$165 -> #DIV/0! | AF23: ='4号-3,4参考（事業割合）'!I22/'4号-3,4参考（事業割合）'!$J22*'10号-6'!$S$165 -> #DIV/0! | AG23: =IFERROR(SUM(AB23:AF23), "") | AH23: ='4号-3,4参考（事業割合）'!E22/'4号-3,4参考（事業割合）'!$J22*'10号-6'!$S$167 -> #DIV/0! | AI23: ='4号-3,4参考（事業割合）'!F22/'4号-3,4参考（事業割合）'!$J22*'10号-6'!$S$167 -> #DIV/0! | AJ23: ='4号-3,4参考（事業割合）'!G22/'4号-3,4参考（事業割合）'!$J22*'10号-6'!$S$167 -> #DIV/0! | AK23: ='4号-3,4参考（事業割合）'!H22/'4号-3,4参考（事業割合）'!$J22*'10号-6'!$S$167 -> #DIV/0! | AL23: ='4号-3,4参考（事業割合）'!I22/'4号-3,4参考（事業割合）'!$J22*'10号-6'!$S$167 -> #DIV/0! | AM23: =IFERROR(SUM(AH23:AL23), "") | AN23: =+'4号-3,4参考（事業割合）'!E22/'4号-3,4参考（事業割合）'!$J22*'10号-6'!$S$169 -> #DIV/0! | AO23: =+'4号-3,4参考（事業割合）'!F22/'4号-3,4参考（事業割合）'!$J22*'10号-6'!$S$169 -> #DIV/0! | AP23: =+'4号-3,4参考（事業割合）'!G22/'4号-3,4参考（事業割合）'!$J22*'10号-6'!$S$169 -> #DIV/0! | AQ23: =+'4号-3,4参考（事業割合）'!H22/'4号-3,4参考（事業割合）'!$J22*'10号-6'!$S$169 -> #DIV/0! | AR23: =+'4号-3,4参考（事業割合）'!I22/'4号-3,4参考（事業割合）'!$J22*'10号-6'!$S$169 -> #DIV/0! | AS23: =IFERROR(SUM(AN23:AR23), "") | AT23: =SUM(AS23,AM23,AG23) -> 0
