Workbook

Sheet 計画承認申請チェック表
B1: 計画承認申請書提出書類チェック表
B2: 提 出 書 類 | F2: ﾁｪｯｸ | G2: 備考
B3: 助成事業計画承認申請書 | E3: 第３号様式
B4: (1) | C4: 退職金共済制度加入促進対策事業計画書 | E4: 第４号様式
C5: 退職金共済制度従事者別年間就業計画表 | E5: 第４号様式の２
B6: (2) | C6: 社会保険加入促進事業計画書 | E6: 第４号様式の３
C7: 従事者別社会保険料負担計画表 | E7: 第４号様式の４
C8: 社会保険従事者別年間就業計画表 | E8: 第４号-３,４参考（事業割合）
C9: 社会保険料負担実績明細表 | E9: 別記第１０号様式の６
B10: (3) | C10: 新規参入者給与安定対策事業計画書 | E10: 第４号様式の５
C11: 添付資料 | D11: 新規参入者であることを証する書類の写し | E11: 雇用契約書等
D12: 退職金共済加入を証する書類の写し | E12: 共済手帳（1冊目） or 共済手帳申込書（受付印入り）
D13: 雇用保険加入を証する書類の写し | E13: 雇用保険被保険者資格取得等確認通知書 | G13: ﾊﾛｰﾜｰｸから入手
D14: 健康保険・厚生年金加入を証する書類の写し | E14: 健康保険・厚生年金保険資格取得確認および標準報酬決定通知書 | G14: 年金事務所から入手
B15: (4) | C15: 新規参入者確保促進事業計画書 | E15: 第４号様式の６
C16: 添付資料 | D16: 新規参入者であることを証する書類の写し | E16: 雇用契約書等
D17: 雇用保険加入を証する書類の写し | E17: 雇用保険被保険者資格取得等確認通知書 | G17: ﾊﾛｰﾜｰｸから入手
D18: 健康保険・厚生年金加入を証する書類の写し | E18: 健康保険・厚生年金保険資格取得確認および標準報酬決定通知書 | G18: 年金事務所から入手
B19: (5) | C19: 新規参入者住宅確保支援事業（代理申請）計画書 | E19: 第４号様式の７
C20: 添付資料 | D20: 前住所及び現住所が確認できる書類の写し | E20: 住民票（発行日から３カ月以内）等
D21: 住宅の賃貸契約書の写し
B22: (6) | C22: 緑の雇用現場技能者育成対策事業実地研修期間一覧表 | E22: 第５号様式
B23: （注１） (6)の第５号様式は緑の雇用の有無に関わらず、申請する事業すべてに添付すること。 （注２） 該当する項目にチェックを記入すること

Sheet 交付申請チェック表
B1: 助成金交付申請書提出書類チェック表
B2: 提 出 書 類 | F2: ﾁｪｯｸ | G2: 備 考
B3: 退職金共済制度加入促進事業 | C3: 退職金共済制度加入促進対策事業の助成金交付申請書 | E3: 第7号様式
C4: 退職金共済制度加入促進対策事業実績書 | E4: 第10号様式
C5: 退職金共済制度従事者別年間就業実績表 | E5: 第10号様式の2 | G5: 林退共、中退共毎に作成
C6: 従事者別、月別就業日数及び掛け金額一覧表 | E6: 第10号様式の3 | G6: 林退共、中退共毎に作成
C7: 添付資料 | D7: 林退共掛け金収納書（写） | G7: 林退共のみ
D8: 掛け金等振り替え結果のお知らせ（写） 通帳の写し（該当部分） | G8: 中退共のみ
C9: １月から１２月までの間に受注した公共工事一覧 | E9: 第8号様式 | G9: ★R5～附表の提出を想定（該当者のみ）
C10: 緑の雇用現場技能者育成対策事業実地研修期間一覧表 | E10: 第9号様式
B11: 社会保険加入促進事業 | C11: 社会保険加入促進事業の助成金交付申請書 | E11: 第7号様式の2
C12: 社会保険加入促進事業実績書 | E12: 第10号様式の4
C13: 従事者別社会保険料負担実績表 | E13: 第10号様式の5
C14: 社会保険料負担実績明細表 | E14: 第10号様式の6
C15: 添付 資料 | D15: 個人別の給与所得に対する所得源泉徴収簿（写） | G15: 源泉徴収票ではないので注意
C16: １月から１２月までの間に受注した公共工事一覧 | E16: 第8号様式 | G16: ★R5～附表の提出を想定（該当者のみ）
C17: 緑の雇用現場技能者育成対策事業実地研修期間一覧表 | E17: 第9号様式
B18: 新規参入者給与安定対策事業 新規参入者確保促進事業 | C18: 新規参入者給与安定対策事業、 新規参入者確保促進事業の助成金交付申請書 | E18: 第7号様式の3
C19: 新規参入者給与安定対策事業実績書 | E19: 第10号様式の7
C20: 新規参入者給与安定対策事業対象者 への月別現金給与支給明細書 | E20: 第10号様式の8
C21: 新規参入者確保促進事業実績書 | E21: 第10号様式の9
C22: 緑の雇用現場技能者育成対策事業実地研修期間一覧表 | E22: 第9号様式
B23: 新規参入者住宅 確保支援事業 | C23: 新規参入者住宅確保支援事業の助成金交付申請書 | E23: 第7号様式の4
C24: 新規参入者住宅確保支援事業（代理申請）実績書 | E24: 第10号様式の10
B25: （注）該当する項目にチェックを記入すること

Sheet 4号
A1: 別記第４号様式
A2: 令和7年度 | C2: 退職金共済制度加入促進対策事業計画書
A3: １ 事業計画総括表
A4: 区分 | B4: 事業種目 | D4: 延べ 作業日数 | E4: 事業主負担額 | F4: 備 考
A5: 林退共 | B5: 公共工事請負 | D5: ='4号-2(林退共)'!$E$31 -> 55 | E5: 25850
B6: 主伐 | D6: ='4号-2(林退共)'!$F$31 -> 65 | E6: 30550
B7: 造林補助金等事業 （申請者） | D7: ='4号-2(林退共)'!$G$31 -> 25 | E7: 11750
B8: 公共工事・造林補助金等事業（下請） | D8: ='4号-2(林退共)'!$H$31 -> 35 | E8: 16450
B9: その他 | D9: ='4号-2(林退共)'!$I$31 -> 25 | E9: 11750
B10: 計 | D10: ='4号-2(林退共)'!$J$31 -> 205 | E10: =SUM(E5:E9) -> 96350
A11: 中退共 | B11: 公共工事請負 | D11: ='4号-2(中退共)'!$E$31 -> 10 | E11: 5000 | G11: =IFERROR(F11/D11/12,"") -> 0
B12: 主伐 | D12: ='4号-2(中退共)'!$F$31 -> 33 | E12: 10000
B13: 造林補助金等事業 （申請者） | D13: ='4号-2(中退共)'!$G$31 -> 67 | E13: 20000
B14: 公共工事・造林補助金等事業（下請） | D14: ='4号-2(中退共)'!$H$31 -> 35 | E14: 12000
B15: その他 | D15: ='4号-2(中退共)'!$I$31 -> 45 | E15: 18000
B16: 計 | D16: ='4号-2(中退共)'!$J$31 -> 190 | E16: =SUM(E11:E15) -> 65000
A17: 合計 | D17: =SUM(D10,D16) -> 395 | E17: =SUM(E10,E16) -> 161350
A19: 注（１） | B19: 暦年（１～１２月）の計画を計上してください。
A20: （２） | B20: 事務職、加工場勤務、トラック運送を主たる業務とする者は、当基金の助成対象となりません。
A21: （３） | B21: 公共工事請負、造林補助金等事業は、別紙参照のこと。
A22: （４） | B22: 造林補助金等事業（申請者）とは、造林補助金等事業の申請者が行った場合、公共工事・造林補助金等事業（下請）とは、森林組合等の補助金申請事業体と補助事業対象の作業を請け負った場合は記入。
A23: （５） | B23: その他とは、上記事業種目以外で作業をした日数を記入。

Sheet 4号-2(林退共)
B1: 別記第４号様式の２
B2: ２ 令和7年度 | C2: 退職金共済制度従事者別年間就業計画表（助成対象者のみ） | L2: 年齢算出基準日 | M2: 45992
I3: 【 林退共 】
B4: 氏名 | C4: 生年月日 | D4: 年齢 | E4: 公共工事請負 | F4: 主伐 | G4: 造林補助金等事業（申請者） | H4: 公共工事・造林補助金等事業(下請) | I4: その他 | J4: 計
E5: 日 | F5: 日 | G5: 日 | H5: 日 | I5: 日 | J5: 日
A6: 1 | B6: い | C6: 37047 | D6: =IF(ISBLANK(C6),"",DATEDIF(C6,$M$2,"y")) -> 24 | E6: 30 | H6: 10 | I6: 25 | J6: =SUM(E6:I6) -> 65 | K6: =IF(ISBLANK(B6),"",1) -> 1
A7: 2 | B7: う | C7: 29403 | D7: =IF(ISBLANK(C7),"",DATEDIF(C7,$M$2,"y")) -> 45 | F7: 65 | G7: 25 | H7: 15 | J7: =SUM(E7:I7) -> 105 | K7: =IF(ISBLANK(B7),"",1) -> 1
A8: 3 | B8: え | C8: 26590 | D8: =IF(ISBLANK(C8),"",DATEDIF(C8,$M$2,"y")) -> 53 | E8: 25 | H8: 10 | J8: =SUM(E8:I8) -> 35 | K8: =IF(ISBLANK(B8),"",1) -> 1
A9: 4 | D9: =IF(ISBLANK(C9),"",DATEDIF(C9,$M$2,"y")) | J9: =SUM(E9:I9) -> 0 | K9: =IF(ISBLANK(B9),"",1)
A10: 5 | D10: =IF(ISBLANK(C10),"",DATEDIF(C10,$M$2,"y")) | J10: =SUM(E10:I10) -> 0 | K10: =IF(ISBLANK(B10),"",1)
A11: 6 | D11: =IF(ISBLANK(C11),"",DATEDIF(C11,$M$2,"y")) | J11: =SUM(E11:I11) -> 0 | K11: =IF(ISBLANK(B11),"",1)
A12: 7 | D12: =IF(ISBLANK(C12),"",DATEDIF(C12,$M$2,"y")) | J12: =SUM(E12:I12) -> 0 | K12: =IF(ISBLANK(B12),"",1)
A13: 8 | D13: =IF(ISBLANK(C13),"",DATEDIF(C13,$M$2,"y")) | J13: =SUM(E13:I13) -> 0 | K13: =IF(ISBLANK(B13),"",1)
A14: 9 | D14: =IF(ISBLANK(C14),"",DATEDIF(C14,$M$2,"y")) | J14: =SUM(E14:I14) -> 0 | K14: =IF(ISBLANK(B14),"",1)
A15: 10 | D15: =IF(ISBLANK(C15),"",DATEDIF(C15,$M$2,"y")) | J15: =SUM(E15:I15) -> 0 | K15: =IF(ISBLANK(B15),"",1)
A16: 11 | D16: =IF(ISBLANK(C16),"",DATEDIF(C16,$M$2,"y")) | J16: =SUM(E16:I16) -> 0 | K16: =IF(ISBLANK(B16),"",1)
A17: 12 | D17: =IF(ISBLANK(C17),"",DATEDIF(C17,$M$2,"y")) | J17: =SUM(E17:I17) -> 0 | K17: =IF(ISBLANK(B17),"",1)
A18: 13 | D18: =IF(ISBLANK(C18),"",DATEDIF(C18,$M$2,"y")) | J18: =SUM(E18:I18) -> 0 | K18: =IF(ISBLANK(B18),"",1)
A19: 14 | D19: =IF(ISBLANK(C19),"",DATEDIF(C19,$M$2,"y")) | J19: =SUM(E19:I19) -> 0 | K19: =IF(ISBLANK(B19),"",1)
A20: 15 | D20: =IF(ISBLANK(C20),"",DATEDIF(C20,$M$2,"y")) | J20: =SUM(E20:I20) -> 0 | K20: =IF(ISBLANK(B20),"",1)
... A30: 25 | D30: =IF(ISBLANK(C30),"",DATEDIF(C30,$M$2,"y")) | J30: =SUM(E30:I30) -> 0 | K30: =IF(ISBLANK(B30),"",1)
B31: 計 | C31: =K31 -> 3 | D31: 人 | E31: =SUM(E6:E30) -> 55 | F31: =SUM(F6:F30) -> 65 | G31: =SUM(G6:G30) -> 25 | H31: =SUM(H6:H30) -> 35 | I31: =SUM(I6:I30) -> 25 | J31: =SUM(E31:I31) -> 205 | K31: =SUM(K6:K30) -> 3
B32: 注1：林退共と中退共加入の従事者は、別葉で記載してください。
B33: 注2：記録に基づき事業種目ごとに日数を記載する。
B34: 注3：行が足りない場合は、挿入して行を増やしてください。

Sheet 4号-2(中退共)
B1: 別記第４号様式の２
B2: ='4号-2(林退共)'!B2 -> ２ 令和7年度 | C2: 退職金共済制度従事者別年間就業計画表（助成対象者のみ） | L2: 年齢算出基準日 | M2: 45992
I3: 【 中退共 】
B4: 氏名 | C4: 生年月日 | D4: 年齢 | E4: 公共工事請負 | F4: 主伐 | G4: 造林補助金等事業（申請者） | H4: 公共工事・造林補助金等事業(下請) | I4: その他 | J4: 計
E5: 日 | F5: 日 | G5: 日 | H5: 日 | I5: 日 | J5: 日
A6: 1 | B6: あ | C6: 29985 | D6: =IF(ISBLANK(C6),"",DATEDIF(C6,$M$2,"y")) -> 43 | E6: 10 | G6: 40 | H6: 20 | I6: 40 | J6: =SUM(E6:I6) -> 110 | K6: =IF(ISBLANK(B6),"",1) -> 1
A7: 2 | B7: お | C7: 33947 | D7: =IF(ISBLANK(C7),"",DATEDIF(C7,$M$2,"y")) -> 32 | F7: 33 | G7: 27 | H7: 15 | I7: 5 | J7: =SUM(E7:I7) -> 80 | K7: =IF(ISBLANK(B7),"",1) -> 1
A8: 3 | D8: =IF(ISBLANK(C8),"",DATEDIF(C8,$M$2,"y")) | J8: =SUM(E8:I8) -> 0 | K8: =IF(ISBLANK(B8),"",1)
A9: 4 | D9: =IF(ISBLANK(C9),"",DATEDIF(C9,$M$2,"y")) | J9: =SUM(E9:I9) -> 0 | K9: =IF(ISBLANK(B9),"",1)
A10: 5 | D10: =IF(ISBLANK(C10),"",DATEDIF(C10,$M$2,"y")) | J10: =SUM(E10:I10) -> 0 | K10: =IF(ISBLANK(B10),"",1)
A11: 6 | D11: =IF(ISBLANK(C11),"",DATEDIF(C11,$M$2,"y")) | J11: =SUM(E11:I11) -> 0 | K11: =IF(ISBLANK(B11),"",1)
A12: 7 | D12: =IF(ISBLANK(C12),"",DATEDIF(C12,$M$2,"y")) | J12: =SUM(E12:I12) -> 0 | K12: =IF(ISBLANK(B12),"",1)
A13: 8 | D13: =IF(ISBLANK(C13),"",DATEDIF(C13,$M$2,"y")) | J13: =SUM(E13:I13) -> 0 | K13: =IF(ISBLANK(B13),"",1)
A14: 9 | D14: =IF(ISBLANK(C14),"",DATEDIF(C14,$M$2,"y")) | J14: =SUM(E14:I14) -> 0 | K14: =IF(ISBLANK(B14),"",1)
A15: 10 | D15: =IF(ISBLANK(C15),"",DATEDIF(C15,$M$2,"y")) | J15: =SUM(E15:I15) -> 0 | K15: =IF(ISBLANK(B15),"",1)
A16: 11 | D16: =IF(ISBLANK(C16),"",DATEDIF(C16,$M$2,"y")) | J16: =SUM(E16:I16) -> 0 | K16: =IF(ISBLANK(B16),"",1)
A17: 12 | D17: =IF(ISBLANK(C17),"",DATEDIF(C17,$M$2,"y")) | J17: =SUM(E17:I17) -> 0 | K17: =IF(ISBLANK(B17),"",1)
A18: 13 | D18: =IF(ISBLANK(C18),"",DATEDIF(C18,$M$2,"y")) | J18: =SUM(E18:I18) -> 0 | K18: =IF(ISBLANK(B18),"",1)
A19: 14 | D19: =IF(ISBLANK(C19),"",DATEDIF(C19,$M$2,"y")) | J19: =SUM(E19:I19) -> 0 | K19: =IF(ISBLANK(B19),"",1)
... A30: 25 | D30: =IF(ISBLANK(C30),"",DATEDIF(C30,$M$2,"y")) | J30: =SUM(E30:I30) -> 0 | K30: =IF(ISBLANK(B30),"",1)
B31: 計 | C31: =K31 -> 2 | D31: 人 | E31: =SUM(E6:E30) -> 10 | F31: =SUM(F6:F30) -> 33 | G31: =SUM(G6:G30) -> 67 | H31: =SUM(H6:H30) -> 35 | I31: =SUM(I6:I30) -> 45 | J31: =SUM(E31:I31) -> 190 | K31: =SUM(K6:K30) -> 2
B32: 注1：林退共と中退共加入の従事者は、別葉で記載してください。
B33: 注2：記録に基づき事業種目ごとに日数を記載する。
B34: 注3：行が足りない場合は、挿入して行を増やしてください。

Sheet 4号-3
A1: 別記第４号様式の３
A2: 令和7年度 | C2: 社会保険加入促進事業計画書
A3: １ 事業計画総括表
A4: 保険等の種類 | B4: 事業種 | C4: 掛金総額 | D4: 事業主負担額 | E4: 摘 要
A5: 雇用保険 | B5: 公共工事請負 | C5: ='4号-4(対象)'!E$32+'4号-4(対象)'!AB$32 -> 45602.398 | D5: ='4号-4(対象)'!$E$32 -> 30401.598
B6: 主伐 | C6: ='4号-4(対象)'!F$32+'4号-4(対象)'!AC$32 -> 37135.714 | D6: ='4号-4(対象)'!$F$32 -> 24757.143
B7: 造林補助金等事業 （申請者） | C7: ='4号-4(対象)'!G$32+'4号-4(対象)'!AD$32 -> 33812.338 | D7: ='4号-4(対象)'!$G$32 -> 22541.558
B8: 公共工事・造林補助金等 事業（下請） | C8: ='4号-4(対象)'!H$32+'4号-4(対象)'!AE$32 -> 34262.488 | D8: ='4号-4(対象)'!$H$32 -> 22841.658
B9: その他 | C9: ='4号-4(対象)'!I$32+'4号-4(対象)'!AF$32 -> 29187.063 | D9: ='4号-4(対象)'!$I$32 -> 19458.042
B10: 計 | C10: =SUM(C5:C9) -> 180000 | D10: =SUM(D5:D9) -> 120000 | F10: =IF(ISERROR(D10/C10),"",(D10/C10)) -> 0.66666667
A11: 健康保険 | B11: 公共工事請負 | C11: ='4号-4(対象)'!K$32+'4号-4(対象)'!AH$32 -> 45602.398 | D11: ='4号-4(対象)'!$K$32 -> 30401.598 | F11: =IF(ISERROR(E11/D11),"",(E11/D11)) -> 0
B12: 主伐 | C12: ='4号-4(対象)'!L$32+'4号-4(対象)'!AI$32 -> 37135.714 | D12: ='4号-4(対象)'!$L$32 -> 24757.143
B13: 造林補助金等事業 （申請者） | C13: ='4号-4(対象)'!M$32+'4号-4(対象)'!AJ$32 -> 33812.338 | D13: ='4号-4(対象)'!$M$32 -> 22541.558
B14: 公共工事・造林補助金等 事業（下請） | C14: ='4号-4(対象)'!N$32+'4号-4(対象)'!AK$32 -> 34262.488 | D14: ='4号-4(対象)'!$N$32 -> 22841.658
B15: その他 | C15: ='4号-4(対象)'!O$32+'4号-4(対象)'!AL$32 -> 29187.063 | D15: ='4号-4(対象)'!$O$32 -> 19458.042
B16: 計 | C16: =SUM(C11:C15) -> 180000 | D16: =SUM(D11:D15) -> 120000 | F16: =IF(ISERROR(D16/C16),"",(D16/C16)) -> 0.66666667
A17: 厚生年金 | B17: 公共工事請負 | C17: ='4号-4(対象)'!Q$32+'4号-4(対象)'!AN$32 -> 45602.398 | D17: ='4号-4(対象)'!$Q$32 -> 30401.598 | F17: =IF(ISERROR(E17/D17),"",(E17/D17)) -> 0
B18: 主伐 | C18: ='4号-4(対象)'!R$32+'4号-4(対象)'!AO$32 -> 37135.714 | D18: ='4号-4(対象)'!$R$32 -> 24757.143
B19: 造林補助金等事業 （申請者） | C19: ='4号-4(対象)'!S$32+'4号-4(対象)'!AP$32 -> 33812.338 | D19: ='4号-4(対象)'!$S$32 -> 22541.558
B20: 公共工事・造林補助金等 事業（下請） | C20: ='4号-4(対象)'!T$32+'4号-4(対象)'!AQ$32 -> 34262.488 | D20: ='4号-4(対象)'!$T$32 -> 22841.658
B21: その他 | C21: ='4号-4(対象)'!U$32+'4号-4(対象)'!AR$32 -> 29187.063 | D21: ='4号-4(対象)'!$U$32 -> 19458.042
B22: 計 | C22: =SUM(C17:C21) -> 180000 | D22: =SUM(D17:D21) -> 120000 | F22: =IF(ISERROR(D22/C22),"",(D22/C22)) -> 0.66666667
A23: 合計 | C23: =SUM(C10,C16,C22) -> 540000 | D23: =SUM(D10,D16,D22) -> 360000 | F23: =IF(ISERROR(D23/C23),"",(D23/C23)) -> 0.66666667
A24: 注（１） | B24: 暦年（１～１２月）の計画を計上してください。
A25: （２） | B25: 事務職、加工場勤務、トラック運送を主たる業務とする者は、当基金の助成対象となりません。
A26: （３） | B26: 公共工事請負、造林補助金等事業は、別紙参照のこと。
A27: （４） | B27: 造林補助金等事業（申請者）とは、造林補助金等事業の申請者が行った場合、公共工事・造林補助金等事業（下請）とは、森林組合等の補助金申請事業体と補助事業対象の作業を請け負った場合は記入。
A28: （５） | B28: その他とは、上記事業種目以外で作業をした日数を記入。

Sheet 4号-4(対象)
B1: 別記第４号様式の４ | Y1: 別記第４号様式の４
B2: ２ 令和7年度 | E2: 従事者別社会保険料負担計画表（助成対象者） | Y2: ２ 令和7年度 | AB2: 従事者別社会保険料負担計画表（助成対象者） | AU2: 年齢算出基準日 | AV2: 45992
Q3: 単位：円 | AN3: 単位：円
B4: 氏名 | C4: 生年月日 | D4: 年齢 | E4: 事業主の負担額 | Y4: 氏名 | Z4: 生年月日 | AA4: 年齢 | AB4: 本人の負担額
E5: 雇用保険 | K5: 健康保険 | Q5: 厚生年金 | W5: 合計 | AB5: 雇用保険 | AH5: 健康保険 | AN5: 厚生年金 | AT5: 合計
E6: 公共工事 請負 | F6: 主伐 | G6: 造林補助金等 事業(申請者) | H6: 公共・補助金（下請） | I6: その他 | J6: 小計 | K6: 公共工事 請負 | L6: 主伐 | M6: 造林補助金等 事業(申請者) | N6: 公共・補助金（下請） | O6: その他 | P6: 小計 | Q6: 公共工事 請負 | R6: 主伐 | S6: 造林補助金等 事業(申請者) | T6: 公共・補助金（下請） | U6: その他 | V6: 小計 | AB6: 公共工事 請負 | AC6: 主伐 | AD6: 造林補助金等 事業(申請者) | AE6: 公共・補助金（下請） | AF6: その他 | AG6: 小計 | AH6: 公共工事 請負 | AI6: 主伐 | AJ6: 造林補助金等 事業(申請者) | AK6: 公共・補助金（下請） | AL6: その他 | AM6: 小計 | AN6: 公共工事 請負 | AO6: 主伐 | AP6: 造林補助金等 事業(申請者) | AQ6: 公共・補助金（下請） | AR6: その他 | AS6: 小計
A7: 1 | B7: =+'4号-3,4参考（事業割合）'!B6 -> あ | C7: =+'4号-3,4参考（事業割合）'!C6 -> 29985 | D7: ='4号-3,4参考（事業割合）'!D6 -> 43 | E7: ='4号-3,4参考（事業割合）'!E6/'4号-3,4参考（事業割合）'!$J$6*'10号-6'!$S$5 -> 2181.8182 | F7: ='4号-3,4参考（事業割合）'!F6/'4号-3,4参考（事業割合）'!$J$6*'10号-6'!$S$5 -> 0 | G7: ='4号-3,4参考（事業割合）'!G6/'4号-3,4参考（事業割合）'!$J$6*'10号-6'!$S$5 -> 8727.2727 | H7: ='4号-3,4参考（事業割合）'!H6/'4号-3,4参考（事業割合）'!$J$6*'10号-6'!$S$5 -> 4363.6364 | I7: ='4号-3,4参考（事業割合）'!I6/'4号-3,4参考（事業割合）'!$J$6*'10号-6'!$S$5 -> 8727.2727 | J7: =IFERROR(SUM(E7:I7), "") -> 24000 | K7: ='4号-3,4参考（事業割合）'!E6/'4号-3,4参考（事業割合）'!$J$6*'10号-6'!$S$7 -> 2181.8182 | L7: ='4号-3,4参考（事業割合）'!F6/'4号-3,4参考（事業割合）'!$J$6*'10号-6'!$S$7 -> 0 | M7: ='4号-3,4参考（事業割合）'!G6/'4号-3,4参考（事業割合）'!$J$6*'10号-6'!$S$7 -> 8727.2727 | N7: ='4号-3,4参考（事業割合）'!H6/'4号-3,4参考（事業割合）'!$J$6*'10号-6'!$S$7 -> 4363.6364 | O7: ='4号-3,4参考（事業割合）'!I6/'4号-3,4参考（事業割合）'!$J$6*'10号-6'!$S$7 -> 8727.2727 | P7: =IFERROR(SUM(K7:O7), "") -> 24000 | Q7: =+'4号-3,4参考（事業割合）'!E6/'4号-3,4参考（事業割合）'!$J$6*'10号-6'!$S$9 -> 2181.8182 | R7: =+'4号-3,4参考（事業割合）'!F6/'4号-3,4参考（事業割合）'!$J$6*'10号-6'!$S$9 -> 0 | S7: =+'4号-3,4参考（事業割合）'!G6/'4号-3,4参考（事業割合）'!$J$6*'10号-6'!$S$9 -> 8727.2727 | T7: =+'4号-3,4参考（事業割合）'!H6/'4号-3,4参考（事業割合）'!$J$6*'10号-6'!$S$9 -> 4363.6364 | U7: =+'4号-3,4参考（事業割合）'!I6/'4号-3,4参考（事業割合）'!$J$6*'10号-6'!$S$9 -> 8727.2727 | V7: =IFERROR(SUM(Q7:U7), "") -> 24000 | W7: =SUM(V7,P7,J7) -> 72000 | Y7: =+B7 -> あ | Z7: =+C7 -> 29985 | AA7: =+D7 -> 43 | AB7: ='4号-3,4参考（事業割合）'!E6/'4号-3,4参考（事業割合）'!$J6*'10号-6'!$S$4 -> 1090.9091 | AC7: ='4号-3,4参考（事業割合）'!F6/'4号-3,4参考（事業割合）'!$J6*'10号-6'!$S$4 -> 0 | AD7: ='4号-3,4参考（事業割合）'!G6/'4号-3,4参考（事業割合）'!$J6*'10号-6'!$S$4 -> 4363.6364 | AE7: ='4号-3,4参考（事業割合）'!H6/'4号-3,4参考（事業割合）'!$J6*'10号-6'!$S$4 -> 2181.8182 | AF7: ='4号-3,4参考（事業割合）'!I6/'4号-3,4参考（事業割合）'!$J6*'10号-6'!$S$4 -> 4363.6364 | AG7: =IFERROR(SUM(AB7:AF7), "") -> 12000 | AH7: ='4号-3,4参考（事業割合）'!E6/'4号-3,4参考（事業割合）'!$J6*'10号-6'!$S$6 -> 1090.9091 | AI7: ='4号-3,4参考（事業割合）'!F6/'4号-3,4参考（事業割合）'!$J6*'10号-6'!$S$6 -> 0 | AJ7: ='4号-3,4参考（事業割合）'!G6/'4号-3,4参考（事業割合）'!$J6*'10号-6'!$S$6 -> 4363.6364 | AK7: ='4号-3,4参考（事業割合）'!H6/'4号-3,4参考（事業割合）'!$J6*'10号-6'!$S$6 -> 2181.8182 | AL7: ='4号-3,4参考（事業割合）'!I6/'4号-3,4参考（事業割合）'!$J6*'10号-6'!$S$6 -> 4363.6364 | AM7: =IFERROR(SUM(AH7:AL7), "") -> 12000 | AN7: =+'4号-3,4参考（事業割合）'!E6/'4号-3,4参考（事業割合）'!$J6*'10号-6'!$S$8 -> 1090.9091 | AO7: =+'4号-3,4参考（事業割合）'!F6/'4号-3,4参考（事業割合）'!$J6*'10号-6'!$S$8 -> 0 | AP7: =+'4号-3,4参考（事業割合）'!G6/'4号-3,4参考（事業割合）'!$J6*'10号-6'!$S$8 -> 4363.6364 | AQ7: =+'4号-3,4参考（事業割合）'!H6/'4号-3,4参考（事業割合）'!$J6*'10号-6'!$S$8 -> 2181.8182 | AR7: =+'4号-3,4参考（事業割合）'!I6/'4号-3,4参考（事業割合）'!$J6*'10号-6'!$S$8 -> 4363.6364 | AS7: =IFERROR(SUM(AN7:AR7), "") -> 12000 | AT7: =SUM(AS7,AM7,AG7) -> 36000
A8: 2 | B8: =+'4号-3,4参考（事業割合）'!B7 -> い | C8: =+'4号-3,4参考（事業割合）'!C7 -> 37047 | D8: ='4号-3,4参考（事業割合）'!D7 -> 24 | E8: ='4号-3,4参考（事業割合）'!E7/'4号-3,4参考（事業割合）'!$J7*'10号-6'!$S$13 -> 11076.923 | F8: ='4号-3,4参考（事業割合）'!F7/'4号-3,4参考（事業割合）'!$J7*'10号-6'!$S$13 -> 0 | G8: ='4号-3,4参考（事業割合）'!G7/'4号-3,4参考（事業割合）'!$J7*'10号-6'!$S$13 -> 0 | H8: ='4号-3,4参考（事業割合）'!H7/'4号-3,4参考（事業割合）'!$J7*'10号-6'!$S$13 -> 3692.3077 | I8: ='4号-3,4参考（事業割合）'!I7/'4号-3,4参考（事業割合）'!$J7*'10号-6'!$S$13 -> 9230.7692 | J8: =IFERROR(SUM(E8:I8), "") -> 24000 | K8: ='4号-3,4参考（事業割合）'!E7/'4号-3,4参考（事業割合）'!$J$7*'10号-6'!$S$15 -> 11076.923 | L8: ='4号-3,4参考（事業割合）'!F7/'4号-3,4参考（事業割合）'!$J$7*'10号-6'!$S$15 -> 0 | M8: ='4号-3,4参考（事業割合）'!G7/'4号-3,4参考（事業割合）'!$J$7*'10号-6'!$S$15 -> 0 | N8: ='4号-3,4参考（事業割合）'!H7/'4号-3,4参考（事業割合）'!$J$7*'10号-6'!$S$15 -> 3692.3077 | O8: ='4号-3,4参考（事業割合）'!I7/'4号-3,4参考（事業割合）'!$J$7*'10号-6'!$S$15 -> 9230.7692 | P8: =IFERROR(SUM(K8:O8), "") -> 24000 | Q8: =+'4号-3,4参考（事業割合）'!E7/'4号-3,4参考（事業割合）'!$J7*'10号-6'!$S$17 -> 11076.923 | R8: =+'4号-3,4参考（事業割合）'!F7/'4号-3,4参考（事業割合）'!$J7*'10号-6'!$S$17 -> 0 | S8: =+'4号-3,4参考（事業割合）'!G7/'4号-3,4参考（事業割合）'!$J7*'10号-6'!$S$17 -> 0 | T8: =+'4号-3,4参考（事業割合）'!H7/'4号-3,4参考（事業割合）'!$J7*'10号-6'!$S$17 -> 3692.3077 | U8: =+'4号-3,4参考（事業割合）'!I7/'4号-3,4参考（事業割合）'!$J7*'10号-6'!$S$17 -> 9230.7692 | V8: =IFERROR(SUM(Q8:U8), "") -> 24000 | W8: =SUM(V8,P8,J8) -> 72000 | Y8: =+B8 -> い | Z8: =+C8 -> 37047 | AA8: =+D8 -> 24 | AB8: ='4号-3,4参考（事業割合）'!E7/'4号-3,4参考（事業割合）'!$J7*'10号-6'!$S$12 -> 5538.4615 | AC8: ='4号-3,4参考（事業割合）'!F7/'4号-3,4参考（事業割合）'!$J7*'10号-6'!$S$12 -> 0 | AD8: ='4号-3,4参考（事業割合）'!G7/'4号-3,4参考（事業割合）'!$J7*'10号-6'!$S$12 -> 0 | AE8: ='4号-3,4参考（事業割合）'!H7/'4号-3,4参考（事業割合）'!$J7*'10号-6'!$S$12 -> 1846.1538 | AF8: ='4号-3,4参考（事業割合）'!I7/'4号-3,4参考（事業割合）'!$J7*'10号-6'!$S$12 -> 4615.3846 | AG8: =IFERROR(SUM(AB8:AF8), "") -> 12000 | AH8: ='4号-3,4参考（事業割合）'!E7/'4号-3,4参考（事業割合）'!$J7*'10号-6'!$S$14 -> 5538.4615 | AI8: ='4号-3,4参考（事業割合）'!F7/'4号-3,4参考（事業割合）'!$J7*'10号-6'!$S$14 -> 0 | AJ8: ='4号-3,4参考（事業割合）'!G7/'4号-3,4参考（事業割合）'!$J7*'10号-6'!$S$14 -> 0 | AK8: ='4号-3,4参考（事業割合）'!H7/'4号-3,4参考（事業割合）'!$J7*'10号-6'!$S$14 -> 1846.1538 | AL8: ='4号-3,4参考（事業割合）'!I7/'4号-3,4参考（事業割合）'!$J7*'10号-6'!$S$14 -> 4615.3846 | AM8: =IFERROR(SUM(AH8:AL8), "") -> 12000 | AN8: =+'4号-3,4参考（事業割合）'!E7/'4号-3,4参考（事業割合）'!$J7*'10号-6'!$S$16 -> 5538.4615 | AO8: =+'4号-3,4参考（事業割合）'!F7/'4号-3,4参考（事業割合）'!$J7*'10号-6'!$S$16 -> 0 | AP8: =+'4号-3,4参考（事業割合）'!G7/'4号-3,4参考（事業割合）'!$J7*'10号-6'!$S$16 -> 0 | AQ8: =+'4号-3,4参考（事業割合）'!H7/'4号-3,4参考（事業割合）'!$J7*'10号-6'!$S$16 -> 1846.1538 | AR8: =+'4号-3,4参考（事業割合）'!I7/'4号-3,4参考（事業割合）'!$J7*'10号-6'!$S$16 -> 4615.3846 | AS8: =IFERROR(SUM(AN8:AR8), "") -> 12000 | AT8: =SUM(AS8,AM8,AG8) -> 36000
A9: 3 | B9: =+'4号-3,4参考（事業割合）'!B8 -> う | C9: =+'4号-3,4参考（事業割合）'!C8 -> 29403 | D9: ='4号-3,4参考（事業割合）'!D8 -> 45 | E9: ='4号-3,4参考（事業割合）'!E8/'4号-3,4参考（事業割合）'!$J8*'10号-6'!$S$21 -> 0 | F9: ='4号-3,4参考（事業割合）'!F8/'4号-3,4参考（事業割合）'!$J8*'10号-6'!$S$21 -> 14857.143 | G9: ='4号-3,4参考（事業割合）'!G8/'4号-3,4参考（事業割合）'!$J8*'10号-6'!$S$21 -> 5714.2857 | H9: ='4号-3,4参考（事業割合）'!H8/'4号-3,4参考（事業割合）'!$J8*'10号-6'!$S$21 -> 3428.5714 | I9: ='4号-3,4参考（事業割合）'!I8/'4号-3,4参考（事業割合）'!$J8*'10号-6'!$S$21 -> 0 | J9: =IFERROR(SUM(E9:I9), "") -> 24000 | K9: ='4号-3,4参考（事業割合）'!E8/'4号-3,4参考（事業割合）'!$J$8*'10号-6'!$S$23 -> 0 | L9: ='4号-3,4参考（事業割合）'!F8/'4号-3,4参考（事業割合）'!$J$8*'10号-6'!$S$23 -> 14857.143 | M9: ='4号-3,4参考（事業割合）'!G8/'4号-3,4参考（事業割合）'!$J$8*'10号-6'!$S$23 -> 5714.2857 | N9: ='4号-3,4参考（事業割合）'!H8/'4号-3,4参考（事業割合）'!$J$8*'10号-6'!$S$23 -> 3428.5714 | O9: ='4号-3,4参考（事業割合）'!I8/'4号-3,4参考（事業割合）'!$J$8*'10号-6'!$S$23 -> 0 | P9: =IFERROR(SUM(K9:O9), "") -> 24000 | Q9: =+'4号-3,4参考（事業割合）'!E8/'4号-3,4参考（事業割合）'!$J8*'10号-6'!$S$25 -> 0 | R9: =+'4号-3,4参考（事業割合）'!F8/'4号-3,4参考（事業割合）'!$J8*'10号-6'!$S$25 -> 14857.143 | S9: =+'4号-3,4参考（事業割合）'!G8/'4号-3,4参考（事業割合）'!$J8*'10号-6'!$S$25 -> 5714.2857 | T9: =+'4号-3,4参考（事業割合）'!H8/'4号-3,4参考（事業割合）'!$J8*'10号-6'!$S$25 -> 3428.5714 | U9: =+'4号-3,4参考（事業割合）'!I8/'4号-3,4参考（事業割合）'!$J8*'10号-6'!$S$25 -> 0 | V9: =IFERROR(SUM(Q9:U9), "") -> 24000 | W9: =SUM(V9,P9,J9) -> 72000 | Y9: =+B9 -> う | Z9: =+C9 -> 29403 | AA9: =+D9 -> 45 | AB9: ='4号-3,4参考（事業割合）'!E8/'4号-3,4参考（事業割合）'!$J8*'10号-6'!$S$20 -> 0 | AC9: ='4号-3,4参考（事業割合）'!F8/'4号-3,4参考（事業割合）'!$J8*'10号-6'!$S$20 -> 7428.5714 | AD9: ='4号-3,4参考（事業割合）'!G8/'4号-3,4参考（事業割合）'!$J8*'10号-6'!$S$20 -> 2857.1429 | AE9: ='4号-3,4参考（事業割合）'!H8/'4号-3,4参考（事業割合）'!$J8*'10号-6'!$S$20 -> 1714.2857 | AF9: ='4号-3,4参考（事業割合）'!I8/'4号-3,4参考（事業割合）'!$J8*'10号-6'!$S$20 -> 0 | AG9: =IFERROR(SUM(AB9:AF9), "") -> 12000 | AH9: ='4号-3,4参考（事業割合）'!E8/'4号-3,4参考（事業割合）'!$J8*'10号-6'!$S$22 -> 0 | AI9: ='4号-3,4参考（事業割合）'!F8/'4号-3,4参考（事業割合）'!$J8*'10号-6'!$S$22 -> 7428.5714 | AJ9: ='4号-3,4参考（事業割合）'!G8/'4号-3,4参考（事業割合）'!$J8*'10号-6'!$S$22 -> 2857.1429 | AK9: ='4号-3,4参考（事業割合）'!H8/'4号-3,4参考（事業割合）'!$J8*'10号-6'!$S$22 -> 1714.2857 | AL9: ='4号-3,4参考（事業割合）'!I8/'4号-3,4参考（事業割合）'!$J8*'10号-6'!$S$22 -> 0 | AM9: =IFERROR(SUM(AH9:AL9), "") -> 12000 | AN9: =+'4号-3,4参考（事業割合）'!E8/'4号-3,4参考（事業割合）'!$J8*'10号-6'!$S$24 -> 0 | AO9: =+'4号-3,4参考（事業割合）'!F8/'4号-3,4参考（事業割合）'!$J8*'10号-6'!$S$24 -> 7428.5714 | AP9: =+'4号-3,4参考（事業割合）'!G8/'4号-3,4参考（事業割合）'!$J8*'10号-6'!$S$24 -> 2857.1429 | AQ9: =+'4号-3,4参考（事業割合）'!H8/'4号-3,4参考（事業割合）'!$J8*'10号-6'!$S$24 -> 1714.2857 | AR9: =+'4号-3,4参考（事業割合）'!I8/'4号-3,4参考（事業割合）'!$J8*'10号-6'!$S$24 -> 0 | AS9: =IFERROR(SUM(AN9:AR9), "") -> 12000 | AT9: =SUM(AS9,AM9,AG9) -> 36000
A10: 4 | B10: =+'4号-3,4参考（事業割合）'!B9 -> え | C10: =+'4号-3,4参考（事業割合）'!C9 -> 26590 | D10: ='4号-3,4参考（事業割合）'!D9 -> 53 | E10: ='4号-3,4参考（事業割合）'!E9/'4号-3,4参考（事業割合）'!$J9*'10号-6'!$S$29 -> 17142.857 | F10: ='4号-3,4参考（事業割合）'!F9/'4号-3,4参考（事業割合）'!$J9*'10号-6'!$S$29 -> 0 | G10: ='4号-3,4参考（事業割合）'!G9/'4号-3,4参考（事業割合）'!$J9*'10号-6'!$S$29 -> 0 | H10: ='4号-3,4参考（事業割合）'!H9/'4号-3,4参考（事業割合）'!$J9*'10号-6'!$S$29 -> 6857.1429 | I10: ='4号-3,4参考（事業割合）'!I9/'4号-3,4参考（事業割合）'!$J9*'10号-6'!$S$29 -> 0 | J10: =IFERROR(SUM(E10:I10), "") -> 24000 | K10: ='4号-3,4参考（事業割合）'!E9/'4号-3,4参考（事業割合）'!$J$9*'10号-6'!$S$31 -> 17142.857 | L10: ='4号-3,4参考（事業割合）'!F9/'4号-3,4参考（事業割合）'!$J$9*'10号-6'!$S$31 -> 0 | M10: ='4号-3,4参考（事業割合）'!G9/'4号-3,4参考（事業割合）'!$J$9*'10号-6'!$S$31 -> 0 | N10: ='4号-3,4参考（事業割合）'!H9/'4号-3,4参考（事業割合）'!$J$9*'10号-6'!$S$31 -> 6857.1429 | O10: ='4号-3,4参考（事業割合）'!I9/'4号-3,4参考（事業割合）'!$J$9*'10号-6'!$S$31 -> 0 | P10: =IFERROR(SUM(K10:O10), "") -> 24000 | Q10: =+'4号-3,4参考（事業割合）'!E9/'4号-3,4参考（事業割合）'!$J9*'10号-6'!$S$33 -> 17142.857 | R10: =+'4号-3,4参考（事業割合）'!F9/'4号-3,4参考（事業割合）'!$J9*'10号-6'!$S$33 -> 0 | S10: =+'4号-3,4参考（事業割合）'!G9/'4号-3,4参考（事業割合）'!$J9*'10号-6'!$S$33 -> 0 | T10: =+'4号-3,4参考（事業割合）'!H9/'4号-3,4参考（事業割合）'!$J9*'10号-6'!$S$33 -> 6857.1429 | U10: =+'4号-3,4参考（事業割合）'!I9/'4号-3,4参考（事業割合）'!$J9*'10号-6'!$S$33 -> 0 | V10: =IFERROR(SUM(Q10:U10), "") -> 24000 | W10: =SUM(V10,P10,J10) -> 72000 | Y10: =+B10 -> え | Z10: =+C10 -> 26590 | AA10: =+D10 -> 53 | AB10: ='4号-3,4参考（事業割合）'!E9/'4号-3,4参考（事業割合）'!$J9*'10号-6'!$S$28 -> 8571.4286 | AC10: ='4号-3,4参考（事業割合）'!F9/'4号-3,4参考（事業割合）'!$J9*'10号-6'!$S$28 -> 0 | AD10: ='4号-3,4参考（事業割合）'!G9/'4号-3,4参考（事業割合）'!$J9*'10号-6'!$S$28 -> 0 | AE10: ='4号-3,4参考（事業割合）'!H9/'4号-3,4参考（事業割合）'!$J9*'10号-6'!$S$28 -> 3428.5714 | AF10: ='4号-3,4参考（事業割合）'!I9/'4号-3,4参考（事業割合）'!$J9*'10号-6'!$S$28 -> 0 | AG10: =IFERROR(SUM(AB10:AF10), "") -> 12000 | AH10: ='4号-3,4参考（事業割合）'!E9/'4号-3,4参考（事業割合）'!$J9*'10号-6'!$S$30 -> 8571.4286 | AI10: ='4号-3,4参考（事業割合）'!F9/'4号-3,4参考（事業割合）'!$J9*'10号-6'!$S$30 -> 0 | AJ10: ='4号-3,4参考（事業割合）'!G9/'4号-3,4参考（事業割合）'!$J9*'10号-6'!$S$30 -> 0 | AK10: ='4号-3,4参考（事業割合）'!H9/'4号-3,4参考（事業割合）'!$J9*'10号-6'!$S$30 -> 3428.5714 | AL10: ='4号-3,4参考（事業割合）'!I9/'4号-3,4参考（事業割合）'!$J9*'10号-6'!$S$30 -> 0 | AM10: =IFERROR(SUM(AH10:AL10), "") -> 12000 | AN10: =+'4号-3,4参考（事業割合）'!E9/'4号-3,4参考（事業割合）'!$J9*'10号-6'!$S$32 -> 8571.4286 | AO10: =+'4号-3,4参考（事業割合）'!F9/'4号-3,4参考（事業割合）'!$J9*'10号-6'!$S$32 -> 0 | AP10: =+'4号-3,4参考（事業割合）'!G9/'4号-3,4参考（事業割合）'!$J9*'10号-6'!$S$32 -> 0 | AQ10: =+'4号-3,4参考（事業割合）'!H9/'4号-3,4参考（事業割合）'!$J9*'10号-6'!$S$32 -> 3428.5714 | AR10: =+'4号-3,4参考（事業割合）'!I9/'4号-3,4参考（事業割合）'!$J9*'10号-6'!$S$32 -> 0 | AS10: =IFERROR(SUM(AN10:AR10), "") -> 12000 | AT10: =SUM(AS10,AM10,AG10) -> 36000
A11: 5 | B11: =+'4号-3,4参考（事業割合）'!B10 -> お | C11: =+'4号-3,4参考（事業割合）'!C10 -> 33947 | D11: ='4号-3,4参考（事業割合）'!D10 -> 32 | E11: ='4号-3,4参考（事業割合）'!E10/'4号-3,4参考（事業割合）'!$J10*'10号-6'!$S$37 -> 0 | F11: ='4号-3,4参考（事業割合）'!F10/'4号-3,4参考（事業割合）'!$J10*'10号-6'!$S$37 -> 9900 | G11: ='4号-3,4参考（事業割合）'!G10/'4号-3,4参考（事業割合）'!$J10*'10号-6'!$S$37 -> 8100 | H11: ='4号-3,4参考（事業割合）'!H10/'4号-3,4参考（事業割合）'!$J10*'10号-6'!$S$37 -> 4500 | I11: ='4号-3,4参考（事業割合）'!I10/'4号-3,4参考（事業割合）'!$J10*'10号-6'!$S$37 -> 1500 | J11: =IFERROR(SUM(E11:I11), "") -> 24000 | K11: ='4号-3,4参考（事業割合）'!E10/'4号-3,4参考（事業割合）'!$J$10*'10号-6'!$S$39 -> 0 | L11: ='4号-3,4参考（事業割合）'!F10/'4号-3,4参考（事業割合）'!$J$10*'10号-6'!$S$39 -> 9900 | M11: ='4号-3,4参考（事業割合）'!G10/'4号-3,4参考（事業割合）'!$J$10*'10号-6'!$S$39 -> 8100 | N11: ='4号-3,4参考（事業割合）'!H10/'4号-3,4参考（事業割合）'!$J$10*'10号-6'!$S$39 -> 4500 | O11: ='4号-3,4参考（事業割合）'!I10/'4号-3,4参考（事業割合）'!$J$10*'10号-6'!$S$39 -> 1500 | P11: =IFERROR(SUM(K11:O11), "") -> 24000 | Q11: =+'4号-3,4参考（事業割合）'!E10/'4号-3,4参考（事業割合）'!$J10*'10号-6'!$S$41 -> 0 | R11: =+'4号-3,4参考（事業割合）'!F10/'4号-3,4参考（事業割合）'!$J10*'10号-6'!$S$41 -> 9900 | S11: =+'4号-3,4参考（事業割合）'!G10/'4号-3,4参考（事業割合）'!$J10*'10号-6'!$S$41 -> 8100 | T11: =+'4号-3,4参考（事業割合）'!H10/'4号-3,4参考（事業割合）'!$J10*'10号-6'!$S$41 -> 4500 | U11: =+'4号-3,4参考（事業割合）'!I10/'4号-3,4参考（事業割合）'!$J10*'10号-6'!$S$41 -> 1500 | V11: =IFERROR(SUM(Q11:U11), "") -> 24000 | W11: =SUM(V11,P11,J11) -> 72000 | Y11: =+B11 -> お | Z11: =+C11 -> 33947 | AA11: =+D11 -> 32 | AB11: ='4号-3,4参考（事業割合）'!E10/'4号-3,4参考（事業割合）'!$J10*'10号-6'!$S$36 -> 0 | AC11: ='4号-3,4参考（事業割合）'!F10/'4号-3,4参考（事業割合）'!$J10*'10号-6'!$S$36 -> 4950 | AD11: ='4号-3,4参考（事業割合）'!G10/'4号-3,4参考（事業割合）'!$J10*'10号-6'!$S$36 -> 4050 | AE11: ='4号-3,4参考（事業割合）'!H10/'4号-3,4参考（事業割合）'!$J10*'10号-6'!$S$36 -> 2250 | AF11: ='4号-3,4参考（事業割合）'!I10/'4号-3,4参考（事業割合）'!$J10*'10号-6'!$S$36 -> 750 | AG11: =IFERROR(SUM(AB11:AF11), "") -> 12000 | AH11: ='4号-3,4参考（事業割合）'!E10/'4号-3,4参考（事業割合）'!$J10*'10号-6'!$S$38 -> 0 | AI11: ='4号-3,4参考（事業割合）'!F10/'4号-3,4参考（事業割合）'!$J10*'10号-6'!$S$38 -> 4950 | AJ11: ='4号-3,4参考（事業割合）'!G10/'4号-3,4参考（事業割合）'!$J10*'10号-6'!$S$38 -> 4050 | AK11: ='4号-3,4参考（事業割合）'!H10/'4号-3,4参考（事業割合）'!$J10*'10号-6'!$S$38 -> 2250 | AL11: ='4号-3,4参考（事業割合）'!I10/'4号-3,4参考（事業割合）'!$J10*'10号-6'!$S$38 -> 750 | AM11: =IFERROR(SUM(AH11:AL11), "") -> 12000 | AN11: =+'4号-3,4参考（事業割合）'!E10/'4号-3,4参考（事業割合）'!$J10*'10号-6'!$S$40 -> 0 | AO11: =+'4号-3,4参考（事業割合）'!F10/'4号-3,4参考（事業割合）'!$J10*'10号-6'!$S$40 -> 4950 | AP11: =+'4号-3,4参考（事業割合）'!G10/'4号-3,4参考（事業割合）'!$J10*'10号-6'!$S$40 -> 4050 | AQ11: =+'4号-3,4参考（事業割合）'!H10/'4号-3,4参考（事業割合）'!$J10*'10号-6'!$S$40 -> 2250 | AR11: =+'4号-3,4参考（事業割合）'!I10/'4号-3,4参考（事業割合）'!$J10*'10号-6'!$S$40 -> 750 | AS11: =IFERROR(SUM(AN11:AR11), "") -> 12000 | AT11: =SUM(AS11,AM11,AG11) -> 36000
A12: 6 | B12: =+'4号-3,4参考（事業割合）'!B11 -> 0 | C12: =+'4号-3,4参考（事業割合）'!C11 -> 0 | D12: ='4号-3,4参考（事業割合）'!D11 | E12: ='4号-3,4参考（事業割合）'!E11/'4号-3,4参考（事業割合）'!$J11*'10号-6'!$S$56 -> #DIV/0! | F12: ='4号-3,4参考（事業割合）'!F11/'4号-3,4参考（事業割合）'!$J11*'10号-6'!$S$56 -> #DIV/0! | G12: ='4号-3,4参考（事業割合）'!G11/'4号-3,4参考（事業割合）'!$J11*'10号-6'!$S$56 -> #DIV/0! | H12: ='4号-3,4参考（事業割合）'!H11/'4号-3,4参考（事業割合）'!$J11*'10号-6'!$S$56 -> #DIV/0! | I12: ='4号-3,4参考（事業割合）'!I11/'4号-3,4参考（事業割合）'!$J11*'10号-6'!$S$56 -> #DIV/0! | J12: =IFERROR(SUM(E12:I12), "") | K12: ='4号-3,4参考（事業割合）'!E11/'4号-3,4参考（事業割合）'!$J$11*'10号-6'!$S$58 -> #DIV/0! | L12: ='4号-3,4参考（事業割合）'!F11/'4号-3,4参考（事業割合）'!$J$11*'10号-6'!$S$58 -> #DIV/0! | M12: ='4号-3,4参考（事業割合）'!G11/'4号-3,4参考（事業割合）'!$J$11*'10号-6'!$S$58 -> #DIV/0! | N12: ='4号-3,4参考（事業割合）'!H11/'4号-3,4参考（事業割合）'!$J$11*'10号-6'!$S$58 -> #DIV/0! | O12: ='4号-3,4参考（事業割合）'!I11/'4号-3,4参考（事業割合）'!$J$11*'10号-6'!$S$58 -> #DIV/0! | P12: =IFERROR(SUM(K12:O12), "") | Q12: =+'4号-3,4参考（事業割合）'!E11/'4号-3,4参考（事業割合）'!$J11*'10号-6'!$S$60 -> #DIV/0! | R12: =+'4号-3,4参考（事業割合）'!F11/'4号-3,4参考（事業割合）'!$J11*'10号-6'!$S$60 -> #DIV/0! | S12: =+'4号-3,4参考（事業割合）'!G11/'4号-3,4参考（事業割合）'!$J11*'10号-6'!$S$60 -> #DIV/0! | T12: =+'4号-3,4参考（事業割合）'!H11/'4号-3,4参考（事業割合）'!$J11*'10号-6'!$S$60 -> #DIV/0! | U12: =+'4号-3,4参考（事業割合）'!I11/'4号-3,4参考（事業割合）'!$J11*'10号-6'!$S$60 -> #DIV/0! | V12: =IFERROR(SUM(Q12:U12), "") | W12: =SUM(V12,P12,J12) -> 0 | Y12: =+B12 -> 0 | Z12: =+C12 -> 0 | AA12: =+D12 | AB12: ='4号-3,4参考（事業割合）'!E11/'4号-3,4参考（事業割合）'!$J11*'10号-6'!$S$55 -> #DIV/0! | AC12: ='4号-3,4参考（事業割合）'!F11/'4号-3,4参考（事業割合）'!$J11*'10号-6'!$S$55 -> #DIV/0! | AD12: ='4号-3,4参考（事業割合）'!G11/'4号-3,4参考（事業割合）'!$J11*'10号-6'!$S$55 -> #DIV/0! | AE12: ='4号-3,4参考（事業割合）'!H11/'4号-3,4参考（事業割合）'!$J11*'10号-6'!$S$55 -> #DIV/0! | AF12: ='4号-3,4参考（事業割合）'!I11/'4号-3,4参考（事業割合）'!$J11*'10号-6'!$S$55 -> #DIV/0! | AG12: =IFERROR(SUM(AB12:AF12), "") | AH12: ='4号-3,4参考（事業割合）'!E11/'4号-3,4参考（事業割合）'!$J11*'10号-6'!$S$57 -> #DIV/0! | AI12: ='4号-3,4参考（事業割合）'!F11/'4号-3,4参考（事業割合）'!$J11*'10号-6'!$S$57 -> #DIV/0! | AJ12: ='4号-3,4参考（事業割合）'!G11/'4号-3,4参考（事業割合）'!$J11*'10号-6'!$S$57 -> #DIV/0! | AK12: ='4号-3,4参考（事業割合）'!H11/'4号-3,4参考（事業割合）'!$J11*'10号-6'!$S$57 -> #DIV/0! | AL12: ='4号-3,4参考（事業割合）'!I11/'4号-3,4参考（事業割合）'!$J11*'10号-6'!$S$57 -> #DIV/0! | AM12: =IFERROR(SUM(AH12:AL12), "") | AN12: =+'4号-3,4参考（事業割合）'!E11/'4号-3,4参考（事業割合）'!$J11*'10号-6'!$S$59 -> #DIV/0! | AO12: =+'4号-3,4参考（事業割合）'!F11/'4号-3,4参考（事業割合）'!$J11*'10号-6'!$S$59 -> #DIV/0! | AP12: =+'4号-3,4参考（事業割合）'!G11/'4号-3,4参考（事業割合）'!$J11*'10号-6'!$S$59 -> #DIV/0! | AQ12: =+'4号-3,4参考（事業割合）'!H11/'4号-3,4参考（事業割合）'!$J11*'10号-6'!$S$59 -> #DIV/0! | AR12: =+'4号-3,4参考（事業割合）'!I11/'4号-3,4参考（事業割合）'!$J11*'10号-6'!$S$59 -> #DIV/0! | AS12: =IFERROR(SUM(AN12:AR12), "") | AT12: =SUM(AS12,AM12,AG12) -> 0
A13: 7 | B13: =+'4号-3,4参考（事業割合）'!B12 -> 0 | C13: =+'4号-3,4参考（事業割合）'!C12 -> 0 | D13: ='4号-3,4参考（事業割合）'!D12 | E13: ='4号-3,4参考（事業割合）'!E12/'4号-3,4参考（事業割合）'!$J12*'10号-6'!$S$64 -> #DIV/0! | F13: ='4号-3,4参考（事業割合）'!F12/'4号-3,4参考（事業割合）'!$J12*'10号-6'!$S$64 -> #DIV/0! | G13: ='4号-3,4参考（事業割合）'!G12/'4号-3,4参考（事業割合）'!$J12*'10号-6'!$S$64 -> #DIV/0! | H13: ='4号-3,4参考（事業割合）'!H12/'4号-3,4参考（事業割合）'!$J12*'10号-6'!$S$64 -> #DIV/0! | I13: ='4号-3,4参考（事業割合）'!I12/'4号-3,4参考（事業割合）'!$J12*'10号-6'!$S$64 -> #DIV/0! | J13: =IFERROR(SUM(E13:I13), "") | K13: ='4号-3,4参考（事業割合）'!E12/'4号-3,4参考（事業割合）'!$J$12*'10号-6'!$S$66 -> #DIV/0! | L13: ='4号-3,4参考（事業割合）'!F12/'4号-3,4参考（事業割合）'!$J$12*'10号-6'!$S$66 -> #DIV/0! | M13: ='4号-3,4参考（事業割合）'!G12/'4号-3,4参考（事業割合）'!$J$12*'10号-6'!$S$66 -> #DIV/0! | N13: ='4号-3,4参考（事業割合）'!H12/'4号-3,4参考（事業割合）'!$J$12*'10号-6'!$S$66 -> #DIV/0! | O13: ='4号-3,4参考（事業割合）'!I12/'4号-3,4参考（事業割合）'!$J$12*'10号-6'!$S$66 -> #DIV/0! | P13: =IFERROR(SUM(K13:O13), "") | Q13: =+'4号-3,4参考（事業割合）'!E12/'4号-3,4参考（事業割合）'!$J12*'10号-6'!$S$68 -> #DIV/0! | R13: =+'4号-3,4参考（事業割合）'!F12/'4号-3,4参考（事業割合）'!$J12*'10号-6'!$S$68 -> #DIV/0! | S13: =+'4号-3,4参考（事業割合）'!G12/'4号-3,4参考（事業割合）'!$J12*'10号-6'!$S$68 -> #DIV/0! | T13: =+'4号-3,4参考（事業割合）'!H12/'4号-3,4参考（事業割合）'!$J12*'10号-6'!$S$68 -> #DIV/0! | U13: =+'4号-3,4参考（事業割合）'!I12/'4号-3,4参考（事業割合）'!$J12*'10号-6'!$S$68 -> #DIV/0! | V13: =IFERROR(SUM(Q13:U13), "") | W13: =SUM(V13,P13,J13) -> 0 | Y13: =+B13 -> 0 | Z13: =+C13 -> 0 | AA13: =+D13 | AB13: ='4号-3,4参考（事業割合）'!E12/'4号-3,4参考（事業割合）'!$J12*'10号-6'!$S$63 -> #DIV/0! | AC13: ='4号-3,4参考（事業割合）'!F12/'4号-3,4参考（事業割合）'!$J12*'10号-6'!$S$63 -> #DIV/0! | AD13: ='4号-3,4参考（事業割合）'!G12/'4号-3,4参考（事業割合）'!$J12*'10号-6'!$S$63 -> #DIV/0! | AE13: ='4号-3,4参考（事業割合）'!H12/'4号-3,4参考（事業割合）'!$J12*'10号-6'!$S$63 -> #DIV/0! | AF13: ='4号-3,4参考（事業割合）'!I12/'4号-3,4参考（事業割合）'!$J12*'10号-6'!$S$63 -> #DIV/0! | AG13: =IFERROR(SUM(AB13:AF13), "") | AH13: ='4号-3,4参考（事業割合）'!E12/'4号-3,4参考（事業割合）'!$J12*'10号-6'!$S$65 -> #DIV/0! | AI13: ='4号-3,4参考（事業割合）'!F12/'4号-3,4参考（事業割合）'!$J12*'10号-6'!$S$65 -> #DIV/0! | AJ13: ='4号-3,4参考（事業割合）'!G12/'4号-3,4参考（事業割合）'!$J12*'10号-6'!$S$65 -> #DIV/0! | AK13: ='4号-3,4参考（事業割合）'!H12/'4号-3,4参考（事業割合）'!$J12*'10号-6'!$S$65 -> #DIV/0! | AL13: ='4号-3,4参考（事業割合）'!I12/'4号-3,4参考（事業割合）'!$J12*'10号-6'!$S$65 -> #DIV/0! | AM13: =IFERROR(SUM(AH13:AL13), "") | AN13: =+'4号-3,4参考（事業割合）'!E12/'4号-3,4参考（事業割合）'!$J12*'10号-6'!$S$67 -> #DIV/0! | AO13: =+'4号-3,4参考（事業割合）'!F12/'4号-3,4参考（事業割合）'!$J12*'10号-6'!$S$67 -> #DIV/0! | AP13: =+'4号-3,4参考（事業割合）'!G12/'4号-3,4参考（事業割合）'!$J12*'10号-6'!$S$67 -> #DIV/0! | AQ13: =+'4号-3,4参考（事業割合）'!H12/'4号-3,4参考（事業割合）'!$J12*'10号-6'!$S$67 -> #DIV/0! | AR13: =+'4号-3,4参考（事業割合）'!I12/'4号-3,4参考（事業割合）'!$J12*'10号-6'!$S$67 -> #DIV/0! | AS13: =IFERROR(SUM(AN13:AR13), "") | AT13: =SUM(AS13,AM13,AG13) -> 0
A14: 8 | B14: =+'4号-3,4参考（事業割合）'!B13 -> 0 | C14: =+'4号-3,4参考（事業割合）'!C13 -> 0 | D14: ='4号-3,4参考（事業割合）'!D13 | E14: ='4号-3,4参考（事業割合）'!E13/'4号-3,4参考（事業割合）'!$J13*'10号-6'!$S$72 -> #DIV/0! | F14: ='4号-3,4参考（事業割合）'!F13/'4号-3,4参考（事業割合）'!$J13*'10号-6'!$S$72 -> #DIV/0! | G14: ='4号-3,4参考（事業割合）'!G13/'4号-3,4参考（事業割合）'!$J13*'10号-6'!$S$72 -> #DIV/0! | H14: ='4号-3,4参考（事業割合）'!H13/'4号-3,4参考（事業割合）'!$J13*'10号-6'!$S$72 -> #DIV/0! | I14: ='4号-3,4参考（事業割合）'!I13/'4号-3,4参考（事業割合）'!$J13*'10号-6'!$S$72 -> #DIV/0! | J14: =IFERROR(SUM(E14:I14), "") | K14: ='4号-3,4参考（事業割合）'!E13/'4号-3,4参考（事業割合）'!$J$13*'10号-6'!$S$74 -> #DIV/0! | L14: ='4号-3,4参考（事業割合）'!F13/'4号-3,4参考（事業割合）'!$J$13*'10号-6'!$S$74 -> #DIV/0! | M14: ='4号-3,4参考（事業割合）'!G13/'4号-3,4参考（事業割合）'!$J$13*'10号-6'!$S$74 -> #DIV/0! | N14: ='4号-3,4参考（事業割合）'!H13/'4号-3,4参考（事業割合）'!$J$13*'10号-6'!$S$74 -> #DIV/0! | O14: ='4号-3,4参考（事業割合）'!I13/'4号-3,4参考（事業割合）'!$J$13*'10号-6'!$S$74 -> #DIV/0! | P14: =IFERROR(SUM(K14:O14), "") | Q14: =+'4号-3,4参考（事業割合）'!E13/'4号-3,4参考（事業割合）'!$J13*'10号-6'!$S$76 -> #DIV/0! | R14: =+'4号-3,4参考（事業割合）'!F13/'4号-3,4参考（事業割合）'!$J13*'10号-6'!$S$76 -> #DIV/0! | S14: =+'4号-3,4参考（事業割合）'!G13/'4号-3,4参考（事業割合）'!$J13*'10号-6'!$S$76 -> #DIV/0! | T14: =+'4号-3,4参考（事業割合）'!H13/'4号-3,4参考（事業割合）'!$J13*'10号-6'!$S$76 -> #DIV/0! | U14: =+'4号-3,4参考（事業割合）'!I13/'4号-3,4参考（事業割合）'!$J13*'10号-6'!$S$76 -> #DIV/0! | V14: =IFERROR(SUM(Q14:U14), "") | W14: =SUM(V14,P14,J14) -> 0 | Y14: =+B14 -> 0 | Z14: =+C14 -> 0 | AA14: =+D14 | AB14: ='4号-3,4参考（事業割合）'!E13/'4号-3,4参考（事業割合）'!$J13*'10号-6'!$S$71 -> #DIV/0! | AC14: ='4号-3,4参考（事業割合）'!F13/'4号-3,4参考（事業割合）'!$J13*'10号-6'!$S$71 -> #DIV/0! | AD14: ='4号-3,4参考（事業割合）'!G13/'4号-3,4参考（事業割合）'!$J13*'10号-6'!$S$71 -> #DIV/0! | AE14: ='4号-3,4参考（事業割合）'!H13/'4号-3,4参考（事業割合）'!$J13*'10号-6'!$S$71 -> #DIV/0! | AF14: ='4号-3,4参考（事業割合）'!I13/'4号-3,4参考（事業割合）'!$J13*'10号-6'!$S$71 -> #DIV/0! | AG14: =IFERROR(SUM(AB14:AF14), "") | AH14: ='4号-3,4参考（事業割合）'!E13/'4号-3,4参考（事業割合）'!$J13*'10号-6'!$S$73 -> #DIV/0! | AI14: ='4号-3,4参考（事業割合）'!F13/'4号-3,4参考（事業割合）'!$J13*'10号-6'!$S$73 -> #DIV/0! | AJ14: ='4号-3,4参考（事業割合）'!G13/'4号-3,4参考（事業割合）'!$J13*'10号-6'!$S$73 -> #DIV/0! | AK14: ='4号-3,4参考（事業割合）'!H13/'4号-3,4参考（事業割合）'!$J13*'10号-6'!$S$73 -> #DIV/0! | AL14: ='4号-3,4参考（事業割合）'!I13/'4号-3,4参考（事業割合）'!$J13*'10号-6'!$S$73 -> #DIV/0! | AM14: =IFERROR(SUM(AH14:AL14), "") | AN14: =+'4号-3,4参考（事業割合）'!E13/'4号-3,4参考（事業割合）'!$J13*'10号-6'!$S$75 -> #DIV/0! | AO14: =+'4号-3,4参考（事業割合）'!F13/'4号-3,4参考（事業割合）'!$J13*'10号-6'!$S$75 -> #DIV/0! | AP14: =+'4号-3,4参考（事業割合）'!G13/'4号-3,4参考（事業割合）'!$J13*'10号-6'!$S$75 -> #DIV/0! | AQ14: =+'4号-3,4参考（事業割合）'!H13/'4号-3,4参考（事業割合）'!$J13*'10号-6'!$S$75 -> #DIV/0! | AR14: =+'4号-3,4参考（事業割合）'!I13/'4号-3,4参考（事業割合）'!$J13*'10号-6'!$S$75 -> #DIV/0! | AS14: =IFERROR(SUM(AN14:AR14), "") | AT14: =SUM(AS14,AM14,AG14) -> 0
A15: 9 | B15: =+'4号-3,4参考（事業割合）'!B14 -> 0 | C15: =+'4号-3,4参考（事業割合）'!C14 -> 0 | D15: ='4号-3,4参考（事業割合）'!D14 | E15: ='4号-3,4参考（事業割合）'!E14/'4号-3,4参考（事業割合）'!$J14*'10号-6'!$S$80 -> #DIV/0! | F15: ='4号-3,4参考（事業割合）'!F14/'4号-3,4参考（事業割合）'!$J14*'10号-6'!$S$80 -> #DIV/0! | G15: ='4号-3,4参考（事業割合）'!G14/'4号-3,4参考（事業割合）'!$J14*'10号-6'!$S$80 -> #DIV/0! | H15: ='4号-3,4参考（事業割合）'!H14/'4号-3,4参考（事業割合）'!$J14*'10号-6'!$S$80 -> #DIV/0! | I15: ='4号-3,4参考（事業割合）'!I14/'4号-3,4参考（事業割合）'!$J14*'10号-6'!$S$80 -> #DIV/0! | J15: =IFERROR(SUM(E15:I15), "") | K15: ='4号-3,4参考（事業割合）'!E14/'4号-3,4参考（事業割合）'!$J$14*'10号-6'!$S$82 -> #DIV/0! | L15: ='4号-3,4参考（事業割合）'!F14/'4号-3,4参考（事業割合）'!$J$14*'10号-6'!$S$82 -> #DIV/0! | M15: ='4号-3,4参考（事業割合）'!G14/'4号-3,4参考（事業割合）'!$J$14*'10号-6'!$S$82 -> #DIV/0! | N15: ='4号-3,4参考（事業割合）'!H14/'4号-3,4参考（事業割合）'!$J$14*'10号-6'!$S$82 -> #DIV/0! | O15: ='4号-3,4参考（事業割合）'!I14/'4号-3,4参考（事業割合）'!$J$14*'10号-6'!$S$82 -> #DIV/0! | P15: =IFERROR(SUM(K15:O15), "") | Q15: =+'4号-3,4参考（事業割合）'!E14/'4号-3,4参考（事業割合）'!$J14*'10号-6'!$S$84 -> #DIV/0! | R15: =+'4号-3,4参考（事業割合）'!F14/'4号-3,4参考（事業割合）'!$J14*'10号-6'!$S$84 -> #DIV/0! | S15: =+'4号-3,4参考（事業割合）'!G14/'4号-3,4参考（事業割合）'!$J14*'10号-6'!$S$84 -> #DIV/0! | T15: =+'4号-3,4参考（事業割合）'!H14/'4号-3,4参考（事業割合）'!$J14*'10号-6'!$S$84 -> #DIV/0! | U15: =+'4号-3,4参考（事業割合）'!I14/'4号-3,4参考（事業割合）'!$J14*'10号-6'!$S$84 -> #DIV/0! | V15: =IFERROR(SUM(Q15:U15), "") | W15: =SUM(V15,P15,J15) -> 0 | Y15: =+B15 -> 0 | Z15: =+C15 -> 0 | AA15: =+D15 | AB15: ='4号-3,4参考（事業割合）'!E14/'4号-3,4参考（事業割合）'!$J14*'10号-6'!$S$79 -> #DIV/0! | AC15: ='4号-3,4参考（事業割合）'!F14/'4号-3,4参考（事業割合）'!$J14*'10号-6'!$S$79 -> #DIV/0! | AD15: ='4号-3,4参考（事業割合）'!G14/'4号-3,4参考（事業割合）'!$J14*'10号-6'!$S$79 -> #DIV/0! | AE15: ='4号-3,4参考（事業割合）'!H14/'4号-3,4参考（事業割合）'!$J14*'10号-6'!$S$79 -> #DIV/0! | AF15: ='4号-3,4参考（事業割合）'!I14/'4号-3,4参考（事業割合）'!$J14*'10号-6'!$S$79 -> #DIV/0! | AG15: =IFERROR(SUM(AB15:AF15), "") | AH15: ='4号-3,4参考（事業割合）'!E14/'4号-3,4参考（事業割合）'!$J14*'10号-6'!$S$81 -> #DIV/0! | AI15: ='4号-3,4参考（事業割合）'!F14/'4号-3,4参考（事業割合）'!$J14*'10号-6'!$S$81 -> #DIV/0! | AJ15: ='4号-3,4参考（事業割合）'!G14/'4号-3,4参考（事業割合）'!$J14*'10号-6'!$S$81 -> #DIV/0! | AK15: ='4号-3,4参考（事業割合）'!H14/'4号-3,4参考（事業割合）'!$J14*'10号-6'!$S$81 -> #DIV/0! | AL15: ='4号-3,4参考（事業割合）'!I14/'4号-3,4参考（事業割合）'!$J14*'10号-6'!$S$81 -> #DIV/0! | AM15: =IFERROR(SUM(AH15:AL15), "") | AN15: =+'4号-3,4参考（事業割合）'!E14/'4号-3,4参考（事業割合）'!$J14*'10号-6'!$S$83 -> #DIV/0! | AO15: =+'4号-3,4参考（事業割合）'!F14/'4号-3,4参考（事業割合）'!$J14*'10号-6'!$S$83 -> #DIV/0! | AP15: =+'4号-3,4参考（事業割合）'!G14/'4号-3,4参考（事業割合）'!$J14*'10号-6'!$S$83 -> #DIV/0! | AQ15: =+'4号-3,4参考（事業割合）'!H14/'4号-3,4参考（事業割合）'!$J14*'10号-6'!$S$83 -> #DIV/0! | AR15: =+'4号-3,4参考（事業割合）'!I14/'4号-3,4参考（事業割合）'!$J14*'10号-6'!$S$83 -> #DIV/0! | AS15: =IFERROR(SUM(AN15:AR15), "") | AT15: =SUM(AS15,AM15,AG15) -> 0
A16: 10 | B16: =+'4号-3,4参考（事業割合）'!B15 -> 0 | C16: =+'4号-3,4参考（事業割合）'!C15 -> 0 | D16: ='4号-3,4参考（事業割合）'!D15 | E16: ='4号-3,4参考（事業割合）'!E15/'4号-3,4参考（事業割合）'!$J15*'10号-6'!$S$88 -> #DIV/0! | F16: ='4号-3,4参考（事業割合）'!F15/'4号-3,4参考（事業割合）'!$J15*'10号-6'!$S$88 -> #DIV/0! | G16: ='4号-3,4参考（事業割合）'!G15/'4号-3,4参考（事業割合）'!$J15*'10号-6'!$S$88 -> #DIV/0! | H16: ='4号-3,4参考（事業割合）'!H15/'4号-3,4参考（事業割合）'!$J15*'10号-6'!$S$88 -> #DIV/0! | I16: ='4号-3,4参考（事業割合）'!I15/'4号-3,4参考（事業割合）'!$J15*'10号-6'!$S$88 -> #DIV/0! | J16: =IFERROR(SUM(E16:I16), "") | K16: ='4号-3,4参考（事業割合）'!E15/'4号-3,4参考（事業割合）'!$J$15*'10号-6'!$S$90 -> #DIV/0! | L16: ='4号-3,4参考（事業割合）'!F15/'4号-3,4参考（事業割合）'!$J$15*'10号-6'!$S$90 -> #DIV/0! | M16: ='4号-3,4参考（事業割合）'!G15/'4号-3,4参考（事業割合）'!$J$15*'10号-6'!$S$90 -> #DIV/0! | N16: ='4号-3,4参考（事業割合）'!H15/'4号-3,4参考（事業割合）'!$J$15*'10号-6'!$S$90 -> #DIV/0! | O16: ='4号-3,4参考（事業割合）'!I15/'4号-3,4参考（事業割合）'!$J$15*'10号-6'!$S$90 -> #DIV/0! | P16: =IFERROR(SUM(K16:O16), "") | Q16: =+'4号-3,4参考（事業割合）'!E15/'4号-3,4参考（事業割合）'!$J15*'10号-6'!$S$92 -> #DIV/0! | R16: =+'4号-3,4参考（事業割合）'!F15/'4号-3,4参考（事業割合）'!$J15*'10号-6'!$S$92 -> #DIV/0! | S16: =+'4号-3,4参考（事業割合）'!G15/'4号-3,4参考（事業割合）'!$J15*'10号-6'!$S$92 -> #DIV/0! | T16: =+'4号-3,4参考（事業割合）'!H15/'4号-3,4参考（事業割合）'!$J15*'10号-6'!$S$92 -> #DIV/0! | U16: =+'4号-3,4参考（事業割合）'!I15/'4号-3,4参考（事業割合）'!$J15*'10号-6'!$S$92 -> #DIV/0! | V16: =IFERROR(SUM(Q16:U16), "") | W16: =SUM(V16,P16,J16) -> 0 | Y16: =+B16 -> 0 | Z16: =+C16 -> 0 | AA16: =+D16 | AB16: ='4号-3,4参考（事業割合）'!E15/'4号-3,4参考（事業割合）'!$J15*'10号-6'!$S$87 -> #DIV/0! | AC16: ='4号-3,4参考（事業割合）'!F15/'4号-3,4参考（事業割合）'!$J15*'10号-6'!$S$87 -> #DIV/0! | AD16: ='4号-3,4参考（事業割合）'!G15/'4号-3,4参考（事業割合）'!$J15*'10号-6'!$S$87 -> #DIV/0! | AE16: ='4号-3,4参考（事業割合）'!H15/'4号-3,4参考（事業割合）'!$J15*'10号-6'!$S$87 -> #DIV/0! | AF16: ='4号-3,4参考（事業割合）'!I15/'4号-3,4参考（事業割合）'!$J15*'10号-6'!$S$87 -> #DIV/0! | AG16: =IFERROR(SUM(AB16:AF16), "") | AH16: ='4号-3,4参考（事業割合）'!E15/'4号-3,4参考（事業割合）'!$J15*'10号-6'!$S$89 -> #DIV/0! | AI16: ='4号-3,4参考（事業割合）'!F15/'4号-3,4参考（事業割合）'!$J15*'10号-6'!$S$89 -> #DIV/0! | AJ16: ='4号-3,4参考（事業割合）'!G15/'4号-3,4参考（事業割合）'!$J15*'10号-6'!$S$89 -> #DIV/0! | AK16: ='4号-3,4参考（事業割合）'!H15/'4号-3,4参考（事業割合）'!$J15*'10号-6'!$S$89 -> #DIV/0! | AL16: ='4号-3,4参考（事業割合）'!I15/'4号-3,4参考（事業割合）'!$J15*'10号-6'!$S$89 -> #DIV/0! | AM16: =IFERROR(SUM(AH16:AL16), "") | AN16: =+'4号-3,4参考（事業割合）'!E15/'4号-3,4参考（事業割合）'!$J15*'10号-6'!$S$91 -> #DIV/0! | AO16: =+'4号-3,4参考（事業割合）'!F15/'4号-3,4参考（事業割合）'!$J15*'10号-6'!$S$91 -> #DIV/0! | AP16: =+'4号-3,4参考（事業割合）'!G15/'4号-3,4参考（事業割合）'!$J15*'10号-6'!$S$91 -> #DIV/0! | AQ16: =+'4号-3,4参考（事業割合）'!H15/'4号-3,4参考（事業割合）'!$J15*'10号-6'!$S$91 -> #DIV/0! | AR16: =+'4号-3,4参考（事業割合）'!I15/'4号-3,4参考（事業割合）'!$J15*'10号-6'!$S$91 -> #DIV/0! | AS16: =IFERROR(SUM(AN16:AR16), "") | AT16: =SUM(AS16,AM16,AG16) -> 0
A17: 11 | B17: =+'4号-3,4参考（事業割合）'!B16 -> 0 | C17: =+'4号-3,4参考（事業割合）'!C16 -> 0 | D17: ='4号-3,4参考（事業割合）'!D16 | E17: ='4号-3,4参考（事業割合）'!E16/'4号-3,4参考（事業割合）'!$J16*'10号-6'!$S$107 -> #DIV/0! | F17: ='4号-3,4参考（事業割合）'!F16/'4号-3,4参考（事業割合）'!$J16*'10号-6'!$S$107 -> #DIV/0! | G17: ='4号-3,4参考（事業割合）'!G16/'4号-3,4参考（事業割合）'!$J16*'10号-6'!$S$107 -> #DIV/0! | H17: ='4号-3,4参考（事業割合）'!H16/'4号-3,4参考（事業割合）'!$J16*'10号-6'!$S$107 -> #DIV/0! | I17: ='4号-3,4参考（事業割合）'!I16/'4号-3,4参考（事業割合）'!$J16*'10号-6'!$S$107 -> #DIV/0! | J17: =IFERROR(SUM(E17:I17), "") | K17: ='4号-3,4参考（事業割合）'!E16/'4号-3,4参考（事業割合）'!$J$16*'10号-6'!$S$109 -> #DIV/0! | L17: ='4号-3,4参考（事業割合）'!F16/'4号-3,4参考（事業割合）'!$J$16*'10号-6'!$S$109 -> #DIV/0! | M17: ='4号-3,4参考（事業割合）'!G16/'4号-3,4参考（事業割合）'!$J$16*'10号-6'!$S$109 -> #DIV/0! | N17: ='4号-3,4参考（事業割合）'!H16/'4号-3,4参考（事業割合）'!$J$16*'10号-6'!$S$109 -> #DIV/0! | O17: ='4号-3,4参考（事業割合）'!I16/'4号-3,4参考（事業割合）'!$J$16*'10号-6'!$S$109 -> #DIV/0! | P17: =IFERROR(SUM(K17:O17), "") | Q17: =+'4号-3,4参考（事業割合）'!E16/'4号-3,4参考（事業割合）'!$J16*'10号-6'!$S$111 -> #DIV/0! | R17: =+'4号-3,4参考（事業割合）'!F16/'4号-3,4参考（事業割合）'!$J16*'10号-6'!$S$111 -> #DIV/0! | S17: =+'4号-3,4参考（事業割合）'!G16/'4号-3,4参考（事業割合）'!$J16*'10号-6'!$S$111 -> #DIV/0! | T17: =+'4号-3,4参考（事業割合）'!H16/'4号-3,4参考（事業割合）'!$J16*'10号-6'!$S$111 -> #DIV/0! | U17: =+'4号-3,4参考（事業割合）'!I16/'4号-3,4参考（事業割合）'!$J16*'10号-6'!$S$111 -> #DIV/0! | V17: =IFERROR(SUM(Q17:U17), "") | W17: =SUM(V17,P17,J17) -> 0 | Y17: =+B17 -> 0 | Z17: =+C17 -> 0 | AA17: =+D17 | AB17: ='4号-3,4参考（事業割合）'!E16/'4号-3,4参考（事業割合）'!$J16*'10号-6'!$S$106 -> #DIV/0! | AC17: ='4号-3,4参考（事業割合）'!F16/'4号-3,4参考（事業割合）'!$J16*'10号-6'!$S$106 -> #DIV/0! | AD17: ='4号-3,4参考（事業割合）'!G16/'4号-3,4参考（事業割合）'!$J16*'10号-6'!$S$106 -> #DIV/0! | AE17: ='4号-3,4参考（事業割合）'!H16/'4号-3,4参考（事業割合）'!$J16*'10号-6'!$S$106 -> #DIV/0! | AF17: ='4号-3,4参考（事業割合）'!I16/'4号-3,4参考（事業割合）'!$J16*'10号-6'!$S$106 -> #DIV/0! | AG17: =IFERROR(SUM(AB17:AF17), "") | AH17: ='4号-3,4参考（事業割合）'!E16/'4号-3,4参考（事業割合）'!$J16*'10号-6'!$S$108 -> #DIV/0! | AI17: ='4号-3,4参考（事業割合）'!F16/'4号-3,4参考（事業割合）'!$J16*'10号-6'!$S$108 -> #DIV/0! | AJ17: ='4号-3,4参考（事業割合）'!G16/'4号-3,4参考（事業割合）'!$J16*'10号-6'!$S$108 -> #DIV/0! | AK17: ='4号-3,4参考（事業割合）'!H16/'4号-3,4参考（事業割合）'!$J16*'10号-6'!$S$108 -> #DIV/0! | AL17: ='4号-3,4参考（事業割合）'!I16/'4号-3,4参考（事業割合）'!$J16*'10号-6'!$S$108 -> #DIV/0! | AM17: =IFERROR(SUM(AH17:AL17), "") | AN17: =+'4号-3,4参考（事業割合）'!E16/'4号-3,4参考（事業割合）'!$J16*'10号-6'!$S$110 -> #DIV/0! | AO17: =+'4号-3,4参考（事業割合）'!F16/'4号-3,4参考（事業割合）'!$J16*'10号-6'!$S$110 -> #DIV/0! | AP17: =+'4号-3,4参考（事業割合）'!G16/'4号-3,4参考（事業割合）'!$J16*'10号-6'!$S$110 -> #DIV/0! | AQ17: =+'4号-3,4参考（事業割合）'!H16/'4号-3,4参考（事業割合）'!$J16*'10号-6'!$S$110 -> #DIV/0! | AR17: =+'4号-3,4参考（事業割合）'!I16/'4号-3,4参考（事業割合）'!$J16*'10号-6'!$S$110 -> #DIV/0! | AS17: =IFERROR(SUM(AN17:AR17), "") | AT17: =SUM(AS17,AM17,AG17) -> 0
A18: 12 | B18: =+'4号-3,4参考（事業割合）'!B17 -> 0 | C18: =+'4号-3,4参考（事業割合）'!C17 -> 0 | D18: ='4号-3,4参考（事業割合）'!D17 | E18: ='4号-3,4参考（事業割合）'!E17/'4号-3,4参考（事業割合）'!$J17*'10号-6'!$S$115 -> #DIV/0! | F18: ='4号-3,4参考（事業割合）'!F17/'4号-3,4参考（事業割合）'!$J17*'10号-6'!$S$115 -> #DIV/0! | G18: ='4号-3,4参考（事業割合）'!G17/'4号-3,4参考（事業割合）'!$J17*'10号-6'!$S$115 -> #DIV/0! | H18: ='4号-3,4参考（事業割合）'!H17/'4号-3,4参考（事業割合）'!$J17*'10号-6'!$S$115 -> #DIV/0! | I18: ='4号-3,4参考（事業割合）'!I17/'4号-3,4参考（事業割合）'!$J17*'10号-6'!$S$115 -> #DIV/0! | J18: =IFERROR(SUM(E18:I18), "") | K18: ='4号-3,4参考（事業割合）'!E17/'4号-3,4参考（事業割合）'!$J$17*'10号-6'!$S$117 -> #DIV/0! | L18: ='4号-3,4参考（事業割合）'!F17/'4号-3,4参考（事業割合）'!$J$17*'10号-6'!$S$117 -> #DIV/0! | M18: ='4号-3,4参考（事業割合）'!G17/'4号-3,4参考（事業割合）'!$J$17*'10号-6'!$S$117 -> #DIV/0! | N18: ='4号-3,4参考（事業割合）'!H17/'4号-3,4参考（事業割合）'!$J$17*'10号-6'!$S$117 -> #DIV/0! | O18: ='4号-3,4参考（事業割合）'!I17/'4号-3,4参考（事業割合）'!$J$17*'10号-6'!$S$117 -> #DIV/0! | P18: =IFERROR(SUM(K18:O18), "") | Q18: =+'4号-3,4参考（事業割合）'!E17/'4号-3,4参考（事業割合）'!$J17*'10号-6'!$S$119 -> #DIV/0! | R18: =+'4号-3,4参考（事業割合）'!F17/'4号-3,4参考（事業割合）'!$J17*'10号-6'!$S$119 -> #DIV/0! | S18: =+'4号-3,4参考（事業割合）'!G17/'4号-3,4参考（事業割合）'!$J17*'10号-6'!$S$119 -> #DIV/0! | T18: =+'4号-3,4参考（事業割合）'!H17/'4号-3,4参考（事業割合）'!$J17*'10号-6'!$S$119 -> #DIV/0! | U18: =+'4号-3,4参考（事業割合）'!I17/'4号-3,4参考（事業割合）'!$J17*'10号-6'!$S$119 -> #DIV/0! | V18: =IFERROR(SUM(Q18:U18), "") | W18: =SUM(V18,P18,J18) -> 0 | Y18: =+B18 -> 0 | Z18: =+C18 -> 0 | AA18: =+D18 | AB18: ='4号-3,4参考（事業割合）'!E17/'4号-3,4参考（事業割合）'!$J17*'10号-6'!$S$114 -> #DIV/0! | AC18: ='4号-3,4参考（事業割合）'!F17/'4号-3,4参考（事業割合）'!$J17*'10号-6'!$S$114 -> #DIV/0! | AD18: ='4号-3,4参考（事業割合）'!G17/'4号-3,4参考（事業割合）'!$J17*'10号-6'!$S$114 -> #DIV/0! | AE18: ='4号-3,4参考（事業割合）'!H17/'4号-3,4参考（事業割合）'!$J17*'10号-6'!$S$114 -> #DIV/0! | AF18: ='4号-3,4参考（事業割合）'!I17/'4号-3,4参考（事業割合）'!$J17*'10号-6'!$S$114 -> #DIV/0! | AG18: =IFERROR(SUM(AB18:AF18), "") | AH18: ='4号-3,4参考（事業割合）'!E17/'4号-3,4参考（事業割合）'!$J17*'10号-6'!$S$116 -> #DIV/0! | AI18: ='4号-3,4参考（事業割合）'!F17/'4号-3,4参考（事業割合）'!$J17*'10号-6'!$S$116 -> #DIV/0! | AJ18: ='4号-3,4参考（事業割合）'!G17/'4号-3,4参考（事業割合）'!$J17*'10号-6'!$S$116 -> #DIV/0! | AK18: ='4号-3,4参考（事業割合）'!H17/'4号-3,4参考（事業割合）'!$J17*'10号-6'!$S$116 -> #DIV/0! | AL18: ='4号-3,4参考（事業割合）'!I17/'4号-3,4参考（事業割合）'!$J17*'10号-6'!$S$116 -> #DIV/0! | AM18: =IFERROR(SUM(AH18:AL18), "") | AN18: =+'4号-3,4参考（事業割合）'!E17/'4号-3,4参考（事業割合）'!$J17*'10号-6'!$S$118 -> #DIV/0! | AO18: =+'4号-3,4参考（事業割合）'!F17/'4号-3,4参考（事業割合）'!$J17*'10号-6'!$S$118 -> #DIV/0! | AP18: =+'4号-3,4参考（事業割合）'!G17/'4号-3,4参考（事業割合）'!$J17*'10号-6'!$S$118 -> #DIV/0! | AQ18: =+'4号-3,4参考（事業割合）'!H17/'4号-3,4参考（事業割合）'!$J17*'10号-6'!$S$118 -> #DIV/0! | AR18: =+'4号-3,4参考（事業割合）'!I17/'4号-3,4参考（事業割合）'!$J17*'10号-6'!$S$118 -> #DIV/0! | AS18: =IFERROR(SUM(AN18:AR18), "") | AT18: =SUM(AS18,AM18,AG18) -> 0
A19: 13 | B19: =+'4号-3,4参考（事業割合）'!B18 -> 0 | C19: =+'4号-3,4参考（事業割合）'!C18 -> 0 | D19: ='4号-3,4参考（事業割合）'!D18 | E19: ='4号-3,4参考（事業割合）'!E18/'4号-3,4参考（事業割合）'!$J18*'10号-6'!$S$123 -> #DIV/0! | F19: ='4号-3,4参考（事業割合）'!F18/'4号-3,4参考（事業割合）'!$J18*'10号-6'!$S$123 -> #DIV/0! | G19: ='4号-3,4参考（事業割合）'!G18/'4号-3,4参考（事業割合）'!$J18*'10号-6'!$S$123 -> #DIV/0! | H19: ='4号-3,4参考（事業割合）'!H18/'4号-3,4参考（事業割合）'!$J18*'10号-6'!$S$123 -> #DIV/0! | I19: ='4号-3,4参考（事業割合）'!I18/'4号-3,4参考（事業割合）'!$J18*'10号-6'!$S$123 -> #DIV/0! | J19: =IFERROR(SUM(E19:I19), "") | K19: ='4号-3,4参考（事業割合）'!E18/'4号-3,4参考（事業割合）'!$J$18*'10号-6'!$S$125 -> #DIV/0! | L19: ='4号-3,4参考（事業割合）'!F18/'4号-3,4参考（事業割合）'!$J$18*'10号-6'!$S$125 -> #DIV/0! | M19: ='4号-3,4参考（事業割合）'!G18/'4号-3,4参考（事業割合）'!$J$18*'10号-6'!$S$125 -> #DIV/0! | N19: ='4号-3,4参考（事業割合）'!H18/'4号-3,4参考（事業割合）'!$J$18*'10号-6'!$S$125 -> #DIV/0! | O19: ='4号-3,4参考（事業割合）'!I18/'4号-3,4参考（事業割合）'!$J$18*'10号-6'!$S$125 -> #DIV/0! | P19: =IFERROR(SUM(K19:O19), "") | Q19: =+'4号-3,4参考（事業割合）'!E18/'4号-3,4参考（事業割合）'!$J18*'10号-6'!$S$127 -> #DIV/0! | R19: =+'4号-3,4参考（事業割合）'!F18/'4号-3,4参考（事業割合）'!$J18*'10号-6'!$S$127 -> #DIV/0! | S19: =+'4号-3,4参考（事業割合）'!G18/'4号-3,4参考（事業割合）'!$J18*'10号-6'!$S$127 -> #DIV/0! | T19: =+'4号-3,4参考（事業割合）'!H18/'4号-3,4参考（事業割合）'!$J18*'10号-6'!$S$127 -> #DIV/0! | U19: =+'4号-3,4参考（事業割合）'!I18/'4号-3,4参考（事業割合）'!$J18*'10号-6'!$S$127 -> #DIV/0! | V19: =IFERROR(SUM(Q19:U19), "") | W19: =SUM(V19,P19,J19) -> 0 | Y19: =+B19 -> 0 | Z19: =+C19 -> 0 | AA19: =+D19 | AB19: ='4号-3,4参考（事業割合）'!E18/'4号-3,4参考（事業割合）'!$J18*'10号-6'!$S$122 -> #DIV/0! | AC19: ='4号-3,4参考（事業割合）'!F18/'4号-3,4参考（事業割合）'!$J18*'10号-6'!$S$122 -> #DIV/0! | AD19: ='4号-3,4参考（事業割合）'!G18/'4号-3,4参考（事業割合）'!$J18*'10号-6'!$S$122 -> #DIV/0! | AE19: ='4号-3,4参考（事業割合）'!H18/'4号-3,4参考（事業割合）'!$J18*'10号-6'!$S$122 -> #DIV/0! | AF19: ='4号-3,4参考（事業割合）'!I18/'4号-3,4参考（事業割合）'!$J18*'10号-6'!$S$122 -> #DIV/0! | AG19: =IFERROR(SUM(AB19:AF19), "") | AH19: ='4号-3,4参考（事業割合）'!E18/'4号-3,4参考（事業割合）'!$J18*'10号-6'!$S$124 -> #DIV/0! | AI19: ='4号-3,4参考（事業割合）'!F18/'4号-3,4参考（事業割合）'!$J18*'10号-6'!$S$124 -> #DIV/0! | AJ19: ='4号-3,4参考（事業割合）'!G18/'4号-3,4参考（事業割合）'!$J18*'10号-6'!$S$124 -> #DIV/0! | AK19: ='4号-3,4参考（事業割合）'!H18/'4号-3,4参考（事業割合）'!$J18*'10号-6'!$S$124 -> #DIV/0! | AL19: ='4号-3,4参考（事業割合）'!I18/'4号-3,4参考（事業割合）'!$J18*'10号-6'!$S$124 -> #DIV/0! | AM19: =IFERROR(SUM(AH19:AL19), "") | AN19: =+'4号-3,4参考（事業割合）'!E18/'4号-3,4参考（事業割合）'!$J18*'10号-6'!$S$126 -> #DIV/0! | AO19: =+'4号-3,4参考（事業割合）'!F18/'4号-3,4参考（事業割合）'!$J18*'10号-6'!$S$126 -> #DIV/0! | AP19: =+'4号-3,4参考（事業割合）'!G18/'4号-3,4参考（事業割合）'!$J18*'10号-6'!$S$126 -> #DIV/0! | AQ19: =+'4号-3,4参考（事業割合）'!H18/'4号-3,4参考（事業割合）'!$J18*'10号-6'!$S$126 -> #DIV/0! | AR19: =+'4号-3,4参考（事業割合）'!I18/'4号-3,4参考（事業割合）'!$J18*'10号-6'!$S$126 -> #DIV/0! | AS19: =IFERROR(SUM(AN19:AR19), "") | AT19: =SUM(AS19,AM19,AG19) -> 0
A20: 14 | B20: =+'4号-3,4参考（事業割合）'!B19 -> 0 | C20: =+'4号-3,4参考（事業割合）'!C19 -> 0 | D20: ='4号-3,4参考（事業割合）'!D19 | E20: ='4号-3,4参考（事業割合）'!E19/'4号-3,4参考（事業割合）'!$J19*'10号-6'!$S$131 -> #DIV/0! | F20: ='4号-3,4参考（事業割合）'!F19/'4号-3,4参考（事業割合）'!$J19*'10号-6'!$S$131 -> #DIV/0! | G20: ='4号-3,4参考（事業割合）'!G19/'4号-3,4参考（事業割合）'!$J19*'10号-6'!$S$131 -> #DIV/0! | H20: ='4号-3,4参考（事業割合）'!H19/'4号-3,4参考（事業割合）'!$J19*'10号-6'!$S$131 -> #DIV/0! | I20: ='4号-3,4参考（事業割合）'!I19/'4号-3,4参考（事業割合）'!$J19*'10号-6'!$S$131 -> #DIV/0! | J20: =IFERROR(SUM(E20:I20), "") | K20: ='4号-3,4参考（事業割合）'!E19/'4号-3,4参考（事業割合）'!$J$19*'10号-6'!$S$133 -> #DIV/0! | L20: ='4号-3,4参考（事業割合）'!F19/'4号-3,4参考（事業割合）'!$J$19*'10号-6'!$S$133 -> #DIV/0! | M20: ='4号-3,4参考（事業割合）'!G19/'4号-3,4参考（事業割合）'!$J$19*'10号-6'!$S$133 -> #DIV/0! | N20: ='4号-3,4参考（事業割合）'!H19/'4号-3,4参考（事業割合）'!$J$19*'10号-6'!$S$133 -> #DIV/0! | O20: ='4号-3,4参考（事業割合）'!I19/'4号-3,4参考（事業割合）'!$J$19*'10号-6'!$S$133 -> #DIV/0! | P20: =IFERROR(SUM(K20:O20), "") | Q20: =+'4号-3,4参考（事業割合）'!E19/'4号-3,4参考（事業割合）'!$J19*'10号-6'!$S$135 -> #DIV/0! | R20: =+'4号-3,4参考（事業割合）'!F19/'4号-3,4参考（事業割合）'!$J19*'10号-6'!$S$135 -> #DIV/0! | S20: =+'4号-3,4参考（事業割合）'!G19/'4号-3,4参考（事業割合）'!$J19*'10号-6'!$S$135 -> #DIV/0! | T20: =+'4号-3,4参考（事業割合）'!H19/'4号-3,4参考（事業割合）'!$J19*'10号-6'!$S$135 -> #DIV/0! | U20: =+'4号-3,4参考（事業割合）'!I19/'4号-3,4参考（事業割合）'!$J19*'10号-6'!$S$135 -> #DIV/0! | V20: =IFERROR(SUM(Q20:U20), "") | W20: =SUM(V20,P20,J20) -> 0 | Y20: =+B20 -> 0 | Z20: =+C20 -> 0 | AA20: =+D20 | AB20: ='4号-3,4参考（事業割合）'!E19/'4号-3,4参考（事業割合）'!$J19*'10号-6'!$S$130 -> #DIV/0! | AC20: ='4号-3,4参考（事業割合）'!F19/'4号-3,4参考（事業割合）'!$J19*'10号-6'!$S$130 -> #DIV/0! | AD20: ='4号-3,4参考（事業割合）'!G19/'4号-3,4参考（事業割合）'!$J19*'10号-6'!$S$130 -> #DIV/0! | AE20: ='4号-3,4参考（事業割合）'!H19/'4号-3,4参考（事業割合）'!$J19*'10号-6'!$S$130 -> #DIV/0! | AF20: ='4号-3,4参考（事業割合）'!I19/'4号-3,4参考（事業割合）'!$J19*'10号-6'!$S$130 -> #DIV/0! | AG20: =IFERROR(SUM(AB20:AF20), "") | AH20: ='4号-3,4参考（事業割合）'!E19/'4号-3,4参考（事業割合）'!$J19*'10号-6'!$S$132 -> #DIV/0! | AI20: ='4号-3,4参考（事業割合）'!F19/'4号-3,4参考（事業割合）'!$J19*'10号-6'!$S$132 -> #DIV/0! | AJ20: ='4号-3,4参考（事業割合）'!G19/'4号-3,4参考（事業割合）'!$J19*'10号-6'!$S$132 -> #DIV/0! | AK20: ='4号-3,4参考（事業割合）'!H19/'4号-3,4参考（事業割合）'!$J19*'10号-6'!$S$132 -> #DIV/0! | AL20: ='4号-3,4参考（事業割合）'!I19/'4号-3,4参考（事業割合）'!$J19*'10号-6'!$S$132 -> #DIV/0! | AM20: =IFERROR(SUM(AH20:AL20), "") | AN20: =+'4号-3,4参考（事業割合）'!E19/'4号-3,4参考（事業割合）'!$J19*'10号-6'!$S$134 -> #DIV/0! | AO20: =+'4号-3,4参考（事業割合）'!F19/'4号-3,4参考（事業割合）'!$J19*'10号-6'!$S$134 -> #DIV/0! | AP20: =+'4号-3,4参考（事業割合）'!G19/'4号-3,4参考（事業割合）'!$J19*'10号-6'!$S$134 -> #DIV/0! | AQ20: =+'4号-3,4参考（事業割合）'!H19/'4号-3,4参考（事業割合）'!$J19*'10号-6'!$S$134 -> #DIV/0! | AR20: =+'4号-3,4参考（事業割合）'!I19/'4号-3,4参考（事業割合）'!$J19*'10号-6'!$S$134 -> #DIV/0! | AS20: =IFERROR(SUM(AN20:AR20), "") | AT20: =SUM(AS20,AM20,AG20) -> 0
A21: 15 | B21: =+'4号-3,4参考（事業割合）'!B20 -> 0 | C21: =+'4号-3,4参考（事業割合）'!C20 -> 0 | D21: ='4号-3,4参考（事業割合）'!D20 | E21: ='4号-3,4参考（事業割合）'!E20/'4号-3,4参考（事業割合）'!$J20*'10号-6'!$S$139 -> #DIV/0! | F21: ='4号-3,4参考（事業割合）'!F20/'4号-3,4参考（事業割合）'!$J20*'10号-6'!$S$139 -> #DIV/0! | G21: ='4号-3,4参考（事業割合）'!G20/'4号-3,4参考（事業割合）'!$J20*'10号-6'!$S$139 -> #DIV/0! | H21: ='4号-3,4参考（事業割合）'!H20/'4号-3,4参考（事業割合）'!$J20*'10号-6'!$S$139 -> #DIV/0! | I21: ='4号-3,4参考（事業割合）'!I20/'4号-3,4参考（事業割合）'!$J20*'10号-6'!$S$139 -> #DIV/0! | J21: =IFERROR(SUM(E21:I21), "") | K21: ='4号-3,4参考（事業割合）'!E20/'4号-3,4参考（事業割合）'!$J$20*'10号-6'!$S$141 -> #DIV/0! | L21: ='4号-3,4参考（事業割合）'!F20/'4号-3,4参考（事業割合）'!$J$20*'10号-6'!$S$141 -> #DIV/0! | M21: ='4号-3,4参考（事業割合）'!G20/'4号-3,4参考（事業割合）'!$J$20*'10号-6'!$S$141 -> #DIV/0! | N21: ='4号-3,4参考（事業割合）'!H20/'4号-3,4参考（事業割合）'!$J$20*'10号-6'!$S$141 -> #DIV/0! | O21: ='4号-3,4参考（事業割合）'!I20/'4号-3,4参考（事業割合）'!$J$20*'10号-6'!$S$141 -> #DIV/0! | P21: =IFERROR(SUM(K21:O21), "") | Q21: =+'4号-3,4参考（事業割合）'!E20/'4号-3,4参考（事業割合）'!$J20*'10号-6'!$S$143 -> #DIV/0! | R21: =+'4号-3,4参考（事業割合）'!F20/'4号-3,4参考（事業割合）'!$J20*'10号-6'!$S$143 -> #DIV/0! | S21: =+'4号-3,4参考（事業割合）'!G20/'4号-3,4参考（事業割合）'!$J20*'10号-6'!$S$143 -> #DIV/0! | T21: =+'4号-3,4参考（事業割合）'!H20/'4号-3,4参考（事業割合）'!$J20*'10号-6'!$S$143 -> #DIV/0! | U21: =+'4号-3,4参考（事業割合）'!I20/'4号-3,4参考（事業割合）'!$J20*'10号-6'!$S$143 -> #DIV/0! | V21: =IFERROR(SUM(Q21:U21), "") | W21: =SUM(V21,P21,J21) -> 0 | Y21: =+B21 -> 0 | Z21: =+C21 -> 0 | AA21: =+D21 | AB21: ='4号-3,4参考（事業割合）'!E20/'4号-3,4参考（事業割合）'!$J20*'10号-6'!$S$138 -> #DIV/0! | AC21: ='4号-3,4参考（事業割合）'!F20/'4号-3,4参考（事業割合）'!$J20*'10号-6'!$S$138 -> #DIV/0! | AD21: ='4号-3,4参考（事業割合）'!G20/'4号-3,4参考（事業割合）'!$J20*'10号-6'!$S$138 -> #DIV/0! | AE21: ='4号-3,4参考（事業割合）'!H20/'4号-3,4参考（事業割合）'!$J20*'10号-6'!$S$138 -> #DIV/0! | AF21: ='4号-3,4参考（事業割合）'!I20/'4号-3,4参考（事業割合）'!$J20*'10号-6'!$S$138 -> #DIV/0! | AG21: =IFERROR(SUM(AB21:AF21), "") | AH21: ='4号-3,4参考（事業割合）'!E20/'4号-3,4参考（事業割合）'!$J20*'10号-6'!$S$140 -> #DIV/0! | AI21: ='4号-3,4参考（事業割合）'!F20/'4号-3,4参考（事業割合）'!$J20*'10号-6'!$S$140 -> #DIV/0! | AJ21: ='4号-3,4参考（事業割合）'!G20/'4号-3,4参考（事業割合）'!$J20*'10号-6'!$S$140 -> #DIV/0! | AK21: ='4号-3,4参考（事業割合）'!H20/'4号-3,4参考（事業割合）'!$J20*'10号-6'!$S$140 -> #DIV/0! | AL21: ='4号-3,4参考（事業割合）'!I20/'4号-3,4参考（事業割合）'!$J20*'10号-6'!$S$140 -> #DIV/0! | AM21: =IFERROR(SUM(AH21:AL21), "") | AN21: =+'4号-3,4参考（事業割合）'!E20/'4号-3,4参考（事業割合）'!$J20*'10号-6'!$S$142 -> #DIV/0! | AO21: =+'4号-3,4参考（事業割合）'!F20/'4号-3,4参考（事業割合）'!$J20*'10号-6'!$S$142 -> #DIV/0! | AP21: =+'4号-3,4参考（事業割合）'!G20/'4号-3,4参考（事業割合）'!$J20*'10号-6'!$S$142 -> #DIV/0! | AQ21: =+'4号-3,4参考（事業割合）'!H20/'4号-3,4参考（事業割合）'!$J20*'10号-6'!$S$142 -> #DIV/0! | AR21: =+'4号-3,4参考（事業割合）'!I20/'4号-3,4参考（事業割合）'!$J20*'10号-6'!$S$142 -> #DIV/0! | AS21: =IFERROR(SUM(AN21:AR21), "") | AT21: =SUM(AS21,AM21,AG21) -> 0
A22: 16 | B22: =+'4号-3,4参考（事業割合）'!B21 -> 0 | C22: =+'4号-3,4参考（事業割合）'!C21 -> 0 | D22: ='4号-3,4参考（事業割合）'!D21 | E22: ='4号-3,4参考（事業割合）'!E21/'4号-3,4参考（事業割合）'!$J21*'10号-6'!$S$158 -> #DIV/0! | F22: ='4号-3,4参考（事業割合）'!F21/'4号-3,4参考（事業割合）'!$J21*'10号-6'!$S$158 -> #DIV/0! | G22: ='4号-3,4参考（事業割合）'!G21/'4号-3,4参考（事業割合）'!$J21*'10号-6'!$S$158 -> #DIV/0! | H22: ='4号-3,4参考（事業割合）'!H21/'4号-3,4参考（事業割合）'!$J21*'10号-6'!$S$158 -> #DIV/0! | I22: ='4号-3,4参考（事業割合）'!I21/'4号-3,4参考（事業割合）'!$J21*'10号-6'!$S$158 -> #DIV/0! | J22: =IFERROR(SUM(E22:I22), "") | K22: ='4号-3,4参考（事業割合）'!E21/'4号-3,4参考（事業割合）'!$J$21*'10号-6'!$S$160 -> #DIV/0! | L22: ='4号-3,4参考（事業割合）'!F21/'4号-3,4参考（事業割合）'!$J$21*'10号-6'!$S$160 -> #DIV/0! | M22: ='4号-3,4参考（事業割合）'!G21/'4号-3,4参考（事業割合）'!$J$21*'10号-6'!$S$160 -> #DIV/0! | N22: ='4号-3,4参考（事業割合）'!H21/'4号-3,4参考（事業割合）'!$J$21*'10号-6'!$S$160 -> #DIV/0! | O22: ='4号-3,4参考（事業割合）'!I21/'4号-3,4参考（事業割合）'!$J$21*'10号-6'!$S$160 -> #DIV/0! | P22: =IFERROR(SUM(K22:O22), "") | Q22: =+'4号-3,4参考（事業割合）'!E21/'4号-3,4参考（事業割合）'!$J21*'10号-6'!$S$162 -> #DIV/0! | R22: =+'4号-3,4参考（事業割合）'!F21/'4号-3,4参考（事業割合）'!$J21*'10号-6'!$S$162 -> #DIV/0! | S22: =+'4号-3,4参考（事業割合）'!G21/'4号-3,4参考（事業割合）'!$J21*'10号-6'!$S$162 -> #DIV/0! | T22: =+'4号-3,4参考（事業割合）'!H21/'4号-3,4参考（事業割合）'!$J21*'10号-6'!$S$162 -> #DIV/0! | U22: =+'4号-3,4参考（事業割合）'!I21/'4号-3,4参考（事業割合）'!$J21*'10号-6'!$S$162 -> #DIV/0! | V22: =IFERROR(SUM(Q22:U22), "") | W22: =SUM(V22,P22,J22) -> 0 | Y22: =+B22 -> 0 | Z22: =+C22 -> 0 | AA22: =+D22 | AB22: ='4号-3,4参考（事業割合）'!E21/'4号-3,4参考（事業割合）'!$J21*'10号-6'!$S$157 -> #DIV/0! | AC22: ='4号-3,4参考（事業割合）'!F21/'4号-3,4参考（事業割合）'!$J21*'10号-6'!$S$157 -> #DIV/0! | AD22: ='4号-3,4参考（事業割合）'!G21/'4号-3,4参考（事業割合）'!$J21*'10号-6'!$S$157 -> #DIV/0! | AE22: ='4号-3,4参考（事業割合）'!H21/'4号-3,4参考（事業割合）'!$J21*'10号-6'!$S$157 -> #DIV/0! | AF22: ='4号-3,4参考（事業割合）'!I21/'4号-3,4参考（事業割合）'!$J21*'10号-6'!$S$157 -> #DIV/0! | AG22: =IFERROR(SUM(AB22:AF22), "") | AH22: ='4号-3,4参考（事業割合）'!E21/'4号-3,4参考（事業割合）'!$J21*'10号-6'!$S$159 -> #DIV/0! | AI22: ='4号-3,4参考（事業割合）'!F21/'4号-3,4参考（事業割合）'!$J21*'10号-6'!$S$159 -> #DIV/0! | AJ22: ='4号-3,4参考（事業割合）'!G21/'4号-3,4参考（事業割合）'!$J21*'10号-6'!$S$159 -> #DIV/0! | AK22: ='4号-3,4参考（事業割合）'!H21/'4号-3,4参考（事業割合）'!$J21*'10号-6'!$S$159 -> #DIV/0! | AL22: ='4号-3,4参考（事業割合）'!I21/'4号-3,4参考（事業割合）'!$J21*'10号-6'!$S$159 -> #DIV/0! | AM22: =IFERROR(SUM(AH22:AL22), "") | AN22: =+'4号-3,4参考（事業割合）'!E21/'4号-3,4参考（事業割合）'!$J21*'10号-6'!$S$161 -> #DIV/0! | AO22: =+'4号-3,4参考（事業割合）'!F21/'4号-3,4参考（事業割合）'!$J21*'10号-6'!$S$161 -> #DIV/0! | AP22: =+'4号-3,4参考（事業割合）'!G21/'4号-3,4参考（事業割合）'!$J21*'10号-6'!$S$161 -> #DIV/0! | AQ22: =+'4号-3,4参考（事業割合）'!H21/'4号-3,4参考（事業割合）'!$J21*'10号-6'!$S$161 -> #DIV/0! | AR22: =+'4号-3,4参考（事業割合）'!I21/'4号-3,4参考（事業割合）'!$J21*'10号-6'!$S$161 -> #DIV/0! | AS22: =IFERROR(SUM(AN22:AR22), "") | AT22: =SUM(AS22,AM22,AG22) -> 0
A23: 17 | B23: =+'4号-3,4参考（事業割合）'!B22 -> 0 | C23: =+'4号-3,4参考（事業割合）'!C22 -> 0 | D23: ='4号-3,4参考（事業割合）'!D22 | E23: ='4号-3,4参考（事業割合）'!E22/'4号-3,4参考（事業割合）'!$J22*'10号-6'!$S$166 -> #DIV/0! | F23: ='4号-3,4参考（事業割合）'!F22/'4号-3,4参考（事業割合）'!$J22*'10号-6'!$S$166 -> #DIV/0! | G23: ='4号-3,4参考（事業割合）'!G22/'4号-3,4参考（事業割合）'!$J22*'10号-6'!$S$166 -> #DIV/0! | H23: ='4号-3,4参考（事業割合）'!H22/'4号-3,4参考（事業割合）'!$J22*'10号-6'!$S$166 -> #DIV/0! | I23: ='4号-3,4参考（事業割合）'!I22/'4号-3,4参考（事業割合）'!$J22*'10号-6'!$S$166 -> #DIV/0! | J23: =IFERROR(SUM(E23:I23), "") | K23: ='4号-3,4参考（事業割合）'!E22/'4号-3,4参考（事業割合）'!$J$22*'10号-6'!$S$168 -> #DIV/0! | L23: ='4号-3,4参考（事業割合）'!F22/'4号-3,4参考（事業割合）'!$J$22*'10号-6'!$S$168 -> #DIV/0! | M23: ='4号-3,4参考（事業割合）'!G22/'4号-3,4参考（事業割合）'!$J$22*'10号-6'!$S$168 -> #DIV/0! | N23: ='4号-3,4参考（事業割合）'!H22/'4号-3,4参考（事業割合）'!$J$22*'10号-6'!$S$168 -> #DIV/0! | O23: ='4号-3,4参考（事業割合）'!I22/'4号-3,4参考（事業割合）'!$J$22*'10号-6'!$S$168 -> #DIV/0! | P23: =IFERROR(SUM(K23:O23), "") | Q23: =+'4号-3,4参考（事業割合）'!E22/'4号-3,4参考（事業割合）'!$J22*'10号-6'!$S$170 -> #DIV/0! | R23: =+'4号-3,4参考（事業割合）'!F22/'4号-3,4参考（事業割合）'!$J22*'10号-6'!$S$170 -> #DIV/0! | S23: =+'4号-3,4参考（事業割合）'!G22/'4号-3,4参考（事業割合）'!$J22*'10号-6'!$S$170 -> #DIV/0! | T23: =+'4号-3,4参考（事業割合）'!H22/'4号-3,4参考（事業割合）'!$J22*'10号-6'!$S$170 -> #DIV/0! | U23: =+'4号-3,4参考（事業割合）'!I22/'4号-3,4参考（事業割合）'!$J22*'10号-6'!$S$170 -> #DIV/0! | V23: =IFERROR(SUM(Q23:U23), "") | W23: =SUM(V23,P23,J23) -> 0 | Y23: =+B23 -> 0 | Z23: =+C23 -> 0 | AA23: =+D23 | AB23: ='4号-3,4参考（事業割合）'!E22/'4号-3,4参考（事業割合）'!$J22*'10号-6'!$S$165 -> #DIV/0! | AC23: ='4号-3,4参考（事業割合）'!F22/'4号-3,4参考（事業割合）'!$J22*'10号-6'!$S$165 -> #DIV/0! | AD23: ='4号-3,4参考（事業割合）'!G22/'4号-3,4参考（事業割合）'!$J22*'10号-6'!$S$165 -> #DIV/0! | AE23: ='4号-3,4参考（事業割合）'!H22/'4号-3,4参考（事業割合）'!$J22*'10号-6'!$S$165 -> #DIV/0! | AF23: ='4号-3,4参考（事業割合）'!I22/'4号-3,4参考（事業割合）'!$J22*'10号-6'!$S$165 -> #DIV/0! | AG23: =IFERROR(SUM(AB23:AF23), "") | AH23: ='4号-3,4参考（事業割合）'!E22/'4号-3,4参考（事業割合）'!$J22*'10号-6'!$S$167 -> #DIV/0! | AI23: ='4号-3,4参考（事業割合）'!F22/'4号-3,4参考（事業割合）'!$J22*'10号-6'!$S$167 -> #DIV/0! | AJ23: ='4号-3,4参考（事業割合）'!G22/'4号-3,4参考（事業割合）'!$J22*'10号-6'!$S$167 -> #DIV/0! | AK23: ='4号-3,4参考（事業割合）'!H22/'4号-3,4参考（事業割合）'!$J22*'10号-6'!$S$167 -> #DIV/0! | AL23: ='4号-3,4参考（事業割合）'!I22/'4号-3,4参考（事業割合）'!$J22*'10号-6'!$S$167 -> #DIV/0! | AM23: =IFERROR(SUM(AH23:AL23), "") | AN23: =+'4号-3,4参考（事業割合）'!E22/'4号-3,4参考（事業割合）'!$J22*'10号-6'!$S$169 -> #DIV/0! | AO23: =+'4号-3,4参考（事業割合）'!F22/'4号-3,4参考（事業割合）'!$J22*'10号-6'!$S$169 -> #DIV/0! | AP23: =+'4号-3,4参考（事業割合）'!G22/'4号-3,4参考（事業割合）'!$J22*'10号-6'!$S$169 -> #DIV/0! | AQ23: =+'4号-3,4参考（事業割合）'!H22/'4号-3,4参考（事業割合）'!$J22*'10号-6'!$S$169 -> #DIV/0! | AR23: =+'4号-3,4参考（事業割合）'!I22/'4号-3,4参考（事業割合）'!$J22*'10号-6'!$S$169 -> #DIV/0! | AS23: =IFERROR(SUM(AN23:AR23), "") | AT23: =SUM(AS23,AM23,AG23) -> 0
A24: 18 | B24: =+'4号-3,4参考（事業割合）'!B23 -> 0 | C24: =+'4号-3,4参考（事業割合）'!C23 -> 0 | D24: ='4号-3,4参考（事業割合）'!D23 | E24: ='4号-3,4参考（事業割合）'!E23/'4号-3,4参考（事業割合）'!$J23*'10号-6'!$S$174 -> #DIV/0! | F24: ='4号-3,4参考（事業割合）'!F23/'4号-3,4参考（事業割合）'!$J23*'10号-6'!$S$174 -> #DIV/0! | G24: ='4号-3,4参考（事業割合）'!G23/'4号-3,4参考（事業割合）'!$J23*'10号-6'!$S$174 -> #DIV/0! | H24: ='4号-3,4参考（事業割合）'!H23/'4号-3,4参考（事業割合）'!$J23*'10号-6'!$S$174 -> #DIV/0! | I24: ='4号-3,4参考（事業割合）'!I23/'4号-3,4参考（事業割合）'!$J23*'10号-6'!$S$174 -> #DIV/0! | J24: =IFERROR(SUM(E24:I24), "") | K24: ='4号-3,4参考（事業割合）'!E23/'4号-3,4参考（事業割合）'!$J$23*'10号-6'!$S$176 -> #DIV/0! | L24: ='4号-3,4参考（事業割合）'!F23/'4号-3,4参考（事業割合）'!$J$23*'10号-6'!$S$176 -> #DIV/0! | M24: ='4号-3,4参考（事業割合）'!G23/'4号-3,4参考（事業割合）'!$J$23*'10号-6'!$S$176 -> #DIV/0! | N24: ='4号-3,4参考（事業割合）'!H23/'4号-3,4参考（事業割合）'!$J$23*'10号-6'!$S$176 -> #DIV/0! | O24: ='4号-3,4参考（事業割合）'!I23/'4号-3,4参考（事業割合）'!$J$23*'10号-6'!$S$176 -> #DIV/0! | P24: =IFERROR(SUM(K24:O24), "") | Q24: =+'4号-3,4参考（事業割合）'!E23/'4号-3,4参考（事業割合）'!$J23*'10号-6'!$S$178 -> #DIV/0! | R24: =+'4号-3,4参考（事業割合）'!F23/'4号-3,4参考（事業割合）'!$J23*'10号-6'!$S$178 -> #DIV/0! | S24: =+'4号-3,4参考（事業割合）'!G23/'4号-3,4参考（事業割合）'!$J23*'10号-6'!$S$178 -> #DIV/0! | T24: =+'4号-3,4参考（事業割合）'!H23/'4号-3,4参考（事業割合）'!$J23*'10号-6'!$S$178 -> #DIV/0! | U24: =+'4号-3,4参考（事業割合）'!I23/'4号-3,4参考（事業割合）'!$J23*'10号-6'!$S$178 -> #DIV/0! | V24: =IFERROR(SUM(Q24:U24), "") | W24: =SUM(V24,P24,J24) -> 0 | Y24: =+B24 -> 0 | Z24: =+C24 -> 0 | AA24: =+D24 | AB24: ='4号-3,4参考（事業割合）'!E23/'4号-3,4参考（事業割合）'!$J23*'10号-6'!$S$173 -> #DIV/0! | AC24: ='4号-3,4参考（事業割合）'!F23/'4号-3,4参考（事業割合）'!$J23*'10号-6'!$S$173 -> #DIV/0! | AD24: ='4号-3,4参考（事業割合）'!G23/'4号-3,4参考（事業割合）'!$J23*'10号-6'!$S$173 -> #DIV/0! | AE24: ='4号-3,4参考（事業割合）'!H23/'4号-3,4参考（事業割合）'!$J23*'10号-6'!$S$173 -> #DIV/0! | AF24: ='4号-3,4参考（事業割合）'!I23/'4号-3,4参考（事業割合）'!$J23*'10号-6'!$S$173 -> #DIV/0! | AG24: =IFERROR(SUM(AB24:AF24), "") | AH24: ='4号-3,4参考（事業割合）'!E23/'4号-3,4参考（事業割合）'!$J23*'10号-6'!$S$175 -> #DIV/0! | AI24: ='4号-3,4参考（事業割合）'!F23/'4号-3,4参考（事業割合）'!$J23*'10号-6'!$S$175 -> #DIV/0! | AJ24: ='4号-3,4参考（事業割合）'!G23/'4号-3,4参考（事業割合）'!$J23*'10号-6'!$S$175 -> #DIV/0! | AK24: ='4号-3,4参考（事業割合）'!H23/'4号-3,4参考（事業割合）'!$J23*'10号-6'!$S$175 -> #DIV/0! | AL24: ='4号-3,4参考（事業割合）'!I23/'4号-3,4参考（事業割合）'!$J23*'10号-6'!$S$175 -> #DIV/0! | AM24: =IFERROR(SUM(AH24:AL24), "") | AN24: =+'4号-3,4参考（事業割合）'!E23/'4号-3,4参考（事業割合）'!$J23*'10号-6'!$S$177 -> #DIV/0! | AO24: =+'4号-3,4参考（事業割合）'!F23/'4号-3,4参考（事業割合）'!$J23*'10号-6'!$S$177 -> #DIV/0! | AP24: =+'4号-3,4参考（事業割合）'!G23/'4号-3,4参考（事業割合）'!$J23*'10号-6'!$S$177 -> #DIV/0! | AQ24: =+'4号-3,4参考（事業割合）'!H23/'4号-3,4参考（事業割合）'!$J23*'10号-6'!$S$177 -> #DIV/0! | AR24: =+'4号-3,4参考（事業割合）'!I23/'4号-3,4参考（事業割合）'!$J23*'10号-6'!$S$177 -> #DIV/0! | AS24: =IFERROR(SUM(AN24:AR24), "") | AT24: =SUM(AS24,AM24,AG24) -> 0
A25: 19 | B25: =+'4号-3,4参考（事業割合）'!B24 -> 0 | C25: =+'4号-3,4参考（事業割合）'!C24 -> 0 | D25: ='4号-3,4参考（事業割合）'!D24 | E25: ='4号-3,4参考（事業割合）'!E24/'4号-3,4参考（事業割合）'!$J24*'10号-6'!$S$182 -> #DIV/0! | F25: ='4号-3,4参考（事業割合）'!F24/'4号-3,4参考（事業割合）'!$J24*'10号-6'!$S$182 -> #DIV/0! | G25: ='4号-3,4参考（事業割合）'!G24/'4号-3,4参考（事業割合）'!$J24*'10号-6'!$S$182 -> #DIV/0! | H25: ='4号-3,4参考（事業割合）'!H24/'4号-3,4参考（事業割合）'!$J24*'10号-6'!$S$182 -> #DIV/0! | I25: ='4号-3,4参考（事業割合）'!I24/'4号-3,4参考（事業割合）'!$J24*'10号-6'!$S$182 -> #DIV/0! | J25: =IFERROR(SUM(E25:I25), "") | K25: ='4号-3,4参考（事業割合）'!E24/'4号-3,4参考（事業割合）'!$J$24*'10号-6'!$S$184 -> #DIV/0! | L25: ='4号-3,4参考（事業割合）'!F24/'4号-3,4参考（事業割合）'!$J$24*'10号-6'!$S$184 -> #DIV/0! | M25: ='4号-3,4参考（事業割合）'!G24/'4号-3,4参考（事業割合）'!$J$24*'10号-6'!$S$184 -> #DIV/0! | N25: ='4号-3,4参考（事業割合）'!H24/'4号-3,4参考（事業割合）'!$J$24*'10号-6'!$S$184 -> #DIV/0! | O25: ='4号-3,4参考（事業割合）'!I24/'4号-3,4参考（事業割合）'!$J$24*'10号-6'!$S$184 -> #DIV/0! | P25: =IFERROR(SUM(K25:O25), "") | Q25: =+'4号-3,4参考（事業割合）'!E24/'4号-3,4参考（事業割合）'!$J24*'10号-6'!$S$186 -> #DIV/0! | R25: =+'4号-3,4参考（事業割合）'!F24/'4号-3,4参考（事業割合）'!$J24*'10号-6'!$S$186 -> #DIV/0! | S25: =+'4号-3,4参考（事業割合）'!G24/'4号-3,4参考（事業割合）'!$J24*'10号-6'!$S$186 -> #DIV/0! | T25: =+'4号-3,4参考（事業割合）'!H24/'4号-3,4参考（事業割合）'!$J24*'10号-6'!$S$186 -> #DIV/0! | U25: =+'4号-3,4参考（事業割合）'!I24/'4号-3,4参考（事業割合）'!$J24*'10号-6'!$S$186 -> #DIV/0! | V25: =IFERROR(SUM(Q25:U25), "") | W25: =SUM(V25,P25,J25) -> 0 | Y25: =+B25 -> 0 | Z25: =+C25 -> 0 | AA25: =+D25 | AB25: ='4号-3,4参考（事業割合）'!E24/'4号-3,4参考（事業割合）'!$J24*'10号-6'!$S$181 -> #DIV/0! | AC25: ='4号-3,4参考（事業割合）'!F24/'4号-3,4参考（事業割合）'!$J24*'10号-6'!$S$181 -> #DIV/0! | AD25: ='4号-3,4参考（事業割合）'!G24/'4号-3,4参考（事業割合）'!$J24*'10号-6'!$S$181 -> #DIV/0! | AE25: ='4号-3,4参考（事業割合）'!H24/'4号-3,4参考（事業割合）'!$J24*'10号-6'!$S$181 -> #DIV/0! | AF25: ='4号-3,4参考（事業割合）'!I24/'4号-3,4参考（事業割合）'!$J24*'10号-6'!$S$181 -> #DIV/0! | AG25: =IFERROR(SUM(AB25:AF25), "") | AH25: ='4号-3,4参考（事業割合）'!E24/'4号-3,4参考（事業割合）'!$J24*'10号-6'!$S$183 -> #DIV/0! | AI25: ='4号-3,4参考（事業割合）'!F24/'4号-3,4参考（事業割合）'!$J24*'10号-6'!$S$183 -> #DIV/0! | AJ25: ='4号-3,4参考（事業割合）'!G24/'4号-3,4参考（事業割合）'!$J24*'10号-6'!$S$183 -> #DIV/0! | AK25: ='4号-3,4参考（事業割合）'!H24/'4号-3,4参考（事業割合）'!$J24*'10号-6'!$S$183 -> #DIV/0! | AL25: ='4号-3,4参考（事業割合）'!I24/'4号-3,4参考（事業割合）'!$J24*'10号-6'!$S$183 -> #DIV/0! | AM25: =IFERROR(SUM(AH25:AL25), "") | AN25: =+'4号-3,4参考（事業割合）'!E24/'4号-3,4参考（事業割合）'!$J24*'10号-6'!$S$185 -> #DIV/0! | AO25: =+'4号-3,4参考（事業割合）'!F24/'4号-3,4参考（事業割合）'!$J24*'10号-6'!$S$185 -> #DIV/0! | AP25: =+'4号-3,4参考（事業割合）'!G24/'4号-3,4参考（事業割合）'!$J24*'10号-6'!$S$185 -> #DIV/0! | AQ25: =+'4号-3,4参考（事業割合）'!H24/'4号-3,4参考（事業割合）'!$J24*'10号-6'!$S$185 -> #DIV/0! | AR25: =+'4号-3,4参考（事業割合）'!I24/'4号-3,4参考（事業割合）'!$J24*'10号-6'!$S$185 -> #DIV/0! | AS25: =IFERROR(SUM(AN25:AR25), "") | AT25: =SUM(AS25,AM25,AG25) -> 0
A26: 20 | B26: =+'4号-3,4参考（事業割合）'!B25 -> 0 | C26: =+'4号-3,4参考（事業割合）'!C25 -> 0 | D26: ='4号-3,4参考（事業割合）'!D25 | E26: ='4号-3,4参考（事業割合）'!E25/'4号-3,4参考（事業割合）'!$J25*'10号-6'!$S$190 -> #DIV/0! | F26: ='4号-3,4参考（事業割合）'!F25/'4号-3,4参考（事業割合）'!$J25*'10号-6'!$S$190 -> #DIV/0! | G26: ='4号-3,4参考（事業割合）'!G25/'4号-3,4参考（事業割合）'!$J25*'10号-6'!$S$190 -> #DIV/0! | H26: ='4号-3,4参考（事業割合）'!H25/'4号-3,4参考（事業割合）'!$J25*'10号-6'!$S$190 -> #DIV/0! | I26: ='4号-3,4参考（事業割合）'!I25/'4号-3,4参考（事業割合）'!$J25*'10号-6'!$S$190 -> #DIV/0! | J26: =IFERROR(SUM(E26:I26), "") | K26: ='4号-3,4参考（事業割合）'!E25/'4号-3,4参考（事業割合）'!$J$25*'10号-6'!$S$192 -> #DIV/0! | L26: ='4号-3,4参考（事業割合）'!F25/'4号-3,4参考（事業割合）'!$J$25*'10号-6'!$S$192 -> #DIV/0! | M26: ='4号-3,4参考（事業割合）'!G25/'4号-3,4参考（事業割合）'!$J$25*'10号-6'!$S$192 -> #DIV/0! | N26: ='4号-3,4参考（事業割合）'!H25/'4号-3,4参考（事業割合）'!$J$25*'10号-6'!$S$192 -> #DIV/0! | O26: ='4号-3,4参考（事業割合）'!I25/'4号-3,4参考（事業割合）'!$J$25*'10号-6'!$S$192 -> #DIV/0! | P26: =IFERROR(SUM(K26:O26), "") | Q26: =+'4号-3,4参考（事業割合）'!E25/'4号-3,4参考（事業割合）'!$J25*'10号-6'!$S$194 -> #DIV/0! | R26: =+'4号-3,4参考（事業割合）'!F25/'4号-3,4参考（事業割合）'!$J25*'10号-6'!$S$194 -> #DIV/0! | S26: =+'4号-3,4参考（事業割合）'!G25/'4号-3,4参考（事業割合）'!$J25*'10号-6'!$S$194 -> #DIV/0! | T26: =+'4号-3,4参考（事業割合）'!H25/'4号-3,4参考（事業割合）'!$J25*'10号-6'!$S$194 -> #DIV/0! | U26: =+'4号-3,4参考（事業割合）'!I25/'4号-3,4参考（事業割合）'!$J25*'10号-6'!$S$194 -> #DIV/0! | V26: =IFERROR(SUM(Q26:U26), "") | W26: =SUM(V26,P26,J26) -> 0 | Y26: =+B26 -> 0 | Z26: =+C26 -> 0 | AA26: =+D26 | AB26: ='4号-3,4参考（事業割合）'!E25/'4号-3,4参考（事業割合）'!$J25*'10号-6'!$S$189 -> #DIV/0! | AC26: ='4号-3,4参考（事業割合）'!F25/'4号-3,4参考（事業割合）'!$J25*'10号-6'!$S$189 -> #DIV/0! | AD26: ='4号-3,4参考（事業割合）'!G25/'4号-3,4参考（事業割合）'!$J25*'10号-6'!$S$189 -> #DIV/0! | AE26: ='4号-3,4参考（事業割合）'!H25/'4号-3,4参考（事業割合）'!$J25*'10号-6'!$S$189 -> #DIV/0! | AF26: ='4号-3,4参考（事業割合）'!I25/'4号-3,4参考（事業割合）'!$J25*'10号-6'!$S$189 -> #DIV/0! | AG26: =IFERROR(SUM(AB26:AF26), "") | AH26: ='4号-3,4参考（事業割合）'!E25/'4号-3,4参考（事業割合）'!$J25*'10号-6'!$S$191 -> #DIV/0! | AI26: ='4号-3,4参考（事業割合）'!F25/'4号-3,4参考（事業割合）'!$J25*'10号-6'!$S$191 -> #DIV/0! | AJ26: ='4号-3,4参考（事業割合）'!G25/'4号-3,4参考（事業割合）'!$J25*'10号-6'!$S$191 -> #DIV/0! | AK26: ='4号-3,4参考（事業割合）'!H25/'4号-3,4参考（事業割合）'!$J25*'10号-6'!$S$191 -> #DIV/0! | AL26: ='4号-3,4参考（事業割合）'!I25/'4号-3,4参考（事業割合）'!$J25*'10号-6'!$S$191 -> #DIV/0! | AM26: =IFERROR(SUM(AH26:AL26), "") | AN26: =+'4号-3,4参考（事業割合）'!E25/'4号-3,4参考（事業割合）'!$J25*'10号-6'!$S$193 -> #DIV/0! | AO26: =+'4号-3,4参考（事業割合）'!F25/'4号-3,4参考（事業割合）'!$J25*'10号-6'!$S$193 -> #DIV/0! | AP26: =+'4号-3,4参考（事業割合）'!G25/'4号-3,4参考（事業割合）'!$J25*'10号-6'!$S$193 -> #DIV/0! | AQ26: =+'4号-3,4参考（事業割合）'!H25/'4号-3,4参考（事業割合）'!$J25*'10号-6'!$S$193 -> #DIV/0! | AR26: =+'4号-3,4参考（事業割合）'!I25/'4号-3,4参考（事業割合）'!$J25*'10号-6'!$S$193 -> #DIV/0! | AS26: =IFERROR(SUM(AN26:AR26), "") | AT26: =SUM(AS26,AM26,AG26) -> 0
A27: 21 | B27: =+'4号-3,4参考（事業割合）'!B26 -> 0 | C27: =+'4号-3,4参考（事業割合）'!C26 -> 0 | D27: ='4号-3,4参考（事業割合）'!D26 | E27: ='4号-3,4参考（事業割合）'!E26/'4号-3,4参考（事業割合）'!$J26*'10号-6'!$S$209 -> #DIV/0! | F27: ='4号-3,4参考（事業割合）'!F26/'4号-3,4参考（事業割合）'!$J26*'10号-6'!$S$209 -> #DIV/0! | G27: ='4号-3,4参考（事業割合）'!G26/'4号-3,4参考（事業割合）'!$J26*'10号-6'!$S$209 -> #DIV/0! | H27: ='4号-3,4参考（事業割合）'!H26/'4号-3,4参考（事業割合）'!$J26*'10号-6'!$S$209 -> #DIV/0! | I27: ='4号-3,4参考（事業割合）'!I26/'4号-3,4参考（事業割合）'!$J26*'10号-6'!$S$209 -> #DIV/0! | J27: =IFERROR(SUM(E27:I27), "") | K27: ='4号-3,4参考（事業割合）'!E26/'4号-3,4参考（事業割合）'!$J$26*'10号-6'!$S$211 -> #DIV/0! | L27: ='4号-3,4参考（事業割合）'!F26/'4号-3,4参考（事業割合）'!$J$26*'10号-6'!$S$211 -> #DIV/0! | M27: ='4号-3,4参考（事業割合）'!G26/'4号-3,4参考（事業割合）'!$J$26*'10号-6'!$S$211 -> #DIV/0! | N27: ='4号-3,4参考（事業割合）'!H26/'4号-3,4参考（事業割合）'!$J$26*'10号-6'!$S$211 -> #DIV/0! | O27: ='4号-3,4参考（事業割合）'!I26/'4号-3,4参考（事業割合）'!$J$26*'10号-6'!$S$211 -> #DIV/0! | P27: =IFERROR(SUM(K27:O27), "") | Q27: =+'4号-3,4参考（事業割合）'!E26/'4号-3,4参考（事業割合）'!$J26*'10号-6'!$S$213 -> #DIV/0! | R27: =+'4号-3,4参考（事業割合）'!F26/'4号-3,4参考（事業割合）'!$J26*'10号-6'!$S$213 -> #DIV/0! | S27: =+'4号-3,4参考（事業割合）'!G26/'4号-3,4参考（事業割合）'!$J26*'10号-6'!$S$213 -> #DIV/0! | T27: =+'4号-3,4参考（事業割合）'!H26/'4号-3,4参考（事業割合）'!$J26*'10号-6'!$S$213 -> #DIV/0! | U27: =+'4号-3,4参考（事業割合）'!I26/'4号-3,4参考（事業割合）'!$J26*'10号-6'!$S$213 -> #DIV/0! | V27: =IFERROR(SUM(Q27:U27), "") | W27: =SUM(V27,P27,J27) -> 0 | Y27: =+B27 -> 0 | Z27: =+C27 -> 0 | AA27: =+D27 | AB27: ='4号-3,4参考（事業割合）'!E26/'4号-3,4参考（事業割合）'!$J26*'10号-6'!$S$208 -> #DIV/0! | AC27: ='4号-3,4参考（事業割合）'!F26/'4号-3,4参考（事業割合）'!$J26*'10号-6'!$S$208 -> #DIV/0! | AD27: ='4号-3,4参考（事業割合）'!G26/'4号-3,4参考（事業割合）'!$J26*'10号-6'!$S$208 -> #DIV/0! | AE27: ='4号-3,4参考（事業割合）'!H26/'4号-3,4参考（事業割合）'!$J26*'10号-6'!$S$208 -> #DIV/0! | AF27: ='4号-3,4参考（事業割合）'!I26/'4号-3,4参考（事業割合）'!$J26*'10号-6'!$S$208 -> #DIV/0! | AG27: =IFERROR(SUM(AB27:AF27), "") | AH27: ='4号-3,4参考（事業割合）'!E26/'4号-3,4参考（事業割合）'!$J26*'10号-6'!$S$210 -> #DIV/0! | AI27: ='4号-3,4参考（事業割合）'!F26/'4号-3,4参考（事業割合）'!$J26*'10号-6'!$S$210 -> #DIV/0! | AJ27: ='4号-3,4参考（事業割合）'!G26/'4号-3,4参考（事業割合）'!$J26*'10号-6'!$S$210 -> #DIV/0! | AK27: ='4号-3,4参考（事業割合）'!H26/'4号-3,4参考（事業割合）'!$J26*'10号-6'!$S$210 -> #DIV/0! | AL27: ='4号-3,4参考（事業割合）'!I26/'4号-3,4参考（事業割合）'!$J26*'10号-6'!$S$210 -> #DIV/0! | AM27: =IFERROR(SUM(AH27:AL27), "") | AN27: =+'4号-3,4参考（事業割合）'!E26/'4号-3,4参考（事業割合）'!$J26*'10号-6'!$S$212 -> #DIV/0! | AO27: =+'4号-3,4参考（事業割合）'!F26/'4号-3,4参考（事業割合）'!$J26*'10号-6'!$S$212 -> #DIV/0! | AP27: =+'4号-3,4参考（事業割合）'!G26/'4号-3,4参考（事業割合）'!$J26*'10号-6'!$S$212 -> #DIV/0! | AQ27: =+'4号-3,4参考（事業割合）'!H26/'4号-3,4参考（事業割合）'!$J26*'10号-6'!$S$212 -> #DIV/0! | AR27: =+'4号-3,4参考（事業割合）'!I26/'4号-3,4参考（事業割合）'!$J26*'10号-6'!$S$212 -> #DIV/0! | AS27: =IFERROR(SUM(AN27:AR27), "") | AT27: =SUM(AS27,AM27,AG27) -> 0
A28: 22 | B28: =+'4号-3,4参考（事業割合）'!B27 -> 0 | C28: =+'4号-3,4参考（事業割合）'!C27 -> 0 | D28: ='4号-3,4参考（事業割合）'!D27 | E28: ='4号-3,4参考（事業割合）'!E27/'4号-3,4参考（事業割合）'!$J27*'10号-6'!$S$217 -> #DIV/0! | F28: ='4号-3,4参考（事業割合）'!F27/'4号-3,4参考（事業割合）'!$J27*'10号-6'!$S$217 -> #DIV/0! | G28: ='4号-3,4参考（事業割合）'!G27/'4号-3,4参考（事業割合）'!$J27*'10号-6'!$S$217 -> #DIV/0! | H28: ='4号-3,4参考（事業割合）'!H27/'4号-3,4参考（事業割合）'!$J27*'10号-6'!$S$217 -> #DIV/0! | I28: ='4号-3,4参考（事業割合）'!I27/'4号-3,4参考（事業割合）'!$J27*'10号-6'!$S$217 -> #DIV/0! | J28: =IFERROR(SUM(E28:I28), "") | K28: ='4号-3,4参考（事業割合）'!E27/'4号-3,4参考（事業割合）'!$J$27*'10号-6'!$S$219 -> #DIV/0! | L28: ='4号-3,4参考（事業割合）'!F27/'4号-3,4参考（事業割合）'!$J$27*'10号-6'!$S$219 -> #DIV/0! | M28: ='4号-3,4参考（事業割合）'!G27/'4号-3,4参考（事業割合）'!$J$27*'10号-6'!$S$219 -> #DIV/0! | N28: ='4号-3,4参考（事業割合）'!H27/'4号-3,4参考（事業割合）'!$J$27*'10号-6'!$S$219 -> #DIV/0! | O28: ='4号-3,4参考（事業割合）'!I27/'4号-3,4参考（事業割合）'!$J$27*'10号-6'!$S$219 -> #DIV/0! | P28: =IFERROR(SUM(K28:O28), "") | Q28: =+'4号-3,4参考（事業割合）'!E27/'4号-3,4参考（事業割合）'!$J27*'10号-6'!$S$221 -> #DIV/0! | R28: =+'4号-3,4参考（事業割合）'!F27/'4号-3,4参考（事業割合）'!$J27*'10号-6'!$S$221 -> #DIV/0! | S28: =+'4号-3,4参考（事業割合）'!G27/'4号-3,4参考（事業割合）'!$J27*'10号-6'!$S$221 -> #DIV/0! | T28: =+'4号-3,4参考（事業割合）'!H27/'4号-3,4参考（事業割合）'!$J27*'10号-6'!$S$221 -> #DIV/0! | U28: =+'4号-3,4参考（事業割合）'!I27/'4号-3,4参考（事業割合）'!$J27*'10号-6'!$S$221 -> #DIV/0! | V28: =IFERROR(SUM(Q28:U28), "") | W28: =SUM(V28,P28,J28) -> 0 | Y28: =+B28 -> 0 | Z28: =+C28 -> 0 | AA28: =+D28 | AB28: ='4号-3,4参考（事業割合）'!E27/'4号-3,4参考（事業割合）'!$J27*'10号-6'!$S$216 -> #DIV/0! | AC28: ='4号-3,4参考（事業割合）'!F27/'4号-3,4参考（事業割合）'!$J27*'10号-6'!$S$216 -> #DIV/0! | AD28: ='4号-3,4参考（事業割合）'!G27/'4号-3,4参考（事業割合）'!$J27*'10号-6'!$S$216 -> #DIV/0! | AE28: ='4号-3,4参考（事業割合）'!H27/'4号-3,4参考（事業割合）'!$J27*'10号-6'!$S$216 -> #DIV/0! | AF28: ='4号-3,4参考（事業割合）'!I27/'4号-3,4参考（事業割合）'!$J27*'10号-6'!$S$216 -> #DIV/0! | AG28: =IFERROR(SUM(AB28:AF28), "") | AH28: ='4号-3,4参考（事業割合）'!E27/'4号-3,4参考（事業割合）'!$J27*'10号-6'!$S$218 -> #DIV/0! | AI28: ='4号-3,4参考（事業割合）'!F27/'4号-3,4参考（事業割合）'!$J27*'10号-6'!$S$218 -> #DIV/0! | AJ28: ='4号-3,4参考（事業割合）'!G27/'4号-3,4参考（事業割合）'!$J27*'10号-6'!$S$218 -> #DIV/0! | AK28: ='4号-3,4参考（事業割合）'!H27/'4号-3,4参考（事業割合）'!$J27*'10号-6'!$S$218 -> #DIV/0! | AL28: ='4号-3,4参考（事業割合）'!I27/'4号-3,4参考（事業割合）'!$J27*'10号-6'!$S$218 -> #DIV/0! | AM28: =IFERROR(SUM(AH28:AL28), "") | AN28: =+'4号-3,4参考（事業割合）'!E27/'4号-3,4参考（事業割合）'!$J27*'10号-6'!$S$220 -> #DIV/0! | AO28: =+'4号-3,4参考（事業割合）'!F27/'4号-3,4参考（事業割合）'!$J27*'10号-6'!$S$220 -> #DIV/0! | AP28: =+'4号-3,4参考（事業割合）'!G27/'4号-3,4参考（事業割合）'!$J27*'10号-6'!$S$220 -> #DIV/0! | AQ28: =+'4号-3,4参考（事業割合）'!H27/'4号-3,4参考（事業割合）'!$J27*'10号-6'!$S$220 -> #DIV/0! | AR28: =+'4号-3,4参考（事業割合）'!I27/'4号-3,4参考（事業割合）'!$J27*'10号-6'!$S$220 -> #DIV/0! | AS28: =IFERROR(SUM(AN28:AR28), "") | AT28: =SUM(AS28,AM28,AG28) -> 0
A29: 23 | B29: =+'4号-3,4参考（事業割合）'!B28 -> 0 | C29: =+'4号-3,4参考（事業割合）'!C28 -> 0 | D29: ='4号-3,4参考（事業割合）'!D28 | E29: ='4号-3,4参考（事業割合）'!E28/'4号-3,4参考（事業割合）'!$J28*'10号-6'!$S$225 -> #DIV/0! | F29: ='4号-3,4参考（事業割合）'!F28/'4号-3,4参考（事業割合）'!$J28*'10号-6'!$S$225 -> #DIV/0! | G29: ='4号-3,4参考（事業割合）'!G28/'4号-3,4参考（事業割合）'!$J28*'10号-6'!$S$225 -> #DIV/0! | H29: ='4号-3,4参考（事業割合）'!H28/'4号-3,4参考（事業割合）'!$J28*'10号-6'!$S$225 -> #DIV/0! | I29: ='4号-3,4参考（事業割合）'!I28/'4号-3,4参考（事業割合）'!$J28*'10号-6'!$S$225 -> #DIV/0! | J29: =IFERROR(SUM(E29:I29), "") | K29: ='4号-3,4参考（事業割合）'!E28/'4号-3,4参考（事業割合）'!$J$28*'10号-6'!$S$227 -> #DIV/0! | L29: ='4号-3,4参考（事業割合）'!F28/'4号-3,4参考（事業割合）'!$J$28*'10号-6'!$S$227 -> #DIV/0! | M29: ='4号-3,4参考（事業割合）'!G28/'4号-3,4参考（事業割合）'!$J$28*'10号-6'!$S$227 -> #DIV/0! | N29: ='4号-3,4参考（事業割合）'!H28/'4号-3,4参考（事業割合）'!$J$28*'10号-6'!$S$227 -> #DIV/0! | O29: ='4号-3,4参考（事業割合）'!I28/'4号-3,4参考（事業割合）'!$J$28*'10号-6'!$S$227 -> #DIV/0! | P29: =IFERROR(SUM(K29:O29), "") | Q29: =+'4号-3,4参考（事業割合）'!E28/'4号-3,4参考（事業割合）'!$J28*'10号-6'!$S$229 -> #DIV/0! | R29: =+'4号-3,4参考（事業割合）'!F28/'4号-3,4参考（事業割合）'!$J28*'10号-6'!$S$229 -> #DIV/0! | S29: =+'4号-3,4参考（事業割合）'!G28/'4号-3,4参考（事業割合）'!$J28*'10号-6'!$S$229 -> #DIV/0! | T29: =+'4号-3,4参考（事業割合）'!H28/'4号-3,4参考（事業割合）'!$J28*'10号-6'!$S$229 -> #DIV/0! | U29: =+'4号-3,4参考（事業割合）'!I28/'4号-3,4参考（事業割合）'!$J28*'10号-6'!$S$229 -> #DIV/0! | V29: =IFERROR(SUM(Q29:U29), "") | W29: =SUM(V29,P29,J29) -> 0 | Y29: =+B29 -> 0 | Z29: =+C29 -> 0 | AA29: =+D29 | AB29: ='4号-3,4参考（事業割合）'!E28/'4号-3,4参考（事業割合）'!$J28*'10号-6'!$S$224 -> #DIV/0! | AC29: ='4号-3,4参考（事業割合）'!F28/'4号-3,4参考（事業割合）'!$J28*'10号-6'!$S$224 -> #DIV/0! | AD29: ='4号-3,4参考（事業割合）'!G28/'4号-3,4参考（事業割合）'!$J28*'10号-6'!$S$224 -> #DIV/0! | AE29: ='4号-3,4参考（事業割合）'!H28/'4号-3,4参考（事業割合）'!$J28*'10号-6'!$S$224 -> #DIV/0! | AF29: ='4号-3,4参考（事業割合）'!I28/'4号-3,4参考（事業割合）'!$J28*'10号-6'!$S$224 -> #DIV/0! | AG29: =IFERROR(SUM(AB29:AF29), "") | AH29: ='4号-3,4参考（事業割合）'!E28/'4号-3,4参考（事業割合）'!$J28*'10号-6'!$S$226 -> #DIV/0! | AI29: ='4号-3,4参考（事業割合）'!F28/'4号-3,4参考（事業割合）'!$J28*'10号-6'!$S$226 -> #DIV/0! | AJ29: ='4号-3,4参考（事業割合）'!G28/'4号-3,4参考（事業割合）'!$J28*'10号-6'!$S$226 -> #DIV/0! | AK29: ='4号-3,4参考（事業割合）'!H28/'4号-3,4参考（事業割合）'!$J28*'10号-6'!$S$226 -> #DIV/0! | AL29: ='4号-3,4参考（事業割合）'!I28/'4号-3,4参考（事業割合）'!$J28*'10号-6'!$S$226 -> #DIV/0! | AM29: =IFERROR(SUM(AH29:AL29), "") | AN29: =+'4号-3,4参考（事業割合）'!E28/'4号-3,4参考（事業割合）'!$J28*'10号-6'!$S$228 -> #DIV/0! | AO29: =+'4号-3,4参考（事業割合）'!F28/'4号-3,4参考（事業割合）'!$J28*'10号-6'!$S$228 -> #DIV/0! | AP29: =+'4号-3,4参考（事業割合）'!G28/'4号-3,4参考（事業割合）'!$J28*'10号-6'!$S$228 -> #DIV/0! | AQ29: =+'4号-3,4参考（事業割合）'!H28/'4号-3,4参考（事業割合）'!$J28*'10号-6'!$S$228 -> #DIV/0! | AR29: =+'4号-3,4参考（事業割合）'!I28/'4号-3,4参考（事業割合）'!$J28*'10号-6'!$S$228 -> #DIV/0! | AS29: =IFERROR(SUM(AN29:AR29), "") | AT29: =SUM(AS29,AM29,AG29) -> 0
A30: 24 | B30: =+'4号-3,4参考（事業割合）'!B29 -> 0 | C30: =+'4号-3,4参考（事業割合）'!C29 -> 0 | D30: ='4号-3,4参考（事業割合）'!D29 | E30: ='4号-3,4参考（事業割合）'!E29/'4号-3,4参考（事業割合）'!$J29*'10号-6'!$S$233 -> #DIV/0! | F30: ='4号-3,4参考（事業割合）'!F29/'4号-3,4参考（事業割合）'!$J29*'10号-6'!$S$233 -> #DIV/0! | G30: ='4号-3,4参考（事業割合）'!G29/'4号-3,4参考（事業割合）'!$J29*'10号-6'!$S$233 -> #DIV/0! | H30: ='4号-3,4参考（事業割合）'!H29/'4号-3,4参考（事業割合）'!$J29*'10号-6'!$S$233 -> #DIV/0! | I30: ='4号-3,4参考（事業割合）'!I29/'4号-3,4参考（事業割合）'!$J29*'10号-6'!$S$233 -> #DIV/0! | J30: =IFERROR(SUM(E30:I30), "") | K30: ='4号-3,4参考（事業割合）'!E29/'4号-3,4参考（事業割合）'!$J$29*'10号-6'!$S$235 -> #DIV/0! | L30: ='4号-3,4参考（事業割合）'!F29/'4号-3,4参考（事業割合）'!$J$29*'10号-6'!$S$235 -> #DIV/0! | M30: ='4号-3,4参考（事業割合）'!G29/'4号-3,4参考（事業割合）'!$J$29*'10号-6'!$S$235 -> #DIV/0! | N30: ='4号-3,4参考（事業割合）'!H29/'4号-3,4参考（事業割合）'!$J$29*'10号-6'!$S$235 -> #DIV/0! | O30: ='4号-3,4参考（事業割合）'!I29/'4号-3,4参考（事業割合）'!$J$29*'10号-6'!$S$235 -> #DIV/0! | P30: =IFERROR(SUM(K30:O30), "") | Q30: =+'4号-3,4参考（事業割合）'!E29/'4号-3,4参考（事業割合）'!$J29*'10号-6'!$S$237 -> #DIV/0! | R30: =+'4号-3,4参考（事業割合）'!F29/'4号-3,4参考（事業割合）'!$J29*'10号-6'!$S$237 -> #DIV/0! | S30: =+'4号-3,4参考（事業割合）'!G29/'4号-3,4参考（事業割合）'!$J29*'10号-6'!$S$237 -> #DIV/0! | T30: =+'4号-3,4参考（事業割合）'!H29/'4号-3,4参考（事業割合）'!$J29*'10号-6'!$S$237 -> #DIV/0! | U30: =+'4号-3,4参考（事業割合）'!I29/'4号-3,4参考（事業割合）'!$J29*'10号-6'!$S$237 -> #DIV/0! | V30: =IFERROR(SUM(Q30:U30), "") | W30: =SUM(V30,P30,J30) -> 0 | Y30: =+B30 -> 0 | Z30: =+C30 -> 0 | AA30: =+D30 | AB30: ='4号-3,4参考（事業割合）'!E29/'4号-3,4参考（事業割合）'!$J29*'10号-6'!$S$232 -> #DIV/0! | AC30: ='4号-3,4参考（事業割合）'!F29/'4号-3,4参考（事業割合）'!$J29*'10号-6'!$S$232 -> #DIV/0! | AD30: ='4号-3,4参考（事業割合）'!G29/'4号-3,4参考（事業割合）'!$J29*'10号-6'!$S$232 -> #DIV/0! | AE30: ='4号-3,4参考（事業割合）'!H29/'4号-3,4参考（事業割合）'!$J29*'10号-6'!$S$232 -> #DIV/0! | AF30: ='4号-3,4参考（事業割合）'!I29/'4号-3,4参考（事業割合）'!$J29*'10号-6'!$S$232 -> #DIV/0! | AG30: =IFERROR(SUM(AB30:AF30), "") | AH30: ='4号-3,4参考（事業割合）'!E29/'4号-3,4参考（事業割合）'!$J29*'10号-6'!$S$234 -> #DIV/0! | AI30: ='4号-3,4参考（事業割合）'!F29/'4号-3,4参考（事業割合）'!$J29*'10号-6'!$S$234 -> #DIV/0! | AJ30: ='4号-3,4参考（事業割合）'!G29/'4号-3,4参考（事業割合）'!$J29*'10号-6'!$S$234 -> #DIV/0! | AK30: ='4号-3,4参考（事業割合）'!H29/'4号-3,4参考（事業割合）'!$J29*'10号-6'!$S$234 -> #DIV/0! | AL30: ='4号-3,4参考（事業割合）'!I29/'4号-3,4参考（事業割合）'!$J29*'10号-6'!$S$234 -> #DIV/0! | AM30: =IFERROR(SUM(AH30:AL30), "") | AN30: =+'4号-3,4参考（事業割合）'!E29/'4号-3,4参考（事業割合）'!$J29*'10号-6'!$S$236 -> #DIV/0! | AO30: =+'4号-3,4参考（事業割合）'!F29/'4号-3,4参考（事業割合）'!$J29*'10号-6'!$S$236 -> #DIV/0! | AP30: =+'4号-3,4参考（事業割合）'!G29/'4号-3,4参考（事業割合）'!$J29*'10号-6'!$S$236 -> #DIV/0! | AQ30: =+'4号-3,4参考（事業割合）'!H29/'4号-3,4参考（事業割合）'!$J29*'10号-6'!$S$236 -> #DIV/0! | AR30: =+'4号-3,4参考（事業割合）'!I29/'4号-3,4参考（事業割合）'!$J29*'10号-6'!$S$236 -> #DIV/0! | AS30: =IFERROR(SUM(AN30:AR30), "") | AT30: =SUM(AS30,AM30,AG30) -> 0
A31: 25 | B31: =+'4号-3,4参考（事業割合）'!B30 -> 0 | C31: =+'4号-3,4参考（事業割合）'!C30 -> 0 | D31: ='4号-3,4参考（事業割合）'!D30 | E31: ='4号-3,4参考（事業割合）'!E30/'4号-3,4参考（事業割合）'!$J30*'10号-6'!$S$241 -> #DIV/0! | F31: ='4号-3,4参考（事業割合）'!F30/'4号-3,4参考（事業割合）'!$J30*'10号-6'!$S$241 -> #DIV/0! | G31: ='4号-3,4参考（事業割合）'!G30/'4号-3,4参考（事業割合）'!$J30*'10号-6'!$S$241 -> #DIV/0! | H31: ='4号-3,4参考（事業割合）'!H30/'4号-3,4参考（事業割合）'!$J30*'10号-6'!$S$241 -> #DIV/0! | I31: ='4号-3,4参考（事業割合）'!I30/'4号-3,4参考（事業割合）'!$J30*'10号-6'!$S$241 -> #DIV/0! | J31: =IFERROR(SUM(E31:I31), "") | K31: ='4号-3,4参考（事業割合）'!E30/'4号-3,4参考（事業割合）'!$J$30*'10号-6'!$S$243 -> #DIV/0! | L31: ='4号-3,4参考（事業割合）'!F30/'4号-3,4参考（事業割合）'!$J$30*'10号-6'!$S$243 -> #DIV/0! | M31: ='4号-3,4参考（事業割合）'!G30/'4号-3,4参考（事業割合）'!$J$30*'10号-6'!$S$243 -> #DIV/0! | N31: ='4号-3,4参考（事業割合）'!H30/'4号-3,4参考（事業割合）'!$J$30*'10号-6'!$S$243 -> #DIV/0! | O31: ='4号-3,4参考（事業割合）'!I30/'4号-3,4参考（事業割合）'!$J$30*'10号-6'!$S$243 -> #DIV/0! | P31: =IFERROR(SUM(K31:O31), "") | Q31: =+'4号-3,4参考（事業割合）'!E30/'4号-3,4参考（事業割合）'!$J30*'10号-6'!$S$245 -> #DIV/0! | R31: =+'4号-3,4参考（事業割合）'!F30/'4号-3,4参考（事業割合）'!$J30*'10号-6'!$S$245 -> #DIV/0! | S31: =+'4号-3,4参考（事業割合）'!G30/'4号-3,4参考（事業割合）'!$J30*'10号-6'!$S$245 -> #DIV/0! | T31: =+'4号-3,4参考（事業割合）'!H30/'4号-3,4参考（事業割合）'!$J30*'10号-6'!$S$245 -> #DIV/0! | U31: =+'4号-3,4参考（事業割合）'!I30/'4号-3,4参考（事業割合）'!$J30*'10号-6'!$S$245 -> #DIV/0! | V31: =IFERROR(SUM(Q31:U31), "") | W31: =SUM(V31,P31,J31) -> 0 | Y31: =+B31 -> 0 | Z31: =+C31 -> 0 | AA31: =+D31 | AB31: ='4号-3,4参考（事業割合）'!E30/'4号-3,4参考（事業割合）'!$J30*'10号-6'!$S$240 -> #DIV/0! | AC31: ='4号-3,4参考（事業割合）'!F30/'4号-3,4参考（事業割合）'!$J30*'10号-6'!$S$240 -> #DIV/0! | AD31: ='4号-3,4参考（事業割合）'!G30/'4号-3,4参考（事業割合）'!$J30*'10号-6'!$S$240 -> #DIV/0! | AE31: ='4号-3,4参考（事業割合）'!H30/'4号-3,4参考（事業割合）'!$J30*'10号-6'!$S$240 -> #DIV/0! | AF31: ='4号-3,4参考（事業割合）'!I30/'4号-3,4参考（事業割合）'!$J30*'10号-6'!$S$240 -> #DIV/0! | AG31: =IFERROR(SUM(AB31:AF31), "") | AH31: ='4号-3,4参考（事業割合）'!E30/'4号-3,4参考（事業割合）'!$J30*'10号-6'!$S$242 -> #DIV/0! | AI31: ='4号-3,4参考（事業割合）'!F30/'4号-3,4参考（事業割合）'!$J30*'10号-6'!$S$242 -> #DIV/0! | AJ31: ='4号-3,4参考（事業割合）'!G30/'4号-3,4参考（事業割合）'!$J30*'10号-6'!$S$242 -> #DIV/0! | AK31: ='4号-3,4参考（事業割合）'!H30/'4号-3,4参考（事業割合）'!$J30*'10号-6'!$S$242 -> #DIV/0! | AL31: ='4号-3,4参考（事業割合）'!I30/'4号-3,4参考（事業割合）'!$J30*'10号-6'!$S$242 -> #DIV/0! | AM31: =IFERROR(SUM(AH31:AL31), "") | AN31: =+'4号-3,4参考（事業割合）'!E30/'4号-3,4参考（事業割合）'!$J30*'10号-6'!$S$244 -> #DIV/0! | AO31: =+'4号-3,4参考（事業割合）'!F30/'4号-3,4参考（事業割合）'!$J30*'10号-6'!$S$244 -> #DIV/0! | AP31: =+'4号-3,4参考（事業割合）'!G30/'4号-3,4参考（事業割合）'!$J30*'10号-6'!$S$244 -> #DIV/0! | AQ31: =+'4号-3,4参考（事業割合）'!H30/'4号-3,4参考（事業割合）'!$J30*'10号-6'!$S$244 -> #DIV/0! | AR31: =+'4号-3,4参考（事業割合）'!I30/'4号-3,4参考（事業割合）'!$J30*'10号-6'!$S$244 -> #DIV/0! | AS31: =IFERROR(SUM(AN31:AR31), "") | AT31: =SUM(AS31,AM31,AG31) -> 0
B32: 計 | C32: ='4号-3,4参考（事業割合）'!C31 -> 5 | D32: 人 | E32: =_xlfn.AGGREGATE(9,6,E7:E31) -> 30401.598 | F32: =_xlfn.AGGREGATE(9,6,F7:F31) -> 24757.143 | G32: =_xlfn.AGGREGATE(9,6,G7:G31) -> 22541.558 | H32: =_xlfn.AGGREGATE(9,6,H7:H31) -> 22841.658 | I32: =_xlfn.AGGREGATE(9,6,I7:I31) -> 19458.042 | J32: =SUM(E32:I32) -> 120000 | K32: =_xlfn.AGGREGATE(9,6,K7:K31) -> 30401.598 | L32: =_xlfn.AGGREGATE(9,6,L7:L31) -> 24757.143 | M32: =_xlfn.AGGREGATE(9,6,M7:M31) -> 22541.558 | N32: =_xlfn.AGGREGATE(9,6,N7:N31) -> 22841.658 | O32: =_xlfn.AGGREGATE(9,6,O7:O31) -> 19458.042 | P32: =SUM(K32:O32) -> 120000 | Q32: =_xlfn.AGGREGATE(9,6,Q7:Q31) -> 30401.598 | R32: =_xlfn.AGGREGATE(9,6,R7:R31) -> 24757.143 | S32: =_xlfn.AGGREGATE(9,6,S7:S31) -> 22541.558 | T32: =_xlfn.AGGREGATE(9,6,T7:T31) -> 22841.658 | U32: =_xlfn.AGGREGATE(9,6,U7:U31) -> 19458.042 | V32: =SUM(Q32:U32) -> 120000 | W32: =SUM(V32,P32,J32) -> 360000 | Y32: 計 | Z32: =C32 -> 5 | AA32: 人 | AB32: =_xlfn.AGGREGATE(9,6,AB7:AB31) -> 15200.799 | AC32: =_xlfn.AGGREGATE(9,6,AC7:AC31) -> 12378.571 | AD32: =_xlfn.AGGREGATE(9,6,AD7:AD31) -> 11270.779 | AE32: =_xlfn.AGGREGATE(9,6,AE7:AE31) -> 11420.829 | AF32: =_xlfn.AGGREGATE(9,6,AF7:AF31) -> 9729.021 | AG32: =SUM(AB32:AF32) -> 60000 | AH32: =_xlfn.AGGREGATE(9,6,AH7:AH31) -> 15200.799 | AI32: =_xlfn.AGGREGATE(9,6,AI7:AI31) -> 12378.571 | AJ32: =_xlfn.AGGREGATE(9,6,AJ7:AJ31) -> 11270.779 | AK32: =_xlfn.AGGREGATE(9,6,AK7:AK31) -> 11420.829 | AL32: =_xlfn.AGGREGATE(9,6,AL7:AL31) -> 9729.021 | AM32: =SUM(AH32:AL32) -> 60000 | AN32: =_xlfn.AGGREGATE(9,6,AN7:AN31) -> 15200.799 | AO32: =_xlfn.AGGREGATE(9,6,AO7:AO31) -> 12378.571 | AP32: =_xlfn.AGGREGATE(9,6,AP7:AP31) -> 11270.779 | AQ32: =_xlfn.AGGREGATE(9,6,AQ7:AQ31) -> 11420.829 | AR32: =_xlfn.AGGREGATE(9,6,AR7:AR31) -> 9729.021 | AS32: =SUM(AN32:AR32) -> 60000 | AT32: =SUM(AS32,AM32,AG32) -> 180000
B33: ※公共・補助金（下請）とは、公共工事・造林補助金等事業（下請）のこと。 | Y33: ※公共・補助金（下請）とは、公共工事・造林補助金等事業（下請）のこと。

Sheet 4号-3,4参考（事業割合）
B1: 第4号-3,4参考（就業割合） | N1: 4号-3,4参考（就業割合）
B2: ２ 令和7年度 | C2: 社会保険従事者別年間就業計画表（助成対象者のみ） | L2: 年齢算出基準日 | M2: 45992 | N2: ２ 令和7年度 | O2: 社会保険従事者別年間就業計画表（助成対象者のみ）
I3: 【 社会保険 】 | Y3: 【 社会保険 】
B4: 氏名 | C4: 生年月日 | D4: 年齢 | E4: 公共工事請負 | F4: 主伐 | G4: 造林補助金等 事業（申請者） | H4: 公共工事・造林補助金等事業(下請) | I4: その他 | J4: 計 | Q4: 主伐 | R4: 搬出間伐 | S4: 小計 | T4: 切捨間伐 | U4: 植栽 | V4: 下刈 | W4: その他 （除伐、枝打ち、附帯施設等） | X4: 小計
E5: 日 | F5: 日 | G5: 日 | H5: 日 | I5: 日 | J5: 日 | Q5: 日 | R5: 日 | S5: 日 | T5: 日 | U5: 日 | V5: 日 | W5: 日 | X5: 日 | Y5: 日 | Z5: 日
A6: 1 | B6: あ | C6: 29985 | D6: =IF(ISBLANK(C6),"",DATEDIF(C6,$M$2,"y")) -> 43 | E6: 10 | G6: 40 | H6: 20 | I6: 40 | J6: =SUM(E6:I6) -> 110 | K6: =IF(ISBLANK(B6),"",1) -> 1 | P6: =IF(ISBLANK(O6),"",DATEDIF(O6,$M$2,"y")) | S6: =SUM(Q6:R6) -> 0 | X6: =SUM(T6:W6) -> 0 | Z6: =SUM(X6,S6,Y6) -> 0
A7: 2 | B7: い | C7: 37047 | D7: =IF(ISBLANK(C7),"",DATEDIF(C7,$M$2,"y")) -> 24 | E7: 30 | H7: 10 | I7: 25 | J7: =SUM(E7:I7) -> 65 | K7: =IF(ISBLANK(B7),"",1) -> 1 | P7: =IF(ISBLANK(O7),"",DATEDIF(O7,$M$2,"y")) | S7: =SUM(Q7:R7) -> 0 | X7: =SUM(T7:W7) -> 0 | Z7: =SUM(X7,S7,Y7) -> 0
A8: 3 | B8: う | C8: 29403 | D8: =IF(ISBLANK(C8),"",DATEDIF(C8,$M$2,"y")) -> 45 | F8: 65 | G8: 25 | H8: 15 | J8: =SUM(E8:I8) -> 105 | K8: =IF(ISBLANK(B8),"",1) -> 1 | P8: =IF(ISBLANK(O8),"",DATEDIF(O8,$M$2,"y")) | S8: =SUM(Q8:R8) -> 0 | X8: =SUM(T8:W8) -> 0 | Z8: =SUM(X8,S8,Y8) -> 0
A9: 4 | B9: え | C9: 26590 | D9: =IF(ISBLANK(C9),"",DATEDIF(C9,$M$2,"y")) -> 53 | E9: 25 | H9: 10 | J9: =SUM(E9:I9) -> 35 | K9: =IF(ISBLANK(B9),"",1) -> 1 | P9: =IF(ISBLANK(O9),"",DATEDIF(O9,$M$2,"y")) | S9: =SUM(Q9:R9) -> 0 | X9: =SUM(T9:W9) -> 0 | Z9: =SUM(X9,S9,Y9) -> 0
A10: 5 | B10: お | C10: 33947 | D10: =IF(ISBLANK(C10),"",DATEDIF(C10,$M$2,"y")) -> 32 | F10: 33 | G10: 27 | H10: 15 | I10: 5 | J10: =SUM(E10:I10) -> 80 | K10: =IF(ISBLANK(B10),"",1) -> 1 | P10: =IF(ISBLANK(O10),"",DATEDIF(O10,$M$2,"y")) | S10: =SUM(Q10:R10) -> 0 | X10: =SUM(T10:W10) -> 0 | Z10: =SUM(X10,S10,Y10) -> 0
A11: 6 | D11: =IF(ISBLANK(C11),"",DATEDIF(C11,$M$2,"y")) | J11: =SUM(E11:I11) -> 0 | K11: =IF(ISBLANK(B11),"",1) | P11: =IF(ISBLANK(O11),"",DATEDIF(O11,$M$2,"y")) | S11: =SUM(Q11:R11) -> 0 | X11: =SUM(T11:W11) -> 0 | Z11: =SUM(X11,S11,Y11) -> 0
A12: 7 | D12: =IF(ISBLANK(C12),"",DATEDIF(C12,$M$2,"y")) | J12: =SUM(E12:I12) -> 0 | K12: =IF(ISBLANK(B12),"",1) | P12: =IF(ISBLANK(O12),"",DATEDIF(O12,$M$2,"y")) | S12: =SUM(Q12:R12) -> 0 | X12: =SUM(T12:W12) -> 0 | Z12: =SUM(X12,S12,Y12) -> 0
A13: 8 | D13: =IF(ISBLANK(C13),"",DATEDIF(C13,$M$2,"y")) | J13: =SUM(E13:I13) -> 0 | K13: =IF(ISBLANK(B13),"",1) | P13: =IF(ISBLANK(O13),"",DATEDIF(O13,$M$2,"y")) | S13: =SUM(Q13:R13) -> 0 | X13: =SUM(T13:W13) -> 0 | Z13: =SUM(X13,S13,Y13) -> 0
A14: 9 | D14: =IF(ISBLANK(C14),"",DATEDIF(C14,$M$2,"y")) | J14: =SUM(E14:I14) -> 0 | K14: =IF(ISBLANK(B14),"",1) | P14: =IF(ISBLANK(O14),"",DATEDIF(O14,$M$2,"y")) | S14: =SUM(Q14:R14) -> 0 | X14: =SUM(T14:W14) -> 0 | Z14: =SUM(X14,S14,Y14) -> 0
A15: 10 | D15: =IF(ISBLANK(C15),"",DATEDIF(C15,$M$2,"y")) | J15: =SUM(E15:I15) -> 0 | K15: =IF(ISBLANK(B15),"",1) | P15: =IF(ISBLANK(O15),"",DATEDIF(O15,$M$2,"y")) | S15: =SUM(Q15:R15) -> 0 | X15: =SUM(T15:W15) -> 0 | Z15: =SUM(X15,S15,Y15) -> 0
A16: 11 | D16: =IF(ISBLANK(C16),"",DATEDIF(C16,$M$2,"y")) | J16: =SUM(E16:I16) -> 0 | K16: =IF(ISBLANK(B16),"",1) | P16: =IF(ISBLANK(O16),"",DATEDIF(O16,$M$2,"y")) | S16: =SUM(Q16:R16) -> 0 | X16: =SUM(T16:W16) -> 0 | Z16: =SUM(X16,S16,Y16) -> 0
A17: 12 | D17: =IF(ISBLANK(C17),"",DATEDIF(C17,$M$2,"y")) | J17: =SUM(E17:I17) -> 0 | K17: =IF(ISBLANK(B17),"",1) | P17: =IF(ISBLANK(O17),"",DATEDIF(O17,$M$2,"y")) | S17: =SUM(Q17:R17) -> 0 | X17: =SUM(T17:W17) -> 0 | Z17: =SUM(X17,S17,Y17) -> 0
A18: 13 | D18: =IF(ISBLANK(C18),"",DATEDIF(C18,$M$2,"y")) | J18: =SUM(E18:I18) -> 0 | K18: =IF(ISBLANK(B18),"",1) | P18: =IF(ISBLANK(O18),"",DATEDIF(O18,$M$2,"y")) | S18: =SUM(Q18:R18) -> 0 | X18: =SUM(T18:W18) -> 0 | Z18: =SUM(X18,S18,Y18) -> 0
A19: 14 | D19: =IF(ISBLANK(C19),"",DATEDIF(C19,$M$2,"y")) | J19: =SUM(E19:I19) -> 0 | K19: =IF(ISBLANK(B19),"",1) | P19: =IF(ISBLANK(O19),"",DATEDIF(O19,$M$2,"y")) | S19: =SUM(Q19:R19) -> 0 | X19: =SUM(T19:W19) -> 0 | Z19: =SUM(X19,S19,Y19) -> 0
A20: 15 | D20: =IF(ISBLANK(C20),"",DATEDIF(C20,$M$2,"y")) | J20: =SUM(E20:I20) -> 0 | K20: =IF(ISBLANK(B20),"",1) | P20: =IF(ISBLANK(O20),"",DATEDIF(O20,$M$2,"y")) | S20: =SUM(Q20:R20) -> 0 | X20: =SUM(T20:W20) -> 0 | Z20: =SUM(X20,S20,Y20) -> 0
A21: 16 | D21: =IF(ISBLANK(C21),"",DATEDIF(C21,$M$2,"y")) | J21: =SUM(E21:I21) -> 0 | K21: =IF(ISBLANK(B21),"",1) | P21: =IF(ISBLANK(O21),"",DATEDIF(O21,$M$2,"y")) | S21: =SUM(Q21:R21) -> 0 | X21: =SUM(T21:W21) -> 0 | Z21: =SUM(X21,S21,Y21) -> 0
A22: 17 | D22: =IF(ISBLANK(C22),"",DATEDIF(C22,$M$2,"y")) | J22: =SUM(E22:I22) -> 0 | K22: =IF(ISBLANK(B22),"",1) | P22: =IF(ISBLANK(O22),"",DATEDIF(O22,$M$2,"y")) | S22: =SUM(Q22:R22) -> 0 | X22: =SUM(T22:W22) -> 0 | Z22: =SUM(X22,S22,Y22) -> 0
... A30: 25 | D30: =IF(ISBLANK(C30),"",DATEDIF(C30,$M$2,"y")) | J30: =SUM(E30:I30) -> 0 | K30: =IF(ISBLANK(B30),"",1) | P30: =IF(ISBLANK(O30),"",DATEDIF(O30,$M$2,"y")) | S30: =SUM(Q30:R30) -> 0 | X30: =SUM(T30:W30) -> 0 | Z30: =SUM(X30,S30,Y30) -> 0
B31: 計 | C31: =K31 -> 5 | D31: 人 | E31: =SUM(E6:E30) -> 65 | F31: =SUM(F6:F30) -> 98 | G31: =SUM(G6:G30) -> 92 | H31: =SUM(H6:H30) -> 70 | I31: =SUM(I6:I30) -> 70 | J31: =SUM(E31:I31) -> 395 | K31: =SUM(K6:K30) -> 5 | N31: 計 | O31: =AA31 -> 0 | P31: 人 | Q31: =SUM(Q6:Q30) -> 0 | R31: =SUM(R6:R30) -> 0 | S31: =SUM(Q31:R31) -> 0 | T31: =SUM(T6:T30) -> 0 | U31: =SUM(U6:U30) -> 0 | V31: =SUM(V6:V30) -> 0 | W31: =SUM(W6:W30) -> 0 | X31: =SUM(T31:W31) -> 0 | Y31: =SUM(Y6:Y30) -> 0 | Z31: =SUM(X31,S31,Y31) -> 0
B32: 注1：林退共と中退共加入の従事者は、別葉で記載してください。 | N32: 注1：林退共と中退共加入の従事者は、別葉で記載してください。
B33: 注2：記録に基づき事業種目ごとに日数を記載する。
B34: 注3：行が足りない場合は、挿入して行を増やしてください。 | N34: 注2：伐出事業、造林事業の作業種別内訳日数について、記録に基づき作業種ごとに日数を記載する。

Sheet 10号-6
A1: [別記第１０号様式の６]
F2: 令和7年度 | H2: 社会保険料負担実績明細表
A3: 従事者名 | B3: 区分 | C3: 負担区分 | D3: １月 | E3: ２月 | F3: ３月 | G3: ４月 | H3: ５月 | I3: ６月 | J3: ７月 | K3: ８月 | L3: ９月 | M3: １０月 | N3: １１月 | O3: １２月 | P3: 期末手当 | Q3: 賞与（夏） | R3: 賞与（冬） | S3: 計
A4: あ | B4: 雇用保険 | C4: 本人負担 | D4: 1000 | E4: 1000 | F4: 1000 | G4: 1000 | H4: 1000 | I4: 1000 | J4: 1000 | K4: 1000 | L4: 1000 | M4: 1000 | N4: 1000 | O4: 1000 | S4: =SUM(D4:R4) -> 12000
C5: 事業主負担 | D5: 2000 | E5: 2000 | F5: 2000 | G5: 2000 | H5: 2000 | I5: 2000 | J5: 2000 | K5: 2000 | L5: 2000 | M5: 2000 | N5: 2000 | O5: 2000 | S5: =SUM(D5:R5) -> 24000
B6: 健康保険 | C6: 本人負担 | D6: 1000 | E6: 1000 | F6: 1000 | G6: 1000 | H6: 1000 | I6: 1000 | J6: 1000 | K6: 1000 | L6: 1000 | M6: 1000 | N6: 1000 | O6: 1000 | S6: =SUM(D6:R6) -> 12000
C7: 事業主負担 | D7: 2000 | E7: 2000 | F7: 2000 | G7: 2000 | H7: 2000 | I7: 2000 | J7: 2000 | K7: 2000 | L7: 2000 | M7: 2000 | N7: 2000 | O7: 2000 | S7: =SUM(D7:R7) -> 24000
B8: 厚生年金 | C8: 本人負担 | D8: 1000 | E8: 1000 | F8: 1000 | G8: 1000 | H8: 1000 | I8: 1000 | J8: 1000 | K8: 1000 | L8: 1000 | M8: 1000 | N8: 1000 | O8: 1000 | S8: =SUM(D8:R8) -> 12000
C9: 事業主負担 | D9: 2000 | E9: 2000 | F9: 2000 | G9: 2000 | H9: 2000 | I9: 2000 | J9: 2000 | K9: 2000 | L9: 2000 | M9: 2000 | N9: 2000 | O9: 2000 | S9: =SUM(D9:R9) -> 24000
B10: 計 | C10: 本人負担 | D10: =SUM(D4,D6,D8) -> 3000 | E10: =SUM(E4,E6,E8) -> 3000 | F10: =SUM(F4,F6,F8) -> 3000 | G10: =SUM(G4,G6,G8) -> 3000 | H10: =SUM(H4,H6,H8) -> 3000 | I10: =SUM(I4,I6,I8) -> 3000 | J10: =SUM(J4,J6,J8) -> 3000 | K10: =SUM(K4,K6,K8) -> 3000 | ... R10: =SUM(R4,R6,R8) -> 0 | S10: =SUM(D10:R10) -> 36000
C11: 事業主負担 | D11: =SUM(D5,D7,D9) -> 6000 | E11: =SUM(E5,E7,E9) -> 6000 | F11: =SUM(F5,F7,F9) -> 6000 | G11: =SUM(G5,G7,G9) -> 6000 | H11: =SUM(H5,H7,H9) -> 6000 | I11: =SUM(I5,I7,I9) -> 6000 | J11: =SUM(J5,J7,J9) -> 6000 | K11: =SUM(K5,K7,K9) -> 6000 | ... R11: =SUM(R5,R7,R9) -> 0 | S11: =SUM(D11:R11) -> 72000
A12: い | B12: 雇用保険 | C12: 本人負担 | D12: 1000 | E12: 1000 | F12: 1000 | G12: 1000 | H12: 1000 | I12: 1000 | J12: 1000 | K12: 1000 | L12: 1000 | M12: 1000 | N12: 1000 | O12: 1000 | S12: =SUM(D12:R12) -> 12000
C13: 事業主負担 | D13: 2000 | E13: 2000 | F13: 2000 | G13: 2000 | H13: 2000 | I13: 2000 | J13: 2000 | K13: 2000 | L13: 2000 | M13: 2000 | N13: 2000 | O13: 2000 | S13: =SUM(D13:R13) -> 24000
B14: 健康保険 | C14: 本人負担 | D14: 1000 | E14: 1000 | F14: 1000 | G14: 1000 | H14: 1000 | I14: 1000 | J14: 1000 | K14: 1000 | L14: 1000 | M14: 1000 | N14: 1000 | O14: 1000 | S14: =SUM(D14:R14) -> 12000
C15: 事業主負担 | D15: 2000 | E15: 2000 | F15: 2000 | G15: 2000 | H15: 2000 | I15: 2000 | J15: 2000 | K15: 2000 | L15: 2000 | M15: 2000 | N15: 2000 | O15: 2000 | S15: =SUM(D15:R15) -> 24000
B16: 厚生年金 | C16: 本人負担 | D16: 1000 | E16: 1000 | F16: 1000 | G16: 1000 | H16: 1000 | I16: 1000 | J16: 1000 | K16: 1000 | L16: 1000 | M16: 1000 | N16: 1000 | O16: 1000 | S16: =SUM(D16:R16) -> 12000
C17: 事業主負担 | D17: 2000 | E17: 2000 | F17: 2000 | G17: 2000 | H17: 2000 | I17: 2000 | J17: 2000 | K17: 2000 | L17: 2000 | M17: 2000 | N17: 2000 | O17: 2000 | S17: =SUM(D17:R17) -> 24000
B18: 計 | C18: 本人負担 | D18: =SUM(D12,D14,D16) -> 3000 | E18: =SUM(E12,E14,E16) -> 3000 | F18: =SUM(F12,F14,F16) -> 3000 | G18: =SUM(G12,G14,G16) -> 3000 | H18: =SUM(H12,H14,H16) -> 3000 | I18: =SUM(I12,I14,I16) -> 3000 | J18: =SUM(J12,J14,J16) -> 3000 | K18: =SUM(K12,K14,K16) -> 3000 | ... R18: =SUM(R12,R14,R16) -> 0 | S18: =SUM(D18:R18) -> 36000
C19: 事業主負担 | D19: =SUM(D13,D15,D17) -> 6000 | E19: =SUM(E13,E15,E17) -> 6000 | F19: =SUM(F13,F15,F17) -> 6000 | G19: =SUM(G13,G15,G17) -> 6000 | H19: =SUM(H13,H15,H17) -> 6000 | I19: =SUM(I13,I15,I17) -> 6000 | J19: =SUM(J13,J15,J17) -> 6000 | K19: =SUM(K13,K15,K17) -> 6000 | ... R19: =SUM(R13,R15,R17) -> 0 | S19: =SUM(D19:R19) -> 72000
A20: う | B20: 雇用保険 | C20: 本人負担 | D20: 1000 | E20: 1000 | F20: 1000 | G20: 1000 | H20: 1000 | I20: 1000 | J20: 1000 | K20: 1000 | L20: 1000 | M20: 1000 | N20: 1000 | O20: 1000 | S20: =SUM(D20:R20) -> 12000
C21: 事業主負担 | D21: 2000 | E21: 2000 | F21: 2000 | G21: 2000 | H21: 2000 | I21: 2000 | J21: 2000 | K21: 2000 | L21: 2000 | M21: 2000 | N21: 2000 | O21: 2000 | S21: =SUM(D21:R21) -> 24000
B22: 健康保険 | C22: 本人負担 | D22: 1000 | E22: 1000 | F22: 1000 | G22: 1000 | H22: 1000 | I22: 1000 | J22: 1000 | K22: 1000 | L22: 1000 | M22: 1000 | N22: 1000 | O22: 1000 | S22: =SUM(D22:R22) -> 12000
C23: 事業主負担 | D23: 2000 | E23: 2000 | F23: 2000 | G23: 2000 | H23: 2000 | I23: 2000 | J23: 2000 | K23: 2000 | L23: 2000 | M23: 2000 | N23: 2000 | O23: 2000 | S23: =SUM(D23:R23) -> 24000
B24: 厚生年金 | C24: 本人負担 | D24: 1000 | E24: 1000 | F24: 1000 | G24: 1000 | H24: 1000 | I24: 1000 | J24: 1000 | K24: 1000 | L24: 1000 | M24: 1000 | N24: 1000 | O24: 1000 | S24: =SUM(D24:R24) -> 12000
C25: 事業主負担 | D25: 2000 | E25: 2000 | F25: 2000 | G25: 2000 | H25: 2000 | I25: 2000 | J25: 2000 | K25: 2000 | L25: 2000 | M25: 2000 | N25: 2000 | O25: 2000 | S25: =SUM(D25:R25) -> 24000
B26: 計 | C26: 本人負担 | D26: =SUM(D20,D22,D24) -> 3000 | E26: =SUM(E20,E22,E24) -> 3000 | F26: =SUM(F20,F22,F24) -> 3000 | G26: =SUM(G20,G22,G24) -> 3000 | H26: =SUM(H20,H22,H24) -> 3000 | I26: =SUM(I20,I22,I24) -> 3000 | J26: =SUM(J20,J22,J24) -> 3000 | K26: =SUM(K20,K22,K24) -> 3000 | ... R26: =SUM(R20,R22,R24) -> 0 | S26: =SUM(D26:R26) -> 36000
C27: 事業主負担 | D27: =SUM(D21,D23,D25) -> 6000 | E27: =SUM(E21,E23,E25) -> 6000 | F27: =SUM(F21,F23,F25) -> 6000 | G27: =SUM(G21,G23,G25) -> 6000 | H27: =SUM(H21,H23,H25) -> 6000 | I27: =SUM(I21,I23,I25) -> 6000 | J27: =SUM(J21,J23,J25) -> 6000 | K27: =SUM(K21,K23,K25) -> 6000 | ... R27: =SUM(R21,R23,R25) -> 0 | S27: =SUM(D27:R27) -> 72000
A28: え | B28: 雇用保険 | C28: 本人負担 | D28: 1000 | E28: 1000 | F28: 1000 | G28: 1000 | H28: 1000 | I28: 1000 | J28: 1000 | K28: 1000 | L28: 1000 | M28: 1000 | N28: 1000 | O28: 1000 | S28: =SUM(D28:R28) -> 12000
C29: 事業主負担 | D29: 2000 | E29: 2000 | F29: 2000 | G29: 2000 | H29: 2000 | I29: 2000 | J29: 2000 | K29: 2000 | L29: 2000 | M29: 2000 | N29: 2000 | O29: 2000 | S29: =SUM(D29:R29) -> 24000
B30: 健康保険 | C30: 本人負担 | D30: 1000 | E30: 1000 | F30: 1000 | G30: 1000 | H30: 1000 | I30: 1000 | J30: 1000 | K30: 1000 | L30: 1000 | M30: 1000 | N30: 1000 | O30: 1000 | S30: =SUM(D30:R30) -> 12000
C31: 事業主負担 | D31: 2000 | E31: 2000 | F31: 2000 | G31: 2000 | H31: 2000 | I31: 2000 | J31: 2000 | K31: 2000 | L31: 2000 | M31: 2000 | N31: 2000 | O31: 2000 | S31: =SUM(D31:R31) -> 24000
B32: 厚生年金 | C32: 本人負担 | D32: 1000 | E32: 1000 | F32: 1000 | G32: 1000 | H32: 1000 | I32: 1000 | J32: 1000 | K32: 1000 | L32: 1000 | M32: 1000 | N32: 1000 | O32: 1000 | S32: =SUM(D32:R32) -> 12000
C33: 事業主負担 | D33: 2000 | E33: 2000 | F33: 2000 | G33: 2000 | H33: 2000 | I33: 2000 | J33: 2000 | K33: 2000 | L33: 2000 | M33: 2000 | N33: 2000 | O33: 2000 | S33: =SUM(D33:R33) -> 24000
B34: 計 | C34: 本人負担 | D34: =SUM(D28,D30,D32) -> 3000 | E34: =SUM(E28,E30,E32) -> 3000 | F34: =SUM(F28,F30,F32) -> 3000 | G34: =SUM(G28,G30,G32) -> 3000 | H34: =SUM(H28,H30,H32) -> 3000 | I34: =SUM(I28,I30,I32) -> 3000 | J34: =SUM(J28,J30,J32) -> 3000 | K34: =SUM(K28,K30,K32) -> 3000 | ... R34: =SUM(R28,R30,R32) -> 0 | S34: =SUM(D34:R34) -> 36000
C35: 事業主負担 | D35: =SUM(D29,D31,D33) -> 6000 | E35: =SUM(E29,E31,E33) -> 6000 | F35: =SUM(F29,F31,F33) -> 6000 | G35: =SUM(G29,G31,G33) -> 6000 | H35: =SUM(H29,H31,H33) -> 6000 | I35: =SUM(I29,I31,I33) -> 6000 | J35: =SUM(J29,J31,J33) -> 6000 | K35: =SUM(K29,K31,K33) -> 6000 | ... R35: =SUM(R29,R31,R33) -> 0 | S35: =SUM(D35:R35) -> 72000
A36: お | B36: 雇用保険 | C36: 本人負担 | D36: 1000 | E36: 1000 | F36: 1000 | G36: 1000 | H36: 1000 | I36: 1000 | J36: 1000 | K36: 1000 | L36: 1000 | M36: 1000 | N36: 1000 | O36: 1000 | S36: =SUM(D36:R36) -> 12000
C37: 事業主負担 | D37: 2000 | E37: 2000 | F37: 2000 | G37: 2000 | H37: 2000 | I37: 2000 | J37: 2000 | K37: 2000 | L37: 2000 | M37: 2000 | N37: 2000 | O37: 2000 | S37: =SUM(D37:R37) -> 24000
B38: 健康保険 | C38: 本人負担 | D38: 1000 | E38: 1000 | F38: 1000 | G38: 1000 | H38: 1000 | I38: 1000 | J38: 1000 | K38: 1000 | L38: 1000 | M38: 1000 | N38: 1000 | O38: 1000 | S38: =SUM(D38:R38) -> 12000
C39: 事業主負担 | D39: 2000 | E39: 2000 | F39: 2000 | G39: 2000 | H39: 2000 | I39: 2000 | J39: 2000 | K39: 2000 | L39: 2000 | M39: 2000 | N39: 2000 | O39: 2000 | S39: =SUM(D39:R39) -> 24000
B40: 厚生年金 | C40: 本人負担 | D40: 1000 | E40: 1000 | F40: 1000 | G40: 1000 | H40: 1000 | I40: 1000 | J40: 1000 | K40: 1000 | L40: 1000 | M40: 1000 | N40: 1000 | O40: 1000 | S40: =SUM(D40:R40) -> 12000
C41: 事業主負担 | D41: 2000 | E41: 2000 | F41: 2000 | G41: 2000 | H41: 2000 | I41: 2000 | J41: 2000 | K41: 2000 | L41: 2000 | M41: 2000 | N41: 2000 | O41: 2000 | S41: =SUM(D41:R41) -> 24000
B42: 計 | C42: 本人負担 | D42: =SUM(D36,D38,D40) -> 3000 | E42: =SUM(E36,E38,E40) -> 3000 | F42: =SUM(F36,F38,F40) -> 3000 | G42: =SUM(G36,G38,G40) -> 3000 | H42: =SUM(H36,H38,H40) -> 3000 | I42: =SUM(I36,I38,I40) -> 3000 | J42: =SUM(J36,J38,J40) -> 3000 | K42: =SUM(K36,K38,K40) -> 3000 | ... R42: =SUM(R36,R38,R40) -> 0 | S42: =SUM(D42:R42) -> 36000
C43: 事業主負担 | D43: =SUM(D37,D39,D41) -> 6000 | E43: =SUM(E37,E39,E41) -> 6000 | F43: =SUM(F37,F39,F41) -> 6000 | G43: =SUM(G37,G39,G41) -> 6000 | H43: =SUM(H37,H39,H41) -> 6000 | I43: =SUM(I37,I39,I41) -> 6000 | J43: =SUM(J37,J39,J41) -> 6000 | K43: =SUM(K37,K39,K41) -> 6000 | ... R43: =SUM(R37,R39,R41) -> 0 | S43: =SUM(D43:R43) -> 72000
A44: 累 計 | B44: 雇用保険 | C44: 本人負担 | D44: =SUM(D4,D12,D20,D28,D36) -> 5000 | E44: =SUM(E4,E12,E20,E28,E36) -> 5000 | F44: =SUM(F4,F12,F20,F28,F36) -> 5000 | G44: =SUM(G4,G12,G20,G28,G36) -> 5000 | H44: =SUM(H4,H12,H20,H28,H36) -> 5000 | I44: =SUM(I4,I12,I20,I28,I36) -> 5000 | J44: =SUM(J4,J12,J20,J28,J36) -> 5000 | K44: =SUM(K4,K12,K20,K28,K36) -> 5000 | ... S44: =SUM(S4,S12,S20,S28,S36) -> 60000
C45: 事業主負担 | D45: =SUM(D5,D13,D21,D29,D37) -> 10000 | E45: =SUM(E5,E13,E21,E29,E37) -> 10000 | F45: =SUM(F5,F13,F21,F29,F37) -> 10000 | G45: =SUM(G5,G13,G21,G29,G37) -> 10000 | H45: =SUM(H5,H13,H21,H29,H37) -> 10000 | I45: =SUM(I5,I13,I21,I29,I37) -> 10000 | J45: =SUM(J5,J13,J21,J29,J37) -> 10000 | K45: =SUM(K5,K13,K21,K29,K37) -> 10000 | ... S45: =SUM(S5,S13,S21,S29,S37) -> 120000
B46: 健康保険 | C46: 本人負担 | D46: =SUM(D6,D14,D22,D30,D38) -> 5000 | E46: =SUM(E6,E14,E22,E30,E38) -> 5000 | F46: =SUM(F6,F14,F22,F30,F38) -> 5000 | G46: =SUM(G6,G14,G22,G30,G38) -> 5000 | H46: =SUM(H6,H14,H22,H30,H38) -> 5000 | I46: =SUM(I6,I14,I22,I30,I38) -> 5000 | J46: =SUM(J6,J14,J22,J30,J38) -> 5000 | K46: =SUM(K6,K14,K22,K30,K38) -> 5000 | ... S46: =SUM(S6,S14,S22,S30,S38) -> 60000
C47: 事業主負担 | D47: =SUM(D7,D15,D23,D31,D39) -> 10000 | E47: =SUM(E7,E15,E23,E31,E39) -> 10000 | F47: =SUM(F7,F15,F23,F31,F39) -> 10000 | G47: =SUM(G7,G15,G23,G31,G39) -> 10000 | H47: =SUM(H7,H15,H23,H31,H39) -> 10000 | I47: =SUM(I7,I15,I23,I31,I39) -> 10000 | J47: =SUM(J7,J15,J23,J31,J39) -> 10000 | K47: =SUM(K7,K15,K23,K31,K39) -> 10000 | ... S47: =SUM(S7,S15,S23,S31,S39) -> 120000
B48: 年金 | C48: 本人負担 | D48: =SUM(D8,D16,D24,D32,D40) -> 5000 | E48: =SUM(E8,E16,E24,E32,E40) -> 5000 | F48: =SUM(F8,F16,F24,F32,F40) -> 5000 | G48: =SUM(G8,G16,G24,G32,G40) -> 5000 | H48: =SUM(H8,H16,H24,H32,H40) -> 5000 | I48: =SUM(I8,I16,I24,I32,I40) -> 5000 | J48: =SUM(J8,J16,J24,J32,J40) -> 5000 | K48: =SUM(K8,K16,K24,K32,K40) -> 5000 | ... S48: =SUM(S8,S16,S24,S32,S40) -> 60000
C49: 事業主負担 | D49: =SUM(D9,D17,D25,D33,D41) -> 10000 | E49: =SUM(E9,E17,E25,E33,E41) -> 10000 | F49: =SUM(F9,F17,F25,F33,F41) -> 10000 | G49: =SUM(G9,G17,G25,G33,G41) -> 10000 | H49: =SUM(H9,H17,H25,H33,H41) -> 10000 | I49: =SUM(I9,I17,I25,I33,I41) -> 10000 | J49: =SUM(J9,J17,J25,J33,J41) -> 10000 | K49: =SUM(K9,K17,K25,K33,K41) -> 10000 | ... S49: =SUM(S9,S17,S25,S33,S41) -> 120000
B50: 計 | C50: 本人負担 | D50: =SUM(D10,D18,D26,D34,D42) -> 15000 | E50: =SUM(E10,E18,E26,E34,E42) -> 15000 | F50: =SUM(F10,F18,F26,F34,F42) -> 15000 | G50: =SUM(G10,G18,G26,G34,G42) -> 15000 | H50: =SUM(H10,H18,H26,H34,H42) -> 15000 | I50: =SUM(I10,I18,I26,I34,I42) -> 15000 | J50: =SUM(J10,J18,J26,J34,J42) -> 15000 | K50: =SUM(K10,K18,K26,K34,K42) -> 15000 | ... S50: =SUM(S10,S18,S26,S34,S42) -> 180000
C51: 事業主負担 | D51: =SUM(D11,D19,D27,D35,D43) -> 30000 | E51: =SUM(E11,E19,E27,E35,E43) -> 30000 | F51: =SUM(F11,F19,F27,F35,F43) -> 30000 | G51: =SUM(G11,G19,G27,G35,G43) -> 30000 | H51: =SUM(H11,H19,H27,H35,H43) -> 30000 | I51: =SUM(I11,I19,I27,I35,I43) -> 30000 | J51: =SUM(J11,J19,J27,J35,J43) -> 30000 | K51: =SUM(K11,K19,K27,K35,K43) -> 30000 | ... S51: =SUM(S11,S19,S27,S35,S43) -> 360000
A52: [別記第１０号様式の６]
F53: =F2 -> 令和7年度 | H53: 社会保険料負担実績明細表
A54: 従事者名 | B54: 区分 | C54: 負担区分 | D54: １月 | E54: ２月 | F54: ３月 | G54: ４月 | H54: ５月 | I54: ６月 | J54: ７月 | K54: ８月 | L54: ９月 | M54: １０月 | N54: １１月 | O54: １２月 | P54: 期末手当 | Q54: 賞与（夏） | R54: 賞与（冬） | S54: 計
B55: 雇用保険 | C55: 本人負担 | S55: =SUM(D55:R55) -> 0
C56: 事業主負担 | S56: =SUM(D56:R56) -> 0
B57: 健康保険 | C57: 本人負担 | S57: =SUM(D57:R57) -> 0
C58: 事業主負担 | S58: =SUM(D58:R58) -> 0
B59: 厚生年金 | C59: 本人負担 | S59: =SUM(D59:R59) -> 0
C60: 事業主負担 | S60: =SUM(D60:R60) -> 0
B61: 計 | C61: 本人負担 | D61: =SUM(D55,D57,D59) -> 0 | E61: =SUM(E55,E57,E59) -> 0 | F61: =SUM(F55,F57,F59) -> 0 | G61: =SUM(G55,G57,G59) -> 0 | H61: =SUM(H55,H57,H59) -> 0 | I61: =SUM(I55,I57,I59) -> 0 | J61: =SUM(J55,J57,J59) -> 0 | K61: =SUM(K55,K57,K59) -> 0 | ... R61: =SUM(R55,R57,R59) -> 0 | S61: =SUM(D61:R61) -> 0
C62: 事業主負担 | D62: =SUM(D56,D58,D60) -> 0 | E62: =SUM(E56,E58,E60) -> 0 | F62: =SUM(F56,F58,F60) -> 0 | G62: =SUM(G56,G58,G60) -> 0 | H62: =SUM(H56,H58,H60) -> 0 | I62: =SUM(I56,I58,I60) -> 0 | J62: =SUM(J56,J58,J60) -> 0 | K62: =SUM(K56,K58,K60) -> 0 | ... R62: =SUM(R56,R58,R60) -> 0 | S62: =SUM(D62:R62) -> 0
B63: 雇用保険 | C63: 本人負担 | S63: =SUM(D63:R63) -> 0
C64: 事業主負担 | S64: =SUM(D64:R64) -> 0
B65: 健康保険 | C65: 本人負担 | S65: =SUM(D65:R65) -> 0
C66: 事業主負担 | S66: =SUM(D66:R66) -> 0
B67: 厚生年金 | C67: 本人負担 | S67: =SUM(D67:R67) -> 0
C68: 事業主負担 | S68: =SUM(D68:R68) -> 0
B69: 計 | C69: 本人負担 | D69: =SUM(D63,D65,D67) -> 0 | E69: =SUM(E63,E65,E67) -> 0 | F69: =SUM(F63,F65,F67) -> 0 | G69: =SUM(G63,G65,G67) -> 0 | H69: =SUM(H63,H65,H67) -> 0 | I69: =SUM(I63,I65,I67) -> 0 | J69: =SUM(J63,J65,J67) -> 0 | K69: =SUM(K63,K65,K67) -> 0 | ... R69: =SUM(R63,R65,R67) -> 0 | S69: =SUM(D69:R69) -> 0
C70: 事業主負担 | D70: =SUM(D64,D66,D68) -> 0 | E70: =SUM(E64,E66,E68) -> 0 | F70: =SUM(F64,F66,F68) -> 0 | G70: =SUM(G64,G66,G68) -> 0 | H70: =SUM(H64,H66,H68) -> 0 | I70: =SUM(I64,I66,I68) -> 0 | J70: =SUM(J64,J66,J68) -> 0 | K70: =SUM(K64,K66,K68) -> 0 | ... R70: =SUM(R64,R66,R68) -> 0 | S70: =SUM(D70:R70) -> 0
B71: 雇用保険 | C71: 本人負担 | S71: =SUM(D71:R71) -> 0
C72: 事業主負担 | S72: =SUM(D72:R72) -> 0
B73: 健康保険 | C73: 本人負担 | S73: =SUM(D73:R73) -> 0
C74: 事業主負担 | S74: =SUM(D74:R74) -> 0
B75: 厚生年金 | C75: 本人負担 | S75: =SUM(D75:R75) -> 0
C76: 事業主負担 | S76: =SUM(D76:R76) -> 0
B77: 計 | C77: 本人負担 | D77: =SUM(D71,D73,D75) -> 0 | E77: =SUM(E71,E73,E75) -> 0 | F77: =SUM(F71,F73,F75) -> 0 | G77: =SUM(G71,G73,G75) -> 0 | H77: =SUM(H71,H73,H75) -> 0 | I77: =SUM(I71,I73,I75) -> 0 | J77: =SUM(J71,J73,J75) -> 0 | K77: =SUM(K71,K73,K75) -> 0 | ... R77: =SUM(R71,R73,R75) -> 0 | S77: =SUM(D77:R77) -> 0
C78: 事業主負担 | D78: =SUM(D72,D74,D76) -> 0 | E78: =SUM(E72,E74,E76) -> 0 | F78: =SUM(F72,F74,F76) -> 0 | G78: =SUM(G72,G74,G76) -> 0 | H78: =SUM(H72,H74,H76) -> 0 | I78: =SUM(I72,I74,I76) -> 0 | J78: =SUM(J72,J74,J76) -> 0 | K78: =SUM(K72,K74,K76) -> 0 | ... R78: =SUM(R72,R74,R76) -> 0 | S78: =SUM(D78:R78) -> 0
B79: 雇用保険 | C79: 本人負担 | S79: =SUM(D79:R79) -> 0
C80: 事業主負担 | S80: =SUM(D80:R80) -> 0
B81: 健康保険 | C81: 本人負担 | S81: =SUM(D81:R81) -> 0
C82: 事業主負担 | S82: =SUM(D82:R82) -> 0
B83: 厚生年金 | C83: 本人負担 | S83: =SUM(D83:R83) -> 0
C84: 事業主負担 | S84: =SUM(D84:R84) -> 0
B85: 計 | C85: 本人負担 | D85: =SUM(D79,D81,D83) -> 0 | E85: =SUM(E79,E81,E83) -> 0 | F85: =SUM(F79,F81,F83) -> 0 | G85: =SUM(G79,G81,G83) -> 0 | H85: =SUM(H79,H81,H83) -> 0 | I85: =SUM(I79,I81,I83) -> 0 | J85: =SUM(J79,J81,J83) -> 0 | K85: =SUM(K79,K81,K83) -> 0 | ... R85: =SUM(R79,R81,R83) -> 0 | S85: =SUM(D85:R85) -> 0
C86: 事業主負担 | D86: =SUM(D80,D82,D84) -> 0 | E86: =SUM(E80,E82,E84) -> 0 | F86: =SUM(F80,F82,F84) -> 0 | G86: =SUM(G80,G82,G84) -> 0 | H86: =SUM(H80,H82,H84) -> 0 | I86: =SUM(I80,I82,I84) -> 0 | J86: =SUM(J80,J82,J84) -> 0 | K86: =SUM(K80,K82,K84) -> 0 | ... R86: =SUM(R80,R82,R84) -> 0 | S86: =SUM(D86:R86) -> 0
B87: 雇用保険 | C87: 本人負担 | S87: =SUM(D87:R87) -> 0
C88: 事業主負担 | S88: =SUM(D88:R88) -> 0
B89: 健康保険 | C89: 本人負担 | S89: =SUM(D89:R89) -> 0
C90: 事業主負担 | S90: =SUM(D90:R90) -> 0
B91: 厚生年金 | C91: 本人負担 | S91: =SUM(D91:R91) -> 0
C92: 事業主負担 | S92: =SUM(D92:R92) -> 0
B93: 計 | C93: 本人負担 | D93: =SUM(D87,D89,D91) -> 0 | E93: =SUM(E87,E89,E91) -> 0 | F93: =SUM(F87,F89,F91) -> 0 | G93: =SUM(G87,G89,G91) -> 0 | H93: =SUM(H87,H89,H91) -> 0 | I93: =SUM(I87,I89,I91) -> 0 | J93: =SUM(J87,J89,J91) -> 0 | K93: =SUM(K87,K89,K91) -> 0 | ... R93: =SUM(R87,R89,R91) -> 0 | S93: =SUM(D93:R93) -> 0
C94: 事業主負担 | D94: =SUM(D88,D90,D92) -> 0 | E94: =SUM(E88,E90,E92) -> 0 | F94: =SUM(F88,F90,F92) -> 0 | G94: =SUM(G88,G90,G92) -> 0 | H94: =SUM(H88,H90,H92) -> 0 | I94: =SUM(I88,I90,I92) -> 0 | J94: =SUM(J88,J90,J92) -> 0 | K94: =SUM(K88,K90,K92) -> 0 | ... R94: =SUM(R88,R90,R92) -> 0 | S94: =SUM(D94:R94) -> 0
A95: 累 計 | B95: 雇用保険 | C95: 本人負担 | D95: =SUM(D55,D63,D71,D79,D87,D44) -> 5000 | E95: =SUM(E55,E63,E71,E79,E87,E44) -> 5000 | F95: =SUM(F55,F63,F71,F79,F87,F44) -> 5000 | G95: =SUM(G55,G63,G71,G79,G87,G44) -> 5000 | H95: =SUM(H55,H63,H71,H79,H87,H44) -> 5000 | I95: =SUM(I55,I63,I71,I79,I87,I44) -> 5000 | J95: =SUM(J55,J63,J71,J79,J87,J44) -> 5000 | K95: =SUM(K55,K63,K71,K79,K87,K44) -> 5000 | ... S95: =SUM(S55,S63,S71,S79,S87,S44) -> 60000
C96: 事業主負担 | D96: =SUM(D56,D64,D72,D80,D88,D45) -> 10000 | E96: =SUM(E56,E64,E72,E80,E88,E45) -> 10000 | F96: =SUM(F56,F64,F72,F80,F88,F45) -> 10000 | G96: =SUM(G56,G64,G72,G80,G88,G45) -> 10000 | H96: =SUM(H56,H64,H72,H80,H88,H45) -> 10000 | I96: =SUM(I56,I64,I72,I80,I88,I45) -> 10000 | J96: =SUM(J56,J64,J72,J80,J88,J45) -> 10000 | K96: =SUM(K56,K64,K72,K80,K88,K45) -> 10000 | ... S96: =SUM(S56,S64,S72,S80,S88,S45) -> 120000
B97: 健康保険 | C97: 本人負担 | D97: =SUM(D57,D65,D73,D81,D89,D46) -> 5000 | E97: =SUM(E57,E65,E73,E81,E89,E46) -> 5000 | F97: =SUM(F57,F65,F73,F81,F89,F46) -> 5000 | G97: =SUM(G57,G65,G73,G81,G89,G46) -> 5000 | H97: =SUM(H57,H65,H73,H81,H89,H46) -> 5000 | I97: =SUM(I57,I65,I73,I81,I89,I46) -> 5000 | J97: =SUM(J57,J65,J73,J81,J89,J46) -> 5000 | K97: =SUM(K57,K65,K73,K81,K89,K46) -> 5000 | ... S97: =SUM(S57,S65,S73,S81,S89,S46) -> 60000
C98: 事業主負担 | D98: =SUM(D58,D66,D74,D82,D90,D47) -> 10000 | E98: =SUM(E58,E66,E74,E82,E90,E47) -> 10000 | F98: =SUM(F58,F66,F74,F82,F90,F47) -> 10000 | G98: =SUM(G58,G66,G74,G82,G90,G47) -> 10000 | H98: =SUM(H58,H66,H74,H82,H90,H47) -> 10000 | I98: =SUM(I58,I66,I74,I82,I90,I47) -> 10000 | J98: =SUM(J58,J66,J74,J82,J90,J47) -> 10000 | K98: =SUM(K58,K66,K74,K82,K90,K47) -> 10000 | ... S98: =SUM(S58,S66,S74,S82,S90,S47) -> 120000
B99: 年金 | C99: 本人負担 | D99: =SUM(D59,D67,D75,D83,D91,D48) -> 5000 | E99: =SUM(E59,E67,E75,E83,E91,E48) -> 5000 | F99: =SUM(F59,F67,F75,F83,F91,F48) -> 5000 | G99: =SUM(G59,G67,G75,G83,G91,G48) -> 5000 | H99: =SUM(H59,H67,H75,H83,H91,H48) -> 5000 | I99: =SUM(I59,I67,I75,I83,I91,I48) -> 5000 | J99: =SUM(J59,J67,J75,J83,J91,J48) -> 5000 | K99: =SUM(K59,K67,K75,K83,K91,K48) -> 5000 | ... S99: =SUM(S59,S67,S75,S83,S91,S48) -> 60000
C100: 事業主負担 | D100: =SUM(D60,D68,D76,D84,D92,D49) -> 10000 | E100: =SUM(E60,E68,E76,E84,E92,E49) -> 10000 | F100: =SUM(F60,F68,F76,F84,F92,F49) -> 10000 | G100: =SUM(G60,G68,G76,G84,G92,G49) -> 10000 | H100: =SUM(H60,H68,H76,H84,H92,H49) -> 10000 | I100: =SUM(I60,I68,I76,I84,I92,I49) -> 10000 | J100: =SUM(J60,J68,J76,J84,J92,J49) -> 10000 | K100: =SUM(K60,K68,K76,K84,K92,K49) -> 10000 | ... S100: =SUM(S60,S68,S76,S84,S92,S49) -> 120000
...

Sheet 4号-5
A1: 別記第４号様式の５
B2: 令和7年度 | C2: 新規参入者給与安定対策事業計画書
A3: １ 新規参入者給与安定対策事業対象者の雇用状況 | O3: 年齢算出基準日 | P3: 45992
B4: 新規参入者名 | C4: 生年月日 | D4: 年齢 | E4: 新規に雇用 した年月日 | F4: 緑の雇用の有無 | G4: 緑の雇用以外の場合、林業経験２年未満の確認 | H4: 対象期間の 現金給与総額 (見込み) | I4: 対象期間 | L4: 退職金共済 加入年月日 | M4: 社会保険 ３点セット 加入年月日
H5: 円
D6: =IF(ISBLANK(C6),"",DATEDIF(C6,$P$3,"y")) | J6: =IF(ISBLANK(I6),"","～")
D7: =IF(ISBLANK(C7),"",DATEDIF(C7,$P$3,"y")) | J7: =IF(ISBLANK(I7),"","～")
D8: =IF(ISBLANK(C8),"",DATEDIF(C8,$P$3,"y")) | J8: =IF(ISBLANK(I8),"","～")
D9: =IF(ISBLANK(C9),"",DATEDIF(C9,$P$3,"y")) | J9: =IF(ISBLANK(I9),"","～")
D10: =IF(ISBLANK(C10),"",DATEDIF(C10,$P$3,"y")) | J10: =IF(ISBLANK(I10),"","～")
D11: =IF(ISBLANK(C11),"",DATEDIF(C11,$P$3,"y")) | J11: =IF(ISBLANK(I11),"","～")
D12: =IF(ISBLANK(C12),"",DATEDIF(C12,$P$3,"y")) | J12: =IF(ISBLANK(I12),"","～")
D13: =IF(ISBLANK(C13),"",DATEDIF(C13,$P$3,"y")) | J13: =IF(ISBLANK(I13),"","～")
D14: =IF(ISBLANK(C14),"",DATEDIF(C14,$P$3,"y")) | J14: =IF(ISBLANK(I14),"","～")
D15: =IF(ISBLANK(C15),"",DATEDIF(C15,$P$3,"y")) | J15: =IF(ISBLANK(I15),"","～")
D16: =IF(ISBLANK(C16),"",DATEDIF(C16,$P$3,"y")) | J16: =IF(ISBLANK(I16),"","～")
B17: 計 | C17: =COUNTA(B6:B16) -> 0 | D17: 人
A19: ２ 添付書類
B20: （１）新規参入者であることを証する書類の写し （雇用契約書 等）
B21: （２）退職金共済を証する書類の写し （共済手帳（1冊目） もしくは 共済手帳申込書（受付印入り））
B22: （３）雇用保険加入を証する書類の写し （雇用保険被保険者資格取得等確認通知書）
B23: （４）健康保険・厚生年金加入を証する書類の写し（健康保険・厚生年金保険資格取得確認および標準報酬決定通知書）
B24: （４）「緑の雇用以外の場合、林業経験２年未満の確認」欄には、経験年数２年未満を確認し、○を付ける。
B25: （５）対象期間には、緑の雇用研修期間は含めないこと。

Sheet 10号-8
A1: 別紙第１０号様式の８
A2: 新規参入者給与安定対策事業対象者への月別現金給与支給明細書
A3: 対象者名 | B3: 給与区分 | C3: 支給額の内訳
C4: 1月 | D4: 2月 | E4: 3月 | F4: 4月 | G4: 5月 | H4: 6月 | I4: 7月 | J4: 8月 | K4: 9月 | L4: 10月 | M4: 11月 | N4: 12月 | O4: 計
B5: 定期給与 | O5: =SUM(C5:N5) -> 0
B6: 特別給与 | O6: =SUM(C6:N6) -> 0
B7: 計 | C7: =SUM(C5:C6) -> 0 | D7: =SUM(D5:D6) -> 0 | E7: =SUM(E5:E6) -> 0 | F7: =SUM(F5:F6) -> 0 | G7: =SUM(G5:G6) -> 0 | H7: =SUM(H5:H6) -> 0 | I7: =SUM(I5:I6) -> 0 | J7: =SUM(J5:J6) -> 0 | ... O7: =SUM(O5:O6) -> 0
B8: 定期給与 | O8: =SUM(C8:N8) -> 0
B9: 特別給与 | O9: =SUM(C9:N9) -> 0
B10: 計 | C10: =SUM(C8:C9) -> 0 | D10: =SUM(D8:D9) -> 0 | E10: =SUM(E8:E9) -> 0 | F10: =SUM(F8:F9) -> 0 | G10: =SUM(G8:G9) -> 0 | H10: =SUM(H8:H9) -> 0 | I10: =SUM(I8:I9) -> 0 | J10: =SUM(J8:J9) -> 0 | ... O10: =SUM(O8:O9) -> 0
B11: 定期給与 | O11: =SUM(C11:N11) -> 0
B12: 特別給与 | O12: =SUM(C12:N12) -> 0
B13: 計 | C13: =SUM(C11:C12) -> 0 | D13: =SUM(D11:D12) -> 0 | E13: =SUM(E11:E12) -> 0 | F13: =SUM(F11:F12) -> 0 | G13: =SUM(G11:G12) -> 0 | H13: =SUM(H11:H12) -> 0 | I13: =SUM(I11:I12) -> 0 | J13: =SUM(J11:J12) -> 0 | ... O13: =SUM(O11:O12) -> 0
B14: 定期給与 | O14: =SUM(C14:N14) -> 0
B15: 特別給与 | O15: =SUM(C15:N15) -> 0
B16: 計 | C16: =SUM(C14:C15) -> 0 | D16: =SUM(D14:D15) -> 0 | E16: =SUM(E14:E15) -> 0 | F16: =SUM(F14:F15) -> 0 | G16: =SUM(G14:G15) -> 0 | H16: =SUM(H14:H15) -> 0 | I16: =SUM(I14:I15) -> 0 | J16: =SUM(J14:J15) -> 0 | ... O16: =SUM(O14:O15) -> 0
B17: 定期給与 | O17: =SUM(C17:N17) -> 0
B18: 特別給与 | O18: =SUM(C18:N18) -> 0
B19: 計 | C19: =SUM(C17:C18) -> 0 | D19: =SUM(D17:D18) -> 0 | E19: =SUM(E17:E18) -> 0 | F19: =SUM(F17:F18) -> 0 | G19: =SUM(G17:G18) -> 0 | H19: =SUM(H17:H18) -> 0 | I19: =SUM(I17:I18) -> 0 | J19: =SUM(J17:J18) -> 0 | ... O19: =SUM(O17:O18) -> 0
B20: 定期給与 | O20: =SUM(C20:N20) -> 0
B21: 特別給与 | O21: =SUM(C21:N21) -> 0
B22: 計 | C22: =SUM(C20:C21) -> 0 | D22: =SUM(D20:D21) -> 0 | E22: =SUM(E20:E21) -> 0 | F22: =SUM(F20:F21) -> 0 | G22: =SUM(G20:G21) -> 0 | H22: =SUM(H20:H21) -> 0 | I22: =SUM(I20:I21) -> 0 | J22: =SUM(J20:J21) -> 0 | ... O22: =SUM(O20:O21) -> 0
B23: 定期給与 | O23: =SUM(C23:N23) -> 0
B24: 特別給与 | O24: =SUM(C24:N24) -> 0
B25: 計 | C25: =SUM(C23:C24) -> 0 | D25: =SUM(D23:D24) -> 0 | E25: =SUM(E23:E24) -> 0 | F25: =SUM(F23:F24) -> 0 | G25: =SUM(G23:G24) -> 0 | H25: =SUM(H23:H24) -> 0 | I25: =SUM(I23:I24) -> 0 | J25: =SUM(J23:J24) -> 0 | ... O25: =SUM(O23:O24) -> 0
B26: 定期給与 | O26: =SUM(C26:N26) -> 0
B27: 特別給与 | O27: =SUM(C27:N27) -> 0
B28: 計 | C28: =SUM(C26:C27) -> 0 | D28: =SUM(D26:D27) -> 0 | E28: =SUM(E26:E27) -> 0 | F28: =SUM(F26:F27) -> 0 | G28: =SUM(G26:G27) -> 0 | H28: =SUM(H26:H27) -> 0 | I28: =SUM(I26:I27) -> 0 | J28: =SUM(J26:J27) -> 0 | ... O28: =SUM(O26:O27) -> 0
B29: 定期給与 | O29: =SUM(C29:N29) -> 0
B30: 特別給与 | O30: =SUM(C30:N30) -> 0
B31: 計 | C31: =SUM(C29:C30) -> 0 | D31: =SUM(D29:D30) -> 0 | E31: =SUM(E29:E30) -> 0 | F31: =SUM(F29:F30) -> 0 | G31: =SUM(G29:G30) -> 0 | H31: =SUM(H29:H30) -> 0 | I31: =SUM(I29:I30) -> 0 | J31: =SUM(J29:J30) -> 0 | ... O31: =SUM(O29:O30) -> 0
B32: 定期給与 | O32: =SUM(C32:N32) -> 0
B33: 特別給与 | O33: =SUM(C33:N33) -> 0
B34: 計 | C34: =SUM(C32:C33) -> 0 | D34: =SUM(D32:D33) -> 0 | E34: =SUM(E32:E33) -> 0 | F34: =SUM(F32:F33) -> 0 | G34: =SUM(G32:G33) -> 0 | H34: =SUM(H32:H33) -> 0 | I34: =SUM(I32:I33) -> 0 | J34: =SUM(J32:J33) -> 0 | ... O34: =SUM(O32:O33) -> 0
A35: 合 計 | B35: 定期給与 | C35: =SUM(C5,C8,C11,C14,C17,C20,C23,C26,C29,C32) -> 0 | D35: =SUM(D5,D8,D11,D14,D17,D20,D23,D26,D29,D32) -> 0 | E35: =SUM(E5,E8,E11,E14,E17,E20,E23,E26,E29,E32) -> 0 | F35: =SUM(F5,F8,F11,F14,F17,F20,F23,F26,F29,F32) -> 0 | G35: =SUM(G5,G8,G11,G14,G17,G20,G23,G26,G29,G32) -> 0 | H35: =SUM(H5,H8,H11,H14,H17,H20,H23,H26,H29,H32) -> 0 | I35: =SUM(I5,I8,I11,I14,I17,I20,I23,I26,I29,I32) -> 0 | J35: =SUM(J5,J8,J11,J14,J17,J20,J23,J26,J29,J32) -> 0 | ... O35: =SUM(O5,O8,O11,O14,O17,O20,O23,O26,O29,O32) -> 0
B36: 特別給与 | C36: =SUM(C6,C9,C12,C15,C18,C21,C24,C27,C30,C33) -> 0 | D36: =SUM(D6,D9,D12,D15,D18,D21,D24,D27,D30,D33) -> 0 | E36: =SUM(E6,E9,E12,E15,E18,E21,E24,E27,E30,E33) -> 0 | F36: =SUM(F6,F9,F12,F15,F18,F21,F24,F27,F30,F33) -> 0 | G36: =SUM(G6,G9,G12,G15,G18,G21,G24,G27,G30,G33) -> 0 | H36: =SUM(H6,H9,H12,H15,H18,H21,H24,H27,H30,H33) -> 0 | I36: =SUM(I6,I9,I12,I15,I18,I21,I24,I27,I30,I33) -> 0 | J36: =SUM(J6,J9,J12,J15,J18,J21,J24,J27,J30,J33) -> 0 | ... O36: =SUM(O6,O9,O12,O15,O18,O21,O24,O27,O30,O33) -> 0
B37: 計 | C37: =SUM(C7,C10,C13,C16,C19,C22,C25,C28,C31,C34) -> 0 | D37: =SUM(D7,D10,D13,D16,D19,D22,D25,D28,D31,D34) -> 0 | E37: =SUM(E7,E10,E13,E16,E19,E22,E25,E28,E31,E34) -> 0 | F37: =SUM(F7,F10,F13,F16,F19,F22,F25,F28,F31,F34) -> 0 | G37: =SUM(G7,G10,G13,G16,G19,G22,G25,G28,G31,G34) -> 0 | H37: =SUM(H7,H10,H13,H16,H19,H22,H25,H28,H31,H34) -> 0 | I37: =SUM(I7,I10,I13,I16,I19,I22,I25,I28,I31,I34) -> 0 | J37: =SUM(J7,J10,J13,J16,J19,J22,J25,J28,J31,J34) -> 0 | ... O37: =SUM(O7,O10,O13,O16,O19,O22,O25,O28,O31,O34) -> 0
A38: 注（１）定期給与には超過労働給与を含みます。
A39: （２）特別給与には、ボーナス、出来高制の割増賃金を含みますが、チエンソーなどの機械手当は含めないこと。

Sheet 参考（給与安定算出）
A2: 新規参入者給与安定対策事業の助成金算出
A4: 氏 名 | B4: 採 用 年月日 | C4: 条件ｸﾘｱ 年 月 日 | D4: 助成 開始月 | E4: 助成額 | F4: 令和４年 | R4: 令和５年 | AD4: 令和６年 | AP4: 令和７年 | BB4: 令和８年 | BN4: 令和９年
F5: 1月 | G5: 2月 | H5: 3月 | I5: 4月 | J5: 5月 | K5: 6月 | L5: 7月 | M5: 8月 | N5: 9月 | O5: 10 月 | P5: 11 月 | Q5: 12 月 | R5: 1月 | S5: 2月 | T5: 3月 | U5: 4月 | V5: 5月 | W5: 6月 | X5: 7月 | Y5: 8月 | Z5: 9月 | AA5: 10 月 | AB5: 11 月 | AC5: 12 月 | AD5: 1月 | AE5: 2月 | AF5: 3月 | AG5: 4月 | AH5: 5月 | AI5: 6月 | AJ5: 7月 | AK5: 8月 | AL5: 9月 | AM5: 10 月 | AN5: 11 月 | AO5: 12 月 | AP5: 1月 | AQ5: 2月 | AR5: 3月 | AS5: 4月 | AT5: 5月 | AU5: 6月 | AV5: 7月 | AW5: 8月 | AX5: 9月 | AY5: 10 月 | AZ5: 11 月 | BA5: 12 月 | BB5: 1月 | BC5: 2月 | BD5: 3月 | BE5: 4月 | BF5: 5月 | BG5: 6月 | BH5: 7月 | BI5: 8月 | BJ5: 9月 | BK5: 10 月 | BL5: 11 月 | BM5: 12 月 | BN5: 1月 | BO5: 2月 | BP5: 3月 | BQ5: 4月 | BR5: 5月 | BS5: 6月 | BT5: 7月 | BU5: 8月
A6: 試算用１ | E6: =SUM(AP6:BA6) -> 0
A9: 試算用２ | E9: =SUM(AP9:BA9) -> 0
A12: Ａさん | B12: 45383 | C12: 45383 | D12: R6.4 | E12: =SUM(AP12:BA12) -> 27 | AG12: 3 | AH12: 3 | AI12: 3 | AJ12: 3 | AK12: 3 | AL12: 3 | AM12: 3 | AN12: 3 | AO12: 3 | AP12: 3 | AQ12: 3 | AR12: 3 | AS12: 2 | AT12: 2 | AU12: 2 | AV12: 2 | AW12: 2 | AX12: 2 | AY12: 2 | AZ12: 2 | BA12: 2 | BB12: 2 | BC12: 2 | BD12: 2 | BE12: 1 | BF12: 1 | BG12: 1 | BH12: 1 | BI12: 1 | BJ12: 1 | BK12: 1 | BL12: 1 | BM12: 1 | BN12: 1 | BO12: 1 | BP12: 1
A15: Ｂさん | B15: 44622 | C15: 44767 | D15: R4.8 | E15: =SUM(AP15:BA15) -> 2 | H15: × | I15: × | J15: × | K15: × | L15: × | M15: 3 | N15: 3 | O15: 3 | P15: 3 | Q15: 3 | R15: 3 | S15: 3 | T15: 2 | U15: 2 | V15: 2 | W15: 2 | X15: 2 | Y15: 2 | Z15: 2 | AA15: 2 | AB15: 2 | AC15: 2 | AD15: 2 | AE15: 2 | AF15: 1 | AG15: 1 | AH15: 1 | AI15: 1 | AJ15: 1 | AK15: 1 | AL15: 1 | AM15: 1 | AN15: 1 | AO15: 1 | AP15: 1 | AQ15: 1
A18: Ｃさん | B18: 45509 | C18: 45509 | D18: R6.8 | E18: =SUM(AP18:BA18) -> 15 | AK18: 3 | AL18: 3 | AM18: 3 | AN18: 3 | AO18: 3 | AP18: 3 | AQ18: 3 | AR18: 3 | AS18: 3 | AT18: 3 | AU18: ＦＷ1 | AV18: ＦＷ1 | AW18: ＦＷ1 | AX18: ＦＷ1 | AY18: ＦＷ1 | AZ18: ＦＷ1 | BA18: ＦＷ1 | BB18: ＦＷ1 | BC18: 2 | BD18: 2 | BE18: 2 | BF18: 2 | BG18: ＦＷ2 | BH18: ＦＷ2 | BI18: ＦＷ2 | BJ18: ＦＷ2 | BK18: ＦＷ2 | BL18: ＦＷ2 | BM18: ＦＷ2 | BN18: ＦＷ2 | BO18: ＦＷ2 | BP18: 1 | BQ18: 1 | BR18: 1 | BS18: ＦＷ3 | BT18: ＦＷ3
A21: Ｄさん | B21: 45017 | C21: 45078 | D21: R5.6 | E21: =SUM(AP21:AY21) -> 6 | U21: × | V21: × | W21: ＦＷ1 | X21: ＦＷ1 | Y21: ＦＷ1 | Z21: ＦＷ1 | AA21: ＦＷ1 | AB21: ＦＷ1 | AC21: ＦＷ1 | AD21: ＦＷ1 | AE21: 3 | AF21: 3 | AG21: 2 | AH21: 2 | AI21: ＦＷ2 | AJ21: ＦＷ2 | AK21: ＦＷ2 | AL21: ＦＷ2 | AM21: ＦＷ2 | AN21: ＦＷ2 | AO21: ＦＷ2 | AP21: ＦＷ2 | AQ21: 2 | AR21: 2 | AS21: 1 | AT21: 1 | AU21: ＦＷ3 | AV21: ＦＷ3 | AW21: ＦＷ3 | AX21: ＦＷ3 | AY21: ＦＷ3 | AZ21: ＦＷ3 | BA21: ＦＷ3 | BB21: ＦＷ3 | BC21: 1 | BD21: 1
A24: Ｅさん | B24: 45658 | C24: 45763 | D24: R7.5 | E24: =SUM(AP24:BA24) -> 3 | AP24: × | AQ24: × | AR24: × | AS24: × | AT24: 3 | AU24: ＦＷ1 | AV24: ＦＷ1 | AW24: ＦＷ1 | AX24: ＦＷ1 | AY24: ＦＷ1 | AZ24: ＦＷ1 | BA24: ＦＷ1 | BB24: ＦＷ1 | BC24: 2 | BD24: 2 | BE24: 2 | BF24: 2 | BG24: ＦＷ2 | BH24: ＦＷ2 | BI24: ＦＷ2 | BJ24: ＦＷ2 | BK24: ＦＷ2 | BL24: ＦＷ2 | BM24: ＦＷ2 | BN24: ＦＷ2 | BO24: 1 | BP24: 1 | BQ24: 1 | BR24: 1 | BS24: ＦＷ3 | BT24: ＦＷ3 | BU24: ＦＷ3
A27: Ｆさん | B27: 45658 | C27: 45658 | D27: R7.1 | E27: =SUM(AP27:BA27) -> 15 | AP27: 3 | AQ27: 3 | AR27: 3 | AS27: 3 | AT27: 3 | AU27: ＦＷ1 | AV27: ＦＷ1 | AW27: ＦＷ1 | AX27: ＦＷ1 | AY27: ＦＷ1 | AZ27: ＦＷ1 | BA27: ＦＷ1 | BB27: ＦＷ1 | BC27: 2 | BD27: 2 | BE27: 2 | BF27: 2 | BG27: ＦＷ2 | BH27: ＦＷ2 | BI27: ＦＷ2 | BJ27: ＦＷ2 | BK27: ＦＷ2 | BL27: ＦＷ2 | BM27: ＦＷ2 | BN27: ＦＷ2 | BO27: 1 | BP27: 1 | BQ27: 1 | BR27: 1 | BS27: ＦＷ3 | BT27: ＦＷ3 | BU27: ＦＷ3

Sheet 4号-6
A1: 別記第４号様式の６
C2: 令和7年度 | E2: 新規参入者確保促進事業計画書
A3: １ 新規参入者確保状況 | I3: 年齢算出基準日 | J3: 45992
B4: 新規参入者名 | C4: 生年月日 | D4: 年齢 | E4: 新規に雇用 した年月日 | F4: 林業経験２年 未満の確認 | G4: 社会保険 ３点セット 加入年月日
D6: =IF(ISBLANK(C6),"",DATEDIF(C6,$J$3,"y"))
D7: =IF(ISBLANK(C7),"",DATEDIF(C7,$J$3,"y"))
D8: =IF(ISBLANK(C8),"",DATEDIF(C8,$J$3,"y"))
D9: =IF(ISBLANK(C9),"",DATEDIF(C9,$J$3,"y"))
D10: =IF(ISBLANK(C10),"",DATEDIF(C10,$J$3,"y"))
D11: =IF(ISBLANK(C11),"",DATEDIF(C11,$J$3,"y"))
D12: =IF(ISBLANK(C12),"",DATEDIF(C12,$J$3,"y"))
D13: =IF(ISBLANK(C13),"",DATEDIF(C13,$J$3,"y"))
D14: =IF(ISBLANK(C14),"",DATEDIF(C14,$J$3,"y"))
D15: =IF(ISBLANK(C15),"",DATEDIF(C15,$J$3,"y"))
D16: =IF(ISBLANK(C16),"",DATEDIF(C16,$J$3,"y"))
D17: =IF(ISBLANK(C17),"",DATEDIF(C17,$J$3,"y"))
B18: 計 | C18: =COUNTA(B6:B17) -> 0 | D18: 人
A20: ２ 添付書類
B21: （１）新規参入者であることを証する書類の写し。（雇用契約書 等）
B22: （２）社会保険３点セット加入を証する書類。（資格取得確認通知書 等）
B23: （３）「林業経験２年未満の確認」欄には、経験年数２年未満を確認し、○を付ける。

Sheet 4号-7
A1: 別記第４号様式の７
C2: 令和7年度 | E2: 新規参入者住宅確保支援事業（代理申請）計画書
A3: １ 新規参入者の住宅確保等状況 | M3: 年齢算出基準日 | N3: 45992
B4: 新規参入者名 | C4: 生年月日 | D4: 年齢 | E4: 現在の住所 | F4: 転居前の住所 | G4: 当該住宅での 居住期間 | I4: 出身都 道府県 | J4: 住宅区分 | N4: 45657
J5: 借家 | K5: 購入 自宅
D6: =IF(ISBLANK(C6),"",DATEDIF(C6,$N$3,"y")) | G6: 自
D7: =IF(ISBLANK(C7),"",DATEDIF(C7,$I$3,"y")) | G7: 至 | H7: =IF(ISBLANK(H6),"",$N$4)
D8: =IF(ISBLANK(C8),"",DATEDIF(C8,$N$3,"y")) | G8: 自
D9: =IF(ISBLANK(C9),"",DATEDIF(C9,$I$3,"y")) | G9: 至 | H9: =IF(ISBLANK(H8),"",$N$4)
D10: =IF(ISBLANK(C10),"",DATEDIF(C10,$N$3,"y")) | G10: 自
D11: =IF(ISBLANK(C11),"",DATEDIF(C11,$I$3,"y")) | G11: 至 | H11: =IF(ISBLANK(H10),"",$N$4)
D12: =IF(ISBLANK(C12),"",DATEDIF(C12,$N$3,"y")) | G12: 自
D13: =IF(ISBLANK(C13),"",DATEDIF(C13,$I$3,"y")) | G13: 至 | H13: =IF(ISBLANK(H12),"",$N$4)
D14: =IF(ISBLANK(C14),"",DATEDIF(C14,$N$3,"y")) | G14: 自
D15: =IF(ISBLANK(C15),"",DATEDIF(C15,$I$3,"y")) | G15: 至 | H15: =IF(ISBLANK(H14),"",$N$4)
D16: =IF(ISBLANK(C16),"",DATEDIF(C16,$N$3,"y")) | G16: 自
D17: =IF(ISBLANK(C17),"",DATEDIF(C17,$I$3,"y")) | G17: 至 | H17: =IF(ISBLANK(H16),"",$N$4)
B18: 計 | C18: =COUNTA(B6:B17) -> 0 | D18: 人
A20: ２ 勤務する事業体（本所、支所、担当区等）の所在地 | H20: 入居年数 | I20: =IF(ISBLANK(H6),"",DATEDIF(H6,H7,"y")) | J20: =IF(ISBLANK(H6),"",DATEDIF(H6,H7,"ym"))
C21: 市町村 | H21: =IF(ISBLANK(B8),"",$H$20) | I21: =IF(ISBLANK(H8),"",DATEDIF(H8,H9,"y")) | J21: =IF(ISBLANK(H8),"",DATEDIF(H8,H9,"ym"))
H22: =IF(ISBLANK(B10),"",$H$20) | I22: =IF(ISBLANK(H10),"",DATEDIF(H10,H11,"y")) | J22: =IF(ISBLANK(H10),"",DATEDIF(H10,H11,"ym"))
A23: ３ 添付書類 | H23: =IF(ISBLANK(B12),"",$H$20) | I23: =IF(ISBLANK(H12),"",DATEDIF(H12,H13,"y")) | J23: =IF(ISBLANK(H12),"",DATEDIF(H12,H13,"ym"))
B24: （１）前住所及び現住所が確認できる書類。（住民票等） | H24: =IF(ISBLANK(B14),"",$H$20) | I24: =IF(ISBLANK(H14),"",DATEDIF(H14,H15,"y")) | J24: =IF(ISBLANK(H14),"",DATEDIF(H14,H15,"ym"))
B25: （２）住宅の賃貸契約書（写） | H25: =IF(ISBLANK(B16),"",$H$20) | I25: =IF(ISBLANK(H16),"",DATEDIF(H16,H17,"y")) | J25: =IF(ISBLANK(H16),"",DATEDIF(H16,H17,"ym"))

Sheet 5号
A1: 別記第５号様式
C2: 令和7年度 | D2: 緑の雇用現場技能者育成対策事業実地研修期間一覧表
A3: １ 緑の雇用現場技能者育成対策事業実地研修期間
A4: 従事者名 | B4: 新規に雇用 した年月日 | C4: 緑の雇用 対象研修名 | D4: 実地研修対象期間
D5: 令和7年
D6: １月 | E6: ２月 | F6: ３月 | G6: ４月 | H6: ５月 | I6: ６月 | J6: ７月 | K6: ８月 | L6: ９月 | M6: １０月 | N6: １１月 | O6: １２月
D7: =IF(OR(C7="FW2のみ",C7="FW3のみ",C7="FW1～2",C7="FW2～3"),"○","") | I7: =IF(OR(C7="FW2のみ",C7="FW1のみ",C7="FW1～2",C7="FW2～3"),"○","") | J7: =IF(OR(C7="FW2のみ",C7="FW1のみ",C7="FW1～2",C7="FW2～3"),"○","") | K7: =IF(OR(C7="FW2のみ",C7="FW1のみ",C7="FW1～2",C7="FW2～3"),"○","") | L7: =IF(OR(C7="FW2のみ",C7="FW1のみ",C7="FW1～2",C7="FW2～3"),"○","") | M7: =IF(OR(C7="FW2のみ",C7="FW1のみ",C7="FW1～2",C7="FW2～3"),"○","") | N7: =IF(OR(C7="FW2のみ",C7="FW1のみ",C7="FW1～2",C7="FW2～3"),"○","") | O7: =IF(OR(C7="FW2のみ",C7="FW1のみ",C7="FW1～2",C7="FW2～3"),"○","")
D8: =IF(OR(C8="FW2のみ",C8="FW3のみ",C8="FW1～2",C8="FW2～3"),"○","") | I8: =IF(OR(C8="FW2のみ",C8="FW1のみ",C8="FW1～2",C8="FW2～3"),"○","") | J8: =IF(OR(C8="FW2のみ",C8="FW1のみ",C8="FW1～2",C8="FW2～3"),"○","") | K8: =IF(OR(C8="FW2のみ",C8="FW1のみ",C8="FW1～2",C8="FW2～3"),"○","") | L8: =IF(OR(C8="FW2のみ",C8="FW1のみ",C8="FW1～2",C8="FW2～3"),"○","") | M8: =IF(OR(C8="FW2のみ",C8="FW1のみ",C8="FW1～2",C8="FW2～3"),"○","") | N8: =IF(OR(C8="FW2のみ",C8="FW1のみ",C8="FW1～2",C8="FW2～3"),"○","") | O8: =IF(OR(C8="FW2のみ",C8="FW1のみ",C8="FW1～2",C8="FW2～3"),"○","")
D9: =IF(OR(C9="FW2のみ",C9="FW3のみ",C9="FW1～2",C9="FW2～3"),"○","") | I9: =IF(OR(C9="FW2のみ",C9="FW1のみ",C9="FW1～2",C9="FW2～3"),"○","") | J9: =IF(OR(C9="FW2のみ",C9="FW1のみ",C9="FW1～2",C9="FW2～3"),"○","") | K9: =IF(OR(C9="FW2のみ",C9="FW1のみ",C9="FW1～2",C9="FW2～3"),"○","") | L9: =IF(OR(C9="FW2のみ",C9="FW1のみ",C9="FW1～2",C9="FW2～3"),"○","") | M9: =IF(OR(C9="FW2のみ",C9="FW1のみ",C9="FW1～2",C9="FW2～3"),"○","") | N9: =IF(OR(C9="FW2のみ",C9="FW1のみ",C9="FW1～2",C9="FW2～3"),"○","") | O9: =IF(OR(C9="FW2のみ",C9="FW1のみ",C9="FW1～2",C9="FW2～3"),"○","")
D10: =IF(OR(C10="FW2のみ",C10="FW3のみ",C10="FW1～2",C10="FW2～3"),"○","") | I10: =IF(OR(C10="FW2のみ",C10="FW1のみ",C10="FW1～2",C10="FW2～3"),"○","") | J10: =IF(OR(C10="FW2のみ",C10="FW1のみ",C10="FW1～2",C10="FW2～3"),"○","") | K10: =IF(OR(C10="FW2のみ",C10="FW1のみ",C10="FW1～2",C10="FW2～3"),"○","") | L10: =IF(OR(C10="FW2のみ",C10="FW1のみ",C10="FW1～2",C10="FW2～3"),"○","") | M10: =IF(OR(C10="FW2のみ",C10="FW1のみ",C10="FW1～2",C10="FW2～3"),"○","") | N10: =IF(OR(C10="FW2のみ",C10="FW1のみ",C10="FW1～2",C10="FW2～3"),"○","") | O10: =IF(OR(C10="FW2のみ",C10="FW1のみ",C10="FW1～2",C10="FW2～3"),"○","")
D11: =IF(OR(C11="FW2のみ",C11="FW3のみ",C11="FW1～2",C11="FW2～3"),"○","") | I11: =IF(OR(C11="FW2のみ",C11="FW1のみ",C11="FW1～2",C11="FW2～3"),"○","") | J11: =IF(OR(C11="FW2のみ",C11="FW1のみ",C11="FW1～2",C11="FW2～3"),"○","") | K11: =IF(OR(C11="FW2のみ",C11="FW1のみ",C11="FW1～2",C11="FW2～3"),"○","") | L11: =IF(OR(C11="FW2のみ",C11="FW1のみ",C11="FW1～2",C11="FW2～3"),"○","") | M11: =IF(OR(C11="FW2のみ",C11="FW1のみ",C11="FW1～2",C11="FW2～3"),"○","") | N11: =IF(OR(C11="FW2のみ",C11="FW1のみ",C11="FW1～2",C11="FW2～3"),"○","") | O11: =IF(OR(C11="FW2のみ",C11="FW1のみ",C11="FW1～2",C11="FW2～3"),"○","")
D12: =IF(OR(C12="FW2のみ",C12="FW3のみ",C12="FW1～2",C12="FW2～3"),"○","") | I12: =IF(OR(C12="FW2のみ",C12="FW1のみ",C12="FW1～2",C12="FW2～3"),"○","") | J12: =IF(OR(C12="FW2のみ",C12="FW1のみ",C12="FW1～2",C12="FW2～3"),"○","") | K12: =IF(OR(C12="FW2のみ",C12="FW1のみ",C12="FW1～2",C12="FW2～3"),"○","") | L12: =IF(OR(C12="FW2のみ",C12="FW1のみ",C12="FW1～2",C12="FW2～3"),"○","") | M12: =IF(OR(C12="FW2のみ",C12="FW1のみ",C12="FW1～2",C12="FW2～3"),"○","") | N12: =IF(OR(C12="FW2のみ",C12="FW1のみ",C12="FW1～2",C12="FW2～3"),"○","") | O12: =IF(OR(C12="FW2のみ",C12="FW1のみ",C12="FW1～2",C12="FW2～3"),"○","")
D13: =IF(OR(C13="FW2のみ",C13="FW3のみ",C13="FW1～2",C13="FW2～3"),"○","") | I13: =IF(OR(C13="FW2のみ",C13="FW1のみ",C13="FW1～2",C13="FW2～3"),"○","") | J13: =IF(OR(C13="FW2のみ",C13="FW1のみ",C13="FW1～2",C13="FW2～3"),"○","") | K13: =IF(OR(C13="FW2のみ",C13="FW1のみ",C13="FW1～2",C13="FW2～3"),"○","") | L13: =IF(OR(C13="FW2のみ",C13="FW1のみ",C13="FW1～2",C13="FW2～3"),"○","") | M13: =IF(OR(C13="FW2のみ",C13="FW1のみ",C13="FW1～2",C13="FW2～3"),"○","") | N13: =IF(OR(C13="FW2のみ",C13="FW1のみ",C13="FW1～2",C13="FW2～3"),"○","") | O13: =IF(OR(C13="FW2のみ",C13="FW1のみ",C13="FW1～2",C13="FW2～3"),"○","")
D14: =IF(OR(C14="FW2のみ",C14="FW3のみ",C14="FW1～2",C14="FW2～3"),"○","") | I14: =IF(OR(C14="FW2のみ",C14="FW1のみ",C14="FW1～2",C14="FW2～3"),"○","") | J14: =IF(OR(C14="FW2のみ",C14="FW1のみ",C14="FW1～2",C14="FW2～3"),"○","") | K14: =IF(OR(C14="FW2のみ",C14="FW1のみ",C14="FW1～2",C14="FW2～3"),"○","") | L14: =IF(OR(C14="FW2のみ",C14="FW1のみ",C14="FW1～2",C14="FW2～3"),"○","") | M14: =IF(OR(C14="FW2のみ",C14="FW1のみ",C14="FW1～2",C14="FW2～3"),"○","") | N14: =IF(OR(C14="FW2のみ",C14="FW1のみ",C14="FW1～2",C14="FW2～3"),"○","") | O14: =IF(OR(C14="FW2のみ",C14="FW1のみ",C14="FW1～2",C14="FW2～3"),"○","")
D15: =IF(OR(C15="FW2のみ",C15="FW3のみ",C15="FW1～2",C15="FW2～3"),"○","") | I15: =IF(OR(C15="FW2のみ",C15="FW1のみ",C15="FW1～2",C15="FW2～3"),"○","") | J15: =IF(OR(C15="FW2のみ",C15="FW1のみ",C15="FW1～2",C15="FW2～3"),"○","") | K15: =IF(OR(C15="FW2のみ",C15="FW1のみ",C15="FW1～2",C15="FW2～3"),"○","") | L15: =IF(OR(C15="FW2のみ",C15="FW1のみ",C15="FW1～2",C15="FW2～3"),"○","") | M15: =IF(OR(C15="FW2のみ",C15="FW1のみ",C15="FW1～2",C15="FW2～3"),"○","") | N15: =IF(OR(C15="FW2のみ",C15="FW1のみ",C15="FW1～2",C15="FW2～3"),"○","") | O15: =IF(OR(C15="FW2のみ",C15="FW1のみ",C15="FW1～2",C15="FW2～3"),"○","")
D16: =IF(OR(C16="FW2のみ",C16="FW3のみ",C16="FW1～2",C16="FW2～3"),"○","") | I16: =IF(OR(C16="FW2のみ",C16="FW1のみ",C16="FW1～2",C16="FW2～3"),"○","") | J16: =IF(OR(C16="FW2のみ",C16="FW1のみ",C16="FW1～2",C16="FW2～3"),"○","") | K16: =IF(OR(C16="FW2のみ",C16="FW1のみ",C16="FW1～2",C16="FW2～3"),"○","") | L16: =IF(OR(C16="FW2のみ",C16="FW1のみ",C16="FW1～2",C16="FW2～3"),"○","") | M16: =IF(OR(C16="FW2のみ",C16="FW1のみ",C16="FW1～2",C16="FW2～3"),"○","") | N16: =IF(OR(C16="FW2のみ",C16="FW1のみ",C16="FW1～2",C16="FW2～3"),"○","") | O16: =IF(OR(C16="FW2のみ",C16="FW1のみ",C16="FW1～2",C16="FW2～3"),"○","")
D17: =IF(OR(C17="FW2のみ",C17="FW3のみ",C17="FW1～2",C17="FW2～3"),"○","") | I17: =IF(OR(C17="FW2のみ",C17="FW1のみ",C17="FW1～2",C17="FW2～3"),"○","") | J17: =IF(OR(C17="FW2のみ",C17="FW1のみ",C17="FW1～2",C17="FW2～3"),"○","") | K17: =IF(OR(C17="FW2のみ",C17="FW1のみ",C17="FW1～2",C17="FW2～3"),"○","") | L17: =IF(OR(C17="FW2のみ",C17="FW1のみ",C17="FW1～2",C17="FW2～3"),"○","") | M17: =IF(OR(C17="FW2のみ",C17="FW1のみ",C17="FW1～2",C17="FW2～3"),"○","") | N17: =IF(OR(C17="FW2のみ",C17="FW1のみ",C17="FW1～2",C17="FW2～3"),"○","") | O17: =IF(OR(C17="FW2のみ",C17="FW1のみ",C17="FW1～2",C17="FW2～3"),"○","")
D18: =IF(OR(C18="FW2のみ",C18="FW3のみ",C18="FW1～2",C18="FW2～3"),"○","") | I18: =IF(OR(C18="FW2のみ",C18="FW1のみ",C18="FW1～2",C18="FW2～3"),"○","") | J18: =IF(OR(C18="FW2のみ",C18="FW1のみ",C18="FW1～2",C18="FW2～3"),"○","") | K18: =IF(OR(C18="FW2のみ",C18="FW1のみ",C18="FW1～2",C18="FW2～3"),"○","") | L18: =IF(OR(C18="FW2のみ",C18="FW1のみ",C18="FW1～2",C18="FW2～3"),"○","") | M18: =IF(OR(C18="FW2のみ",C18="FW1のみ",C18="FW1～2",C18="FW2～3"),"○","") | N18: =IF(OR(C18="FW2のみ",C18="FW1のみ",C18="FW1～2",C18="FW2～3"),"○","") | O18: =IF(OR(C18="FW2のみ",C18="FW1のみ",C18="FW1～2",C18="FW2～3"),"○","")
D19: =IF(OR(C19="FW2のみ",C19="FW3のみ",C19="FW1～2",C19="FW2～3"),"○","") | I19: =IF(OR(C19="FW2のみ",C19="FW1のみ",C19="FW1～2",C19="FW2～3"),"○","") | J19: =IF(OR(C19="FW2のみ",C19="FW1のみ",C19="FW1～2",C19="FW2～3"),"○","") | K19: =IF(OR(C19="FW2のみ",C19="FW1のみ",C19="FW1～2",C19="FW2～3"),"○","") | L19: =IF(OR(C19="FW2のみ",C19="FW1のみ",C19="FW1～2",C19="FW2～3"),"○","") | M19: =IF(OR(C19="FW2のみ",C19="FW1のみ",C19="FW1～2",C19="FW2～3"),"○","") | N19: =IF(OR(C19="FW2のみ",C19="FW1のみ",C19="FW1～2",C19="FW2～3"),"○","") | O19: =IF(OR(C19="FW2のみ",C19="FW1のみ",C19="FW1～2",C19="FW2～3"),"○","")
A20: 注（１） | B20: 「緑の雇用対象研修名」欄は緑の雇用事業（FW1のみ、FW2のみ、FW3のみ、FW1～2、FW2～3 のいずれか）を記入してください。
A21: （２） | B21: 「実地研修対象期間」は緑の雇用現場技能者育成対策事業（ＦＷ）の実地研修の対象期間全てに○を記入してください。

Sheet 5号 (記入例)
A1: 別記第５号様式
C2: 令和 年度 | D2: 緑の雇用現場技能者育成対策事業実地研修期間一覧表
A3: １ 緑の雇用現場技能者育成対策事業実地研修期間
A4: 従事者名 | B4: 新規に雇用 した年月日 | C4: 緑の雇用 対象研修名 | D4: 実地研修対象期間
D5: 令和 年
D6: １月 | E6: ２月 | F6: ３月 | G6: ４月 | H6: ５月 | I6: ６月 | J6: ７月 | K6: ８月 | L6: ９月 | M6: １０月 | N6: １１月 | O6: １２月
A7: 森林 太郎 | B7: 43070 | C7: FW1のみ | I7: ○ | J7: ○ | K7: ○ | L7: ○ | M7: ○ | N7: ○ | O7: ○
A8: 林業 花子 | B8: 42826 | C8: FW1～2 | D8: ○ | I8: ○ | J8: ○ | K8: ○ | L8: ○ | M8: ○ | N8: ○ | O8: ○
A9: 木材 高子 | B9: 42430 | C9: FW2～3 | D9: ○ | I9: ○ | J9: ○ | K9: ○ | L9: ○ | M9: ○ | N9: ○ | O9: ○
A10: 安全 一郎 | B10: 42095 | C10: FW3のみ | D10: ○
D11: =IF(OR(C11="FW2のみ",C11="FW3のみ",C11="FW1～2",C11="FW2～3"),"○","") | I11: =IF(OR(C11="FW2のみ",C11="FW1のみ",C11="FW1～2",C11="FW2～3"),"○","") | J11: =IF(OR(C11="FW2のみ",C11="FW1のみ",C11="FW1～2",C11="FW2～3"),"○","") | K11: =IF(OR(C11="FW2のみ",C11="FW1のみ",C11="FW1～2",C11="FW2～3"),"○","") | L11: =IF(OR(C11="FW2のみ",C11="FW1のみ",C11="FW1～2",C11="FW2～3"),"○","") | M11: =IF(OR(C11="FW2のみ",C11="FW1のみ",C11="FW1～2",C11="FW2～3"),"○","") | N11: =IF(OR(C11="FW2のみ",C11="FW1のみ",C11="FW1～2",C11="FW2～3"),"○","") | O11: =IF(OR(C11="FW2のみ",C11="FW1のみ",C11="FW1～2",C11="FW2～3"),"○","")
D12: =IF(OR(C12="FW2のみ",C12="FW3のみ",C12="FW1～2",C12="FW2～3"),"○","") | I12: =IF(OR(C12="FW2のみ",C12="FW1のみ",C12="FW1～2",C12="FW2～3"),"○","") | J12: =IF(OR(C12="FW2のみ",C12="FW1のみ",C12="FW1～2",C12="FW2～3"),"○","") | K12: =IF(OR(C12="FW2のみ",C12="FW1のみ",C12="FW1～2",C12="FW2～3"),"○","") | L12: =IF(OR(C12="FW2のみ",C12="FW1のみ",C12="FW1～2",C12="FW2～3"),"○","") | M12: =IF(OR(C12="FW2のみ",C12="FW1のみ",C12="FW1～2",C12="FW2～3"),"○","") | N12: =IF(OR(C12="FW2のみ",C12="FW1のみ",C12="FW1～2",C12="FW2～3"),"○","") | O12: =IF(OR(C12="FW2のみ",C12="FW1のみ",C12="FW1～2",C12="FW2～3"),"○","")
D13: =IF(OR(C13="FW2のみ",C13="FW3のみ",C13="FW1～2",C13="FW2～3"),"○","") | I13: =IF(OR(C13="FW2のみ",C13="FW1のみ",C13="FW1～2",C13="FW2～3"),"○","") | J13: =IF(OR(C13="FW2のみ",C13="FW1のみ",C13="FW1～2",C13="FW2～3"),"○","") | K13: =IF(OR(C13="FW2のみ",C13="FW1のみ",C13="FW1～2",C13="FW2～3"),"○","") | L13: =IF(OR(C13="FW2のみ",C13="FW1のみ",C13="FW1～2",C13="FW2～3"),"○","") | M13: =IF(OR(C13="FW2のみ",C13="FW1のみ",C13="FW1～2",C13="FW2～3"),"○","") | N13: =IF(OR(C13="FW2のみ",C13="FW1のみ",C13="FW1～2",C13="FW2～3"),"○","") | O13: =IF(OR(C13="FW2のみ",C13="FW1のみ",C13="FW1～2",C13="FW2～3"),"○","")
D14: =IF(OR(C14="FW2のみ",C14="FW3のみ",C14="FW1～2",C14="FW2～3"),"○","") | I14: =IF(OR(C14="FW2のみ",C14="FW1のみ",C14="FW1～2",C14="FW2～3"),"○","") | J14: =IF(OR(C14="FW2のみ",C14="FW1のみ",C14="FW1～2",C14="FW2～3"),"○","") | K14: =IF(OR(C14="FW2のみ",C14="FW1のみ",C14="FW1～2",C14="FW2～3"),"○","") | L14: =IF(OR(C14="FW2のみ",C14="FW1のみ",C14="FW1～2",C14="FW2～3"),"○","") | M14: =IF(OR(C14="FW2のみ",C14="FW1のみ",C14="FW1～2",C14="FW2～3"),"○","") | N14: =IF(OR(C14="FW2のみ",C14="FW1のみ",C14="FW1～2",C14="FW2～3"),"○","") | O14: =IF(OR(C14="FW2のみ",C14="FW1のみ",C14="FW1～2",C14="FW2～3"),"○","")
D15: =IF(OR(C15="FW2のみ",C15="FW3のみ",C15="FW1～2",C15="FW2～3"),"○","") | I15: =IF(OR(C15="FW2のみ",C15="FW1のみ",C15="FW1～2",C15="FW2～3"),"○","") | J15: =IF(OR(C15="FW2のみ",C15="FW1のみ",C15="FW1～2",C15="FW2～3"),"○","") | K15: =IF(OR(C15="FW2のみ",C15="FW1のみ",C15="FW1～2",C15="FW2～3"),"○","") | L15: =IF(OR(C15="FW2のみ",C15="FW1のみ",C15="FW1～2",C15="FW2～3"),"○","") | M15: =IF(OR(C15="FW2のみ",C15="FW1のみ",C15="FW1～2",C15="FW2～3"),"○","") | N15: =IF(OR(C15="FW2のみ",C15="FW1のみ",C15="FW1～2",C15="FW2～3"),"○","") | O15: =IF(OR(C15="FW2のみ",C15="FW1のみ",C15="FW1～2",C15="FW2～3"),"○","")
D16: =IF(OR(C16="FW2のみ",C16="FW3のみ",C16="FW1～2",C16="FW2～3"),"○","") | I16: =IF(OR(C16="FW2のみ",C16="FW1のみ",C16="FW1～2",C16="FW2～3"),"○","") | J16: =IF(OR(C16="FW2のみ",C16="FW1のみ",C16="FW1～2",C16="FW2～3"),"○","") | K16: =IF(OR(C16="FW2のみ",C16="FW1のみ",C16="FW1～2",C16="FW2～3"),"○","") | L16: =IF(OR(C16="FW2のみ",C16="FW1のみ",C16="FW1～2",C16="FW2～3"),"○","") | M16: =IF(OR(C16="FW2のみ",C16="FW1のみ",C16="FW1～2",C16="FW2～3"),"○","") | N16: =IF(OR(C16="FW2のみ",C16="FW1のみ",C16="FW1～2",C16="FW2～3"),"○","") | O16: =IF(OR(C16="FW2のみ",C16="FW1のみ",C16="FW1～2",C16="FW2～3"),"○","")
D17: =IF(OR(C17="FW2のみ",C17="FW3のみ",C17="FW1～2",C17="FW2～3"),"○","") | I17: =IF(OR(C17="FW2のみ",C17="FW1のみ",C17="FW1～2",C17="FW2～3"),"○","") | J17: =IF(OR(C17="FW2のみ",C17="FW1のみ",C17="FW1～2",C17="FW2～3"),"○","") | K17: =IF(OR(C17="FW2のみ",C17="FW1のみ",C17="FW1～2",C17="FW2～3"),"○","") | L17: =IF(OR(C17="FW2のみ",C17="FW1のみ",C17="FW1～2",C17="FW2～3"),"○","") | M17: =IF(OR(C17="FW2のみ",C17="FW1のみ",C17="FW1～2",C17="FW2～3"),"○","") | N17: =IF(OR(C17="FW2のみ",C17="FW1のみ",C17="FW1～2",C17="FW2～3"),"○","") | O17: =IF(OR(C17="FW2のみ",C17="FW1のみ",C17="FW1～2",C17="FW2～3"),"○","")
D18: =IF(OR(C18="FW2のみ",C18="FW3のみ",C18="FW1～2",C18="FW2～3"),"○","") | I18: =IF(OR(C18="FW2のみ",C18="FW1のみ",C18="FW1～2",C18="FW2～3"),"○","") | J18: =IF(OR(C18="FW2のみ",C18="FW1のみ",C18="FW1～2",C18="FW2～3"),"○","") | K18: =IF(OR(C18="FW2のみ",C18="FW1のみ",C18="FW1～2",C18="FW2～3"),"○","") | L18: =IF(OR(C18="FW2のみ",C18="FW1のみ",C18="FW1～2",C18="FW2～3"),"○","") | M18: =IF(OR(C18="FW2のみ",C18="FW1のみ",C18="FW1～2",C18="FW2～3"),"○","") | N18: =IF(OR(C18="FW2のみ",C18="FW1のみ",C18="FW1～2",C18="FW2～3"),"○","") | O18: =IF(OR(C18="FW2のみ",C18="FW1のみ",C18="FW1～2",C18="FW2～3"),"○","")
D19: =IF(OR(C19="FW2のみ",C19="FW3のみ",C19="FW1～2",C19="FW2～3"),"○","") | I19: =IF(OR(C19="FW2のみ",C19="FW1のみ",C19="FW1～2",C19="FW2～3"),"○","") | J19: =IF(OR(C19="FW2のみ",C19="FW1のみ",C19="FW1～2",C19="FW2～3"),"○","") | K19: =IF(OR(C19="FW2のみ",C19="FW1のみ",C19="FW1～2",C19="FW2～3"),"○","") | L19: =IF(OR(C19="FW2のみ",C19="FW1のみ",C19="FW1～2",C19="FW2～3"),"○","") | M19: =IF(OR(C19="FW2のみ",C19="FW1のみ",C19="FW1～2",C19="FW2～3"),"○","") | N19: =IF(OR(C19="FW2のみ",C19="FW1のみ",C19="FW1～2",C19="FW2～3"),"○","") | O19: =IF(OR(C19="FW2のみ",C19="FW1のみ",C19="FW1～2",C19="FW2～3"),"○","")
A20: 注（１） | B20: 「緑の雇用対象研修名」欄は緑の雇用事業（FW1のみ、FW2のみ、FW3のみ、FW1～2、FW2～3 のいずれか）を記入してください。
A21: （２） | B21: 「実地研修対象期間」は緑の雇用現場技能者育成対策事業（ＦＷ）の実地研修の対象期間全てに○を記入してください。

Sheet 8号
A1: 別記第８号様式
A2: 令和４年 | B2: １月から１２月までの間に受注した公共工事一覧
A4: ※公共工事とは、以下に示すとおりです。
A5: ①県有林事業（県森連から委託を受けたものも含みます）
A6: ②保安林事業
A7: ③国有林事業（協同組合等で受注し、組合から委託を受けたものも含みます）
A8: ④林業公社事業
A9: ⑤市町村有林事業
A10: ⑥森林整備センター事業
A11: ⑦国庫補助造林事業（公共：森林環境保全整備事業、非公共：間伐等森林整備促進対策事業）
A13: 事業体名：
A15: 事業名 | B15: 事業 番号 | C15: 契約額 （最終契約額） | D15: 契約年月日 | E15: ＪＶ等 | F15: 備考
A31: 合計 | B31: ① | C31: =SUMIF(B16:B30,B31,C16:C30) -> 0
B32: ② | C32: =SUMIF(B16:B30,B32,C16:C30) -> 0
B33: ③ | C33: =SUMIF(B16:B30,B33,C16:C30) -> 0
B34: ④ | C34: =SUMIF(B16:B30,B34,C16:C30) -> 0
B35: ⑤
B36: ⑥
B37: 計 | C37: =SUM(C31:C36) -> 0
A38: 注１．「事業番号」欄には、①～⑥までの番号を記入してください。
A39: ２．数社ＪＶにより受注した場合は「ＪＶ等」欄に結成した会社数を記入してください。
A40: ３．立木処分（立木買い）は、記入しないでください。
A41: ４．諸経費なしの実費下請けの場合は、記入しないでください。

Sheet 8号 (R5~)
A1: 別記第８号様式
A2: 令和５年 | B2: １月から１２月までの間に受注した公共工事一覧
A4: ※公共工事とは、以下に示すとおりです。
A5: ①県有林事業（県森連から委託を受けたものも含みます）
A6: ②保安林事業
A7: ③国有林事業（協同組合等で受注し、組合から委託を受けたものも含みます）
A8: ④林業公社事業
A9: ⑤市町村有林事業
A10: ⑥森林整備センター事業
A11: ⑦国庫補助造林事業（公共：森林環境保全整備事業、非公共：間伐等森林整備促進対策事業）
A13: 事業体名：
A15: 事業名 | B15: 事業 番号 | C15: 契約額 （最終契約額） | D15: 契約年月日 | E15: ＪＶ等 | F15: 備考
A31: 合計 | B31: ① | C31: =SUMIF(B16:B30,B31,C16:C30) -> 0
B32: ② | C32: =SUMIF(B16:B30,B32,C16:C30) -> 0
B33: ③ | C33: =SUMIF(B16:B30,B33,C16:C30) -> 0
B34: ④ | C34: =SUMIF(B16:B30,B34,C16:C30) -> 0
B35: ⑤
B36: ⑥
B37: ⑦
B38: 計 | C38: =SUM(C31:C37) -> 0
A39: 注１．「事業番号」欄には、①～⑦までの番号を記入してください。
A40: ２．数社ＪＶにより受注した場合は「ＪＶ等」欄に結成した会社数を記入してください。
A41: ３．立木処分（立木買い）は、記入しないでください。
A42: ４．諸経費なしの実費下請けの場合は、記入しないでください。

Sheet 8号付表（造林公共）
A2: 熊本県森林環境保全整備事業における事業実績一覧 | F2: ※ | H2: セルには、造林補助金システムからデータをCSV出力し、該当する項目に数字を転記するなどして作成すること。
F3: ※ | H3: セルには、社会保険等の加入実態調査表から該当する項目に数字を転記して作成すること。（整理番号は当助成事業の番号であり、造林事業の整理番号とは一致しない。） | T3: 社会保険料等の加入実績（点数）
A4: 令和５年度 | T4: 雇用保険 （点） | U4: 健康保険 （点） | V4: 厚生年金 （点） | W4: 退職金共済（点） | Y4: 合計 （点） | Z4: 作業者数 | AA4: 平均 （点） | AB4: 適用
A5: 整理番号 | B5: 申請年月 | C5: 事業実施期間 | D5: 地域振興局名称 | E5: 申請者名称 | F5: 事業区分名称 | G5: 事業種類名称 | H5: 作業種類名称 | I5: 実面積(ha) | J5: 作業道延長(m) | K5: 防護柵延長(m) | L5: 社会保険等率(%) | M5: 社会保険料等 | N5: 事業費 | O5: 査定係数 | P5: 査定事業費 | Q5: 補助率(%) | R5: 社保等に係る補助金 | W5: 林退共以外 | X5: 林退共 | Z5: （名） | AB5: 社会保険料等(%) | AC5: 列L=列AD
A6: 【記載例】1 | B6: 2022.9 | C6: R4.6～R4.8 | F6: 森林環境保全直接支援事業 | G6: 下刈り | H6: 下刈り | I6: 0.42 | L6: 5 | M6: 10458 | N6: 91000 | O6: 170 | P6: 154700 | Q6: 40 | R6: =ROUNDDOWN(M6*O6/100*Q6/100,-3) -> 7000 | T6: 6 | U6: 15 | V6: 27 | X6: 9 | Y6: =SUM(T6:X6) -> 57 | Z6: 6 | AA6: =$Y6/$Z6 -> 9.5 | AB6: 5 | AC6: =IF($L6=$AB6,"○","×") -> ○
Y7: =SUM(T7:X7) -> 0 | AA7: =$Y7/$Z7 -> #DIV/0! | AC7: =IF($L7=$AB7,"○","×") -> ○
Y8: =SUM(T8:X8) -> 0 | AA8: =$Y8/$Z8 -> #DIV/0! | AC8: =IF($L8=$AB8,"○","×") -> ○
Y9: =SUM(T9:X9) -> 0 | AA9: =$Y9/$Z9 -> #DIV/0! | AC9: =IF($L9=$AB9,"○","×") -> ○
Y10: =SUM(T10:X10) -> 0 | AA10: =$Y10/$Z10 -> #DIV/0! | AC10: =IF($L10=$AB10,"○","×") -> ○
Y11: =SUM(T11:X11) -> 0 | AA11: =$Y11/$Z11 -> #DIV/0! | AC11: =IF($L11=$AB11,"○","×") -> ○
Y12: =SUM(T12:X12) -> 0 | AA12: =$Y12/$Z12 -> #DIV/0! | AC12: =IF($L12=$AB12,"○","×") -> ○
Y13: =SUM(T13:X13) -> 0 | AA13: =$Y13/$Z13 -> #DIV/0! | AC13: =IF($L13=$AB13,"○","×") -> ○
Y14: =SUM(T14:X14) -> 0 | AA14: =$Y14/$Z14 -> #DIV/0! | AC14: =IF($L14=$AB14,"○","×") -> ○
Y15: =SUM(T15:X15) -> 0 | AA15: =$Y15/$Z15 -> #DIV/0! | AC15: =IF($L15=$AB15,"○","×") -> ○
Y16: =SUM(T16:X16) -> 0 | AA16: =$Y16/$Z16 -> #DIV/0! | AC16: =IF($L16=$AB16,"○","×") -> ○
Y17: =SUM(T17:X17) -> 0 | AA17: =$Y17/$Z17 -> #DIV/0! | AC17: =IF($L17=$AB17,"○","×") -> ○
Y18: =SUM(T18:X18) -> 0 | AA18: =$Y18/$Z18 -> #DIV/0! | AC18: =IF($L18=$AB18,"○","×") -> ○
... Y89: =SUM(T89:X89) -> 0 | AA89: =$Y89/$Z89 -> #DIV/0! | AC89: =IF($L89=$AB89,"○","×") -> ○

Sheet 8号付表（造林非公共）
A2: 熊本県間伐等森林整備促進対策事業における事業実績一覧 | E2: ※ | G2: セルには、事業精算書から該当する項目に数字を転記して作成すること。
E3: ※ | G3: セルには、社会保険等の加入実態調査表から該当する項目に数字を転記して作成すること。（整理番号は当助成事業の番号であり、造林事業の整理番号とは一致しない。） | S3: 社会保険料等の加入実績（点数）
A4: 令和５年度 | S4: 雇用保険 （点） | T4: 健康保険 （点） | U4: 厚生年金 （点） | V4: 退職金共済（点） | X4: 合計 （点） | Y4: 作業者数 | Z4: 平均 （点） | AA4: 適用
A5: 整理番号 | B5: 事業実施期間 | C5: 地域振興局名称 | D5: 申請者名称 | E5: 事業区分名称 | F5: メニュー | G5: 事業種目 | H5: 実面積(ha) | I5: 作業道延長(m) | J5: 防護柵延長(m) | K5: 社会保険等率(%) | L5: 社会保険料等 | M5: 事業費 | N5: 査定係数 | O5: 査定事業費 | P5: 補助率(%) | Q5: 社保等に係る補助金 | V5: 林退共以外 | W5: 林退共 | Y5: （名） | AA5: 社会保険料等(%) | AB5: 列L=列AD
A6: 【記載例】1 | B6: R4.6～R4.8 | E6: 林業・木材産業成長産業化促進対策事業 | F6: 間伐材生産 | G6: 伐倒・搬出 | H6: 0.42 | K6: 5 | L6: 10458 | M6: 91000 | N6: 170 | O6: 154700 | P6: 40 | Q6: =ROUNDDOWN(L6*N6/100*P6/100,-3) -> 7000 | S6: 6 | T6: 15 | U6: 27 | W6: 9 | X6: =SUM(S6:W6) -> 57 | Y6: 6 | Z6: =$X6/$Y6 -> 9.5 | AA6: 5 | AB6: =IF($K6=$AA6,"○","×") -> ○
X7: =SUM(S7:W7) -> 0 | Z7: =$X7/$Y7 -> #DIV/0! | AB7: =IF($K7=$AA7,"○","×") -> ○
X8: =SUM(S8:W8) -> 0 | Z8: =$X8/$Y8 -> #DIV/0! | AB8: =IF($K8=$AA8,"○","×") -> ○
X9: =SUM(S9:W9) -> 0 | Z9: =$X9/$Y9 -> #DIV/0! | AB9: =IF($K9=$AA9,"○","×") -> ○
X10: =SUM(S10:W10) -> 0 | Z10: =$X10/$Y10 -> #DIV/0! | AB10: =IF($K10=$AA10,"○","×") -> ○
X11: =SUM(S11:W11) -> 0 | Z11: =$X11/$Y11 -> #DIV/0! | AB11: =IF($K11=$AA11,"○","×") -> ○
X12: =SUM(S12:W12) -> 0 | Z12: =$X12/$Y12 -> #DIV/0! | AB12: =IF($K12=$AA12,"○","×") -> ○
X13: =SUM(S13:W13) -> 0 | Z13: =$X13/$Y13 -> #DIV/0! | AB13: =IF($K13=$AA13,"○","×") -> ○
X14: =SUM(S14:W14) -> 0 | Z14: =$X14/$Y14 -> #DIV/0! | AB14: =IF($K14=$AA14,"○","×") -> ○
X15: =SUM(S15:W15) -> 0 | Z15: =$X15/$Y15 -> #DIV/0! | AB15: =IF($K15=$AA15,"○","×") -> ○
X16: =SUM(S16:W16) -> 0 | Z16: =$X16/$Y16 -> #DIV/0! | AB16: =IF($K16=$AA16,"○","×") -> ○
X17: =SUM(S17:W17) -> 0 | Z17: =$X17/$Y17 -> #DIV/0! | AB17: =IF($K17=$AA17,"○","×") -> ○
X18: =SUM(S18:W18) -> 0 | Z18: =$X18/$Y18 -> #DIV/0! | AB18: =IF($K18=$AA18,"○","×") -> ○
... X89: =SUM(S89:W89) -> 0 | Z89: =$X89/$Y89 -> #DIV/0! | AB89: =IF($K89=$AA89,"○","×") -> ○

Sheet 9号
A1: 別記第９号様式
C2: 令和４年度 | D2: 緑の雇用現場技能者育成対策事業実地研修期間一覧表
A3: １ 緑の雇用現場技能者育成対策事業実地研修期間
A4: 従事者名 | B4: 新規に雇用 した年月日 | C4: 緑の雇用 対象研修名 | D4: 実地研修対象期間
D5: ４
D6: １月 | E6: ２月 | F6: ３月 | G6: ４月 | H6: ５月 | I6: ６月 | J6: ７月 | K6: ８月 | L6: ９月 | M6: １０月 | N6: １１月 | O6: １２月
D7: =IF(OR(C7="FW2のみ",C7="FW3のみ",C7="FW1～2",C7="FW2～3"),"○","") | I7: =IF(OR(C7="FW2のみ",C7="FW1のみ",C7="FW1～2",C7="FW2～3"),"○","") | J7: =IF(OR(C7="FW2のみ",C7="FW1のみ",C7="FW1～2",C7="FW2～3"),"○","") | K7: =IF(OR(C7="FW2のみ",C7="FW1のみ",C7="FW1～2",C7="FW2～3"),"○","") | L7: =IF(OR(C7="FW2のみ",C7="FW1のみ",C7="FW1～2",C7="FW2～3"),"○","") | M7: =IF(OR(C7="FW2のみ",C7="FW1のみ",C7="FW1～2",C7="FW2～3"),"○","") | N7: =IF(OR(C7="FW2のみ",C7="FW1のみ",C7="FW1～2",C7="FW2～3"),"○","") | O7: =IF(OR(C7="FW2のみ",C7="FW1のみ",C7="FW1～2",C7="FW2～3"),"○","")
D8: =IF(OR(C8="FW2のみ",C8="FW3のみ",C8="FW1～2",C8="FW2～3"),"○","") | I8: =IF(OR(C8="FW2のみ",C8="FW1のみ",C8="FW1～2",C8="FW2～3"),"○","") | J8: =IF(OR(C8="FW2のみ",C8="FW1のみ",C8="FW1～2",C8="FW2～3"),"○","") | K8: =IF(OR(C8="FW2のみ",C8="FW1のみ",C8="FW1～2",C8="FW2～3"),"○","") | L8: =IF(OR(C8="FW2のみ",C8="FW1のみ",C8="FW1～2",C8="FW2～3"),"○","") | M8: =IF(OR(C8="FW2のみ",C8="FW1のみ",C8="FW1～2",C8="FW2～3"),"○","") | N8: =IF(OR(C8="FW2のみ",C8="FW1のみ",C8="FW1～2",C8="FW2～3"),"○","") | O8: =IF(OR(C8="FW2のみ",C8="FW1のみ",C8="FW1～2",C8="FW2～3"),"○","")
D9: =IF(OR(C9="FW2のみ",C9="FW3のみ",C9="FW1～2",C9="FW2～3"),"○","") | I9: =IF(OR(C9="FW2のみ",C9="FW1のみ",C9="FW1～2",C9="FW2～3"),"○","") | J9: =IF(OR(C9="FW2のみ",C9="FW1のみ",C9="FW1～2",C9="FW2～3"),"○","") | K9: =IF(OR(C9="FW2のみ",C9="FW1のみ",C9="FW1～2",C9="FW2～3"),"○","") | L9: =IF(OR(C9="FW2のみ",C9="FW1のみ",C9="FW1～2",C9="FW2～3"),"○","") | M9: =IF(OR(C9="FW2のみ",C9="FW1のみ",C9="FW1～2",C9="FW2～3"),"○","") | N9: =IF(OR(C9="FW2のみ",C9="FW1のみ",C9="FW1～2",C9="FW2～3"),"○","") | O9: =IF(OR(C9="FW2のみ",C9="FW1のみ",C9="FW1～2",C9="FW2～3"),"○","")
D10: =IF(OR(C10="FW2のみ",C10="FW3のみ",C10="FW1～2",C10="FW2～3"),"○","") | I10: =IF(OR(C10="FW2のみ",C10="FW1のみ",C10="FW1～2",C10="FW2～3"),"○","") | J10: =IF(OR(C10="FW2のみ",C10="FW1のみ",C10="FW1～2",C10="FW2～3"),"○","") | K10: =IF(OR(C10="FW2のみ",C10="FW1のみ",C10="FW1～2",C10="FW2～3"),"○","") | L10: =IF(OR(C10="FW2のみ",C10="FW1のみ",C10="FW1～2",C10="FW2～3"),"○","") | M10: =IF(OR(C10="FW2のみ",C10="FW1のみ",C10="FW1～2",C10="FW2～3"),"○","") | N10: =IF(OR(C10="FW2のみ",C10="FW1のみ",C10="FW1～2",C10="FW2～3"),"○","") | O10: =IF(OR(C10="FW2のみ",C10="FW1のみ",C10="FW1～2",C10="FW2～3"),"○","")
D11: =IF(OR(C11="FW2のみ",C11="FW3のみ",C11="FW1～2",C11="FW2～3"),"○","") | I11: =IF(OR(C11="FW2のみ",C11="FW1のみ",C11="FW1～2",C11="FW2～3"),"○","") | J11: =IF(OR(C11="FW2のみ",C11="FW1のみ",C11="FW1～2",C11="FW2～3"),"○","") | K11: =IF(OR(C11="FW2のみ",C11="FW1のみ",C11="FW1～2",C11="FW2～3"),"○","") | L11: =IF(OR(C11="FW2のみ",C11="FW1のみ",C11="FW1～2",C11="FW2～3"),"○","") | M11: =IF(OR(C11="FW2のみ",C11="FW1のみ",C11="FW1～2",C11="FW2～3"),"○","") | N11: =IF(OR(C11="FW2のみ",C11="FW1のみ",C11="FW1～2",C11="FW2～3"),"○","") | O11: =IF(OR(C11="FW2のみ",C11="FW1のみ",C11="FW1～2",C11="FW2～3"),"○","")
D12: =IF(OR(C12="FW2のみ",C12="FW3のみ",C12="FW1～2",C12="FW2～3"),"○","") | I12: =IF(OR(C12="FW2のみ",C12="FW1のみ",C12="FW1～2",C12="FW2～3"),"○","") | J12: =IF(OR(C12="FW2のみ",C12="FW1のみ",C12="FW1～2",C12="FW2～3"),"○","") | K12: =IF(OR(C12="FW2のみ",C12="FW1のみ",C12="FW1～2",C12="FW2～3"),"○","") | L12: =IF(OR(C12="FW2のみ",C12="FW1のみ",C12="FW1～2",C12="FW2～3"),"○","") | M12: =IF(OR(C12="FW2のみ",C12="FW1のみ",C12="FW1～2",C12="FW2～3"),"○","") | N12: =IF(OR(C12="FW2のみ",C12="FW1のみ",C12="FW1～2",C12="FW2～3"),"○","") | O12: =IF(OR(C12="FW2のみ",C12="FW1のみ",C12="FW1～2",C12="FW2～3"),"○","")
D13: =IF(OR(C13="FW2のみ",C13="FW3のみ",C13="FW1～2",C13="FW2～3"),"○","") | I13: =IF(OR(C13="FW2のみ",C13="FW1のみ",C13="FW1～2",C13="FW2～3"),"○","") | J13: =IF(OR(C13="FW2のみ",C13="FW1のみ",C13="FW1～2",C13="FW2～3"),"○","") | K13: =IF(OR(C13="FW2のみ",C13="FW1のみ",C13="FW1～2",C13="FW2～3"),"○","") | L13: =IF(OR(C13="FW2のみ",C13="FW1のみ",C13="FW1～2",C13="FW2～3"),"○","") | M13: =IF(OR(C13="FW2のみ",C13="FW1のみ",C13="FW1～2",C13="FW2～3"),"○","") | N13: =IF(OR(C13="FW2のみ",C13="FW1のみ",C13="FW1～2",C13="FW2～3"),"○","") | O13: =IF(OR(C13="FW2のみ",C13="FW1のみ",C13="FW1～2",C13="FW2～3"),"○","")
D14: =IF(OR(C14="FW2のみ",C14="FW3のみ",C14="FW1～2",C14="FW2～3"),"○","") | I14: =IF(OR(C14="FW2のみ",C14="FW1のみ",C14="FW1～2",C14="FW2～3"),"○","") | J14: =IF(OR(C14="FW2のみ",C14="FW1のみ",C14="FW1～2",C14="FW2～3"),"○","") | K14: =IF(OR(C14="FW2のみ",C14="FW1のみ",C14="FW1～2",C14="FW2～3"),"○","") | L14: =IF(OR(C14="FW2のみ",C14="FW1のみ",C14="FW1～2",C14="FW2～3"),"○","") | M14: =IF(OR(C14="FW2のみ",C14="FW1のみ",C14="FW1～2",C14="FW2～3"),"○","") | N14: =IF(OR(C14="FW2のみ",C14="FW1のみ",C14="FW1～2",C14="FW2～3"),"○","") | O14: =IF(OR(C14="FW2のみ",C14="FW1のみ",C14="FW1～2",C14="FW2～3"),"○","")
D15: =IF(OR(C15="FW2のみ",C15="FW3のみ",C15="FW1～2",C15="FW2～3"),"○","") | I15: =IF(OR(C15="FW2のみ",C15="FW1のみ",C15="FW1～2",C15="FW2～3"),"○","") | J15: =IF(OR(C15="FW2のみ",C15="FW1のみ",C15="FW1～2",C15="FW2～3"),"○","") | K15: =IF(OR(C15="FW2のみ",C15="FW1のみ",C15="FW1～2",C15="FW2～3"),"○","") | L15: =IF(OR(C15="FW2のみ",C15="FW1のみ",C15="FW1～2",C15="FW2～3"),"○","") | M15: =IF(OR(C15="FW2のみ",C15="FW1のみ",C15="FW1～2",C15="FW2～3"),"○","") | N15: =IF(OR(C15="FW2のみ",C15="FW1のみ",C15="FW1～2",C15="FW2～3"),"○","") | O15: =IF(OR(C15="FW2のみ",C15="FW1のみ",C15="FW1～2",C15="FW2～3"),"○","")
D16: =IF(OR(C16="FW2のみ",C16="FW3のみ",C16="FW1～2",C16="FW2～3"),"○","") | I16: =IF(OR(C16="FW2のみ",C16="FW1のみ",C16="FW1～2",C16="FW2～3"),"○","") | J16: =IF(OR(C16="FW2のみ",C16="FW1のみ",C16="FW1～2",C16="FW2～3"),"○","") | K16: =IF(OR(C16="FW2のみ",C16="FW1のみ",C16="FW1～2",C16="FW2～3"),"○","") | L16: =IF(OR(C16="FW2のみ",C16="FW1のみ",C16="FW1～2",C16="FW2～3"),"○","") | M16: =IF(OR(C16="FW2のみ",C16="FW1のみ",C16="FW1～2",C16="FW2～3"),"○","") | N16: =IF(OR(C16="FW2のみ",C16="FW1のみ",C16="FW1～2",C16="FW2～3"),"○","") | O16: =IF(OR(C16="FW2のみ",C16="FW1のみ",C16="FW1～2",C16="FW2～3"),"○","")
D17: =IF(OR(C17="FW2のみ",C17="FW3のみ",C17="FW1～2",C17="FW2～3"),"○","") | I17: =IF(OR(C17="FW2のみ",C17="FW1のみ",C17="FW1～2",C17="FW2～3"),"○","") | J17: =IF(OR(C17="FW2のみ",C17="FW1のみ",C17="FW1～2",C17="FW2～3"),"○","") | K17: =IF(OR(C17="FW2のみ",C17="FW1のみ",C17="FW1～2",C17="FW2～3"),"○","") | L17: =IF(OR(C17="FW2のみ",C17="FW1のみ",C17="FW1～2",C17="FW2～3"),"○","") | M17: =IF(OR(C17="FW2のみ",C17="FW1のみ",C17="FW1～2",C17="FW2～3"),"○","") | N17: =IF(OR(C17="FW2のみ",C17="FW1のみ",C17="FW1～2",C17="FW2～3"),"○","") | O17: =IF(OR(C17="FW2のみ",C17="FW1のみ",C17="FW1～2",C17="FW2～3"),"○","")
D18: =IF(OR(C18="FW2のみ",C18="FW3のみ",C18="FW1～2",C18="FW2～3"),"○","") | I18: =IF(OR(C18="FW2のみ",C18="FW1のみ",C18="FW1～2",C18="FW2～3"),"○","") | J18: =IF(OR(C18="FW2のみ",C18="FW1のみ",C18="FW1～2",C18="FW2～3"),"○","") | K18: =IF(OR(C18="FW2のみ",C18="FW1のみ",C18="FW1～2",C18="FW2～3"),"○","") | L18: =IF(OR(C18="FW2のみ",C18="FW1のみ",C18="FW1～2",C18="FW2～3"),"○","") | M18: =IF(OR(C18="FW2のみ",C18="FW1のみ",C18="FW1～2",C18="FW2～3"),"○","") | N18: =IF(OR(C18="FW2のみ",C18="FW1のみ",C18="FW1～2",C18="FW2～3"),"○","") | O18: =IF(OR(C18="FW2のみ",C18="FW1のみ",C18="FW1～2",C18="FW2～3"),"○","")
D19: =IF(OR(C19="FW2のみ",C19="FW3のみ",C19="FW1～2",C19="FW2～3"),"○","") | I19: =IF(OR(C19="FW2のみ",C19="FW1のみ",C19="FW1～2",C19="FW2～3"),"○","") | J19: =IF(OR(C19="FW2のみ",C19="FW1のみ",C19="FW1～2",C19="FW2～3"),"○","") | K19: =IF(OR(C19="FW2のみ",C19="FW1のみ",C19="FW1～2",C19="FW2～3"),"○","") | L19: =IF(OR(C19="FW2のみ",C19="FW1のみ",C19="FW1～2",C19="FW2～3"),"○","") | M19: =IF(OR(C19="FW2のみ",C19="FW1のみ",C19="FW1～2",C19="FW2～3"),"○","") | N19: =IF(OR(C19="FW2のみ",C19="FW1のみ",C19="FW1～2",C19="FW2～3"),"○","") | O19: =IF(OR(C19="FW2のみ",C19="FW1のみ",C19="FW1～2",C19="FW2～3"),"○","")
A20: 注（１） | B20: 「緑の雇用対象研修名」欄は緑の雇用事業（FW1のみ、FW2のみ、FW3のみ、FW1～2、FW2～3 のいずれか）を記入してください。
A21: （２） | B21: 「実地研修対象期間」は緑の雇用現場技能者育成対策事業（ＦＷ）の実地研修の対象期間全てに○を記入してください。

Sheet 10号
A1: 別記第１０号様式
A2: 令和４年度 | C2: 退職金共済制度加入促進対策事業実績書
A3: １ 事業実績総括表
A4: 区分 | B4: 事業種 | C4: 作業種 | D4: 実人員 | E4: 延べ 作業日数 | F4: 事業主負担額 | G4: 備 考
A5: 林退共 | B5: 伐出事業 | C5: 主伐 | D5: ='10号-2(林退共) '!C54 -> 0 | E5: ='10号-2(林退共) '!$E$54 -> 0
C6: 搬出間伐 | E6: ='10号-2(林退共) '!$F$54 -> 0
C7: 小計 | E7: ='10号-2(林退共) '!$G$54 -> 0 | F7: =SUM(F5:F6) -> 0
B8: 造林事業 | C8: 切捨間伐 | E8: ='10号-2(林退共) '!$H$54 -> 0
C9: 植栽 | E9: ='10号-2(林退共) '!$I$54 -> 0
C10: 下刈 | E10: ='10号-2(林退共) '!$J$54 -> 0
C11: その他 | E11: ='10号-2(林退共) '!$K$54 -> 0
C12: 小計 | E12: ='10号-2(林退共) '!$L$54 -> 0 | F12: =SUM(F8:F11) -> 0
B13: 共販所 作業道ｵﾍﾟﾚｰﾀｰ | E13: ='10号-2(林退共) '!$M$54 -> 0
B14: 計 | E14: ='10号-2(林退共) '!$N$54 -> 0 | F14: =SUM(F7,F12,F13) -> 0
A15: 中退共 | B15: 伐出事業 | C15: 主伐 | D15: ='10号-2(中退共)'!$C$54 -> 0 | E15: ='10号-2(中退共)'!$E$54 -> 0 | H15: =IFERROR(G15/E15/12,"")
C16: 搬出間伐 | E16: ='10号-2(中退共)'!$F$54 -> 0
C17: 小計 | E17: ='10号-2(中退共)'!$G$54 -> 0 | F17: =SUM(F15:F16) -> 0
B18: 造林事業 | C18: 切捨間伐 | E18: ='10号-2(中退共)'!$H$54 -> 0
C19: 植栽 | E19: ='10号-2(中退共)'!$H$54 -> 0
C20: 下刈 | E20: ='10号-2(中退共)'!$J$54 -> 0
C21: その他 | E21: ='10号-2(中退共)'!$K$54 -> 0
C22: 小計 | E22: ='10号-2(中退共)'!$L$54 -> 0 | F22: =SUM(F18:F21) -> 0
B23: 共販所 作業道ｵﾍﾟﾚｰﾀｰ | E23: ='10号-2(中退共)'!$M$54 -> 0
B24: 計 | E24: ='10号-2(中退共)'!$N$54 -> 0 | F24: =SUM(F17,F22,F23) -> 0
A25: 合計 | D25: =SUM(D5,D15) -> 0 | E25: =SUM(E14,E24) -> 0 | F25: =SUM(F14,F24) -> 0
A27: 注（１） | B27: 暦年（１～１２月）の実績を計上してください。
A28: （２） | B28: 事務職、加工場勤務、トラック運送を主たる業務とする者は、当基金の助成対象となりません。
A30: ２ 添付書類 （※ 添付書類のうち該当のない部分は、抹消してください。）
A31: （１） | B31: 退職金共済制度従事者別年間就業実績表［別記第１０号様式の２］
A32: （２） | B32: 従事者別、月別就業日数及び掛け金額一覧表［別記第１０号様式の３］
A33: （３） | B33: 林退共掛け金収納書（写）・・・（林退共のみ）
A34: （４） | B34: 掛け金等振り替え結果のお知らせ（写）・・・（中退共のみ）

Sheet 10号-2(林退共) 
B1: 別記第１０号様式の２
B2: ２ 令和４年度 | C2: 退職金共済制度従事者別年間就業実績表（助成対象者のみ） | P2: 年齢算出基準日 | Q2: 44896
M3: 【 林退共 】
B4: 氏名 | C4: 生年月日 | D4: 年齢 | E4: 伐出事業 | H4: 造林事業 | M4: 共販所、 作業道 ｵﾍﾟﾚｰﾀｰ | N4: 計
E5: 主伐 | F5: 搬出間伐 | G5: 小計 | H5: 切捨間伐 | I5: 植栽 | J5: 下刈 | K5: その他 （除伐、枝打ち、附帯施設等） | L5: 小計
E6: 日 | F6: 日 | G6: 日 | H6: 日 | I6: 日 | J6: 日 | K6: 日 | L6: 日 | M6: 日 | N6: 日
A7: 1 | D7: =IF(ISBLANK(C7),"",DATEDIF(C7,$Q$2,"y")) | G7: =SUM(E7:F7) -> 0 | L7: =SUM(H7:K7) -> 0 | N7: =SUM(L7,G7,M7) -> 0 | O7: =IF(ISBLANK(B7),"",1)
A8: 2 | D8: =IF(ISBLANK(C8),"",DATEDIF(C8,$Q$2,"y")) | G8: =SUM(E8:F8) -> 0 | L8: =SUM(H8:K8) -> 0 | N8: =SUM(L8,G8,M8) -> 0 | O8: =IF(ISBLANK(B8),"",1)
A9: 3 | D9: =IF(ISBLANK(C9),"",DATEDIF(C9,$Q$2,"y")) | G9: =SUM(E9:F9) -> 0 | L9: =SUM(H9:K9) -> 0 | N9: =SUM(L9,G9,M9) -> 0 | O9: =IF(ISBLANK(B9),"",1)
A10: 4 | D10: =IF(ISBLANK(C10),"",DATEDIF(C10,$Q$2,"y")) | G10: =SUM(E10:F10) -> 0 | L10: =SUM(H10:K10) -> 0 | N10: =SUM(L10,G10,M10) -> 0 | O10: =IF(ISBLANK(B10),"",1)
A11: 5 | D11: =IF(ISBLANK(C11),"",DATEDIF(C11,$Q$2,"y")) | G11: =SUM(E11:F11) -> 0 | L11: =SUM(H11:K11) -> 0 | N11: =SUM(L11,G11,M11) -> 0 | O11: =IF(ISBLANK(B11),"",1)
A12: 6 | D12: =IF(ISBLANK(C12),"",DATEDIF(C12,$Q$2,"y")) | G12: =SUM(E12:F12) -> 0 | L12: =SUM(H12:K12) -> 0 | N12: =SUM(L12,G12,M12) -> 0 | O12: =IF(ISBLANK(B12),"",1)
A13: 7 | D13: =IF(ISBLANK(C13),"",DATEDIF(C13,$Q$2,"y")) | G13: =SUM(E13:F13) -> 0 | L13: =SUM(H13:K13) -> 0 | N13: =SUM(L13,G13,M13) -> 0 | O13: =IF(ISBLANK(B13),"",1)
A14: 8 | D14: =IF(ISBLANK(C14),"",DATEDIF(C14,$Q$2,"y")) | G14: =SUM(E14:F14) -> 0 | L14: =SUM(H14:K14) -> 0 | N14: =SUM(L14,G14,M14) -> 0 | O14: =IF(ISBLANK(B14),"",1)
A15: 9 | D15: =IF(ISBLANK(C15),"",DATEDIF(C15,$Q$2,"y")) | G15: =SUM(E15:F15) -> 0 | L15: =SUM(H15:K15) -> 0 | N15: =SUM(L15,G15,M15) -> 0 | O15: =IF(ISBLANK(B15),"",1)
A16: 10 | D16: =IF(ISBLANK(C16),"",DATEDIF(C16,$Q$2,"y")) | G16: =SUM(E16:F16) -> 0 | L16: =SUM(H16:K16) -> 0 | N16: =SUM(L16,G16,M16) -> 0 | O16: =IF(ISBLANK(B16),"",1)
A17: 11 | D17: =IF(ISBLANK(C17),"",DATEDIF(C17,$Q$2,"y")) | G17: =SUM(E17:F17) -> 0 | L17: =SUM(H17:K17) -> 0 | N17: =SUM(L17,G17,M17) -> 0 | O17: =IF(ISBLANK(B17),"",1)
A18: 12 | D18: =IF(ISBLANK(C18),"",DATEDIF(C18,$Q$2,"y")) | G18: =SUM(E18:F18) -> 0 | L18: =SUM(H18:K18) -> 0 | N18: =SUM(L18,G18,M18) -> 0 | O18: =IF(ISBLANK(B18),"",1)
... A36: 30 | D36: =IF(ISBLANK(C36),"",DATEDIF(C36,$Q$2,"y")) | G36: =SUM(E36:F36) -> 0 | L36: =SUM(H36:K36) -> 0 | N36: =SUM(L36,G36,M36) -> 0 | O36: =IF(ISBLANK(B36),"",1)
A37: 31 | G37: =SUM(E37:F37) -> 0 | L37: =SUM(H37:K37) -> 0 | N37: =SUM(L37,G37,M37) -> 0
A38: 32 | G38: =SUM(E38:F38) -> 0 | L38: =SUM(H38:K38) -> 0 | N38: =SUM(L38,G38,M38) -> 0
A39: 33 | G39: =SUM(E39:F39) -> 0 | L39: =SUM(H39:K39) -> 0 | N39: =SUM(L39,G39,M39) -> 0
A40: 34 | G40: =SUM(E40:F40) -> 0 | L40: =SUM(H40:K40) -> 0 | N40: =SUM(L40,G40,M40) -> 0
A41: 35 | G41: =SUM(E41:F41) -> 0 | L41: =SUM(H41:K41) -> 0 | N41: =SUM(L41,G41,M41) -> 0
A42: 36 | G42: =SUM(E42:F42) -> 0 | L42: =SUM(H42:K42) -> 0 | N42: =SUM(L42,G42,M42) -> 0
A43: 37 | G43: =SUM(E43:F43) -> 0 | L43: =SUM(H43:K43) -> 0 | N43: =SUM(L43,G43,M43) -> 0
A44: 38 | G44: =SUM(E44:F44) -> 0 | L44: =SUM(H44:K44) -> 0 | N44: =SUM(L44,G44,M44) -> 0
A45: 39 | G45: =SUM(E45:F45) -> 0 | L45: =SUM(H45:K45) -> 0 | N45: =SUM(L45,G45,M45) -> 0
A46: 40 | G46: =SUM(E46:F46) -> 0 | L46: =SUM(H46:K46) -> 0 | N46: =SUM(L46,G46,M46) -> 0
A47: 41 | G47: =SUM(E47:F47) -> 0 | L47: =SUM(H47:K47) -> 0 | N47: =SUM(L47,G47,M47) -> 0
A48: 42 | G48: =SUM(E48:F48) -> 0 | L48: =SUM(H48:K48) -> 0 | N48: =SUM(L48,G48,M48) -> 0
... A53: 47 | G53: =SUM(E53:F53) -> 0 | L53: =SUM(H53:K53) -> 0 | N53: =SUM(L53,G53,M53) -> 0
B54: 計 | C54: =O54 -> 0 | D54: 人 | E54: =SUM(E7:E53) -> 0 | F54: =SUM(F7:F53) -> 0 | G54: =SUM(E54:F54) -> 0 | H54: =SUM(H7:H53) -> 0 | I54: =SUM(I7:I53) -> 0 | J54: =SUM(J7:J53) -> 0 | K54: =SUM(K7:K53) -> 0 | L54: =SUM(H54:K54) -> 0 | M54: =SUM(M7:M53) -> 0 | N54: =SUM(L54,G54,M54) -> 0 | O54: =SUM(O7:O36) -> 0
B55: 注1：林退共と中退共加入の従事者は、別葉で記載してください。
B56: 注2：伐出事業、造林事業の作業種別内訳日数について、記録が無く集計ができない場合は、対象期間内の割合で算出してください。 （ただし、移行措置として令和４年度に限る。令和５年度からは、記録に基づき作業種ごとに日数を記載する場合のみ対象予定。）

Sheet 10号-2(中退共)
B1: 別記第１０号様式の２
B2: ='10号-2(林退共) '!B2 -> ２ 令和４年度 | C2: 退職金共済制度従事者別年間就業実績表（助成対象者のみ） | P2: 年齢算出基準日 | Q2: 44896
M3: 【 中退共 】
B4: 氏名 | C4: 生年月日 | D4: 年齢 | E4: 伐出事業 | H4: 造林事業 | M4: 共販所、 作業道 ｵﾍﾟﾚｰﾀｰ | N4: 計
E5: 主伐 | F5: 搬出間伐 | G5: 小計 | H5: 切捨間伐 | I5: 植栽 | J5: 下刈 | K5: その他 （除伐、枝打ち、附帯施設等） | L5: 小計
E6: 日 | F6: 日 | G6: 日 | H6: 日 | I6: 日 | J6: 日 | K6: 日 | L6: 日 | M6: 日 | N6: 日
A7: 1 | D7: =IF(ISBLANK(C7),"",DATEDIF(C7,$Q$2,"y")) | G7: =SUM(E7:F7) -> 0 | L7: =SUM(H7:K7) -> 0 | N7: =SUM(L7,G7,M7) -> 0 | O7: =IF(ISBLANK(B7),"",1)
A8: 2 | D8: =IF(ISBLANK(C8),"",DATEDIF(C8,$Q$2,"y")) | G8: =SUM(E8:F8) -> 0 | L8: =SUM(H8:K8) -> 0 | N8: =SUM(L8,G8,M8) -> 0 | O8: =IF(ISBLANK(B8),"",1)
A9: 3 | D9: =IF(ISBLANK(C9),"",DATEDIF(C9,$Q$2,"y")) | G9: =SUM(E9:F9) -> 0 | L9: =SUM(H9:K9) -> 0 | N9: =SUM(L9,G9,M9) -> 0 | O9: =IF(ISBLANK(B9),"",1)
A10: 4 | D10: =IF(ISBLANK(C10),"",DATEDIF(C10,$Q$2,"y")) | G10: =SUM(E10:F10) -> 0 | L10: =SUM(H10:K10) -> 0 | N10: =SUM(L10,G10,M10) -> 0 | O10: =IF(ISBLANK(B10),"",1)
A11: 5 | D11: =IF(ISBLANK(C11),"",DATEDIF(C11,$Q$2,"y")) | G11: =SUM(E11:F11) -> 0 | L11: =SUM(H11:K11) -> 0 | N11: =SUM(L11,G11,M11) -> 0 | O11: =IF(ISBLANK(B11),"",1)
A12: 6 | D12: =IF(ISBLANK(C12),"",DATEDIF(C12,$Q$2,"y")) | G12: =SUM(E12:F12) -> 0 | L12: =SUM(H12:K12) -> 0 | N12: =SUM(L12,G12,M12) -> 0 | O12: =IF(ISBLANK(B12),"",1)
A13: 7 | D13: =IF(ISBLANK(C13),"",DATEDIF(C13,$Q$2,"y")) | G13: =SUM(E13:F13) -> 0 | L13: =SUM(H13:K13) -> 0 | N13: =SUM(L13,G13,M13) -> 0 | O13: =IF(ISBLANK(B13),"",1)
A14: 8 | D14: =IF(ISBLANK(C14),"",DATEDIF(C14,$Q$2,"y")) | G14: =SUM(E14:F14) -> 0 | L14: =SUM(H14:K14) -> 0 | N14: =SUM(L14,G14,M14) -> 0 | O14: =IF(ISBLANK(B14),"",1)
A15: 9 | D15: =IF(ISBLANK(C15),"",DATEDIF(C15,$Q$2,"y")) | G15: =SUM(E15:F15) -> 0 | L15: =SUM(H15:K15) -> 0 | N15: =SUM(L15,G15,M15) -> 0 | O15: =IF(ISBLANK(B15),"",1)
A16: 10 | D16: =IF(ISBLANK(C16),"",DATEDIF(C16,$Q$2,"y")) | G16: =SUM(E16:F16) -> 0 | L16: =SUM(H16:K16) -> 0 | N16: =SUM(L16,G16,M16) -> 0 | O16: =IF(ISBLANK(B16),"",1)
A17: 11 | D17: =IF(ISBLANK(C17),"",DATEDIF(C17,$Q$2,"y")) | G17: =SUM(E17:F17) -> 0 | L17: =SUM(H17:K17) -> 0 | N17: =SUM(L17,G17,M17) -> 0 | O17: =IF(ISBLANK(B17),"",1)
A18: 12 | D18: =IF(ISBLANK(C18),"",DATEDIF(C18,$Q$2,"y")) | G18: =SUM(E18:F18) -> 0 | L18: =SUM(H18:K18) -> 0 | N18: =SUM(L18,G18,M18) -> 0 | O18: =IF(ISBLANK(B18),"",1)
... A36: 30 | D36: =IF(ISBLANK(C36),"",DATEDIF(C36,$Q$2,"y")) | G36: =SUM(E36:F36) -> 0 | L36: =SUM(H36:K36) -> 0 | N36: =SUM(L36,G36,M36) -> 0 | O36: =IF(ISBLANK(B36),"",1)
A37: 31 | G37: =SUM(E37:F37) -> 0 | L37: =SUM(H37:K37) -> 0 | N37: =SUM(L37,G37,M37) -> 0
A38: 32 | G38: =SUM(E38:F38) -> 0 | L38: =SUM(H38:K38) -> 0 | N38: =SUM(L38,G38,M38) -> 0
A39: 33 | G39: =SUM(E39:F39) -> 0 | L39: =SUM(H39:K39) -> 0 | N39: =SUM(L39,G39,M39) -> 0
A40: 34 | G40: =SUM(E40:F40) -> 0 | L40: =SUM(H40:K40) -> 0 | N40: =SUM(L40,G40,M40) -> 0
A41: 35 | G41: =SUM(E41:F41) -> 0 | L41: =SUM(H41:K41) -> 0 | N41: =SUM(L41,G41,M41) -> 0
A42: 36 | G42: =SUM(E42:F42) -> 0 | L42: =SUM(H42:K42) -> 0 | N42: =SUM(L42,G42,M42) -> 0
A43: 37 | G43: =SUM(E43:F43) -> 0 | L43: =SUM(H43:K43) -> 0 | N43: =SUM(L43,G43,M43) -> 0
A44: 38 | G44: =SUM(E44:F44) -> 0 | L44: =SUM(H44:K44) -> 0 | N44: =SUM(L44,G44,M44) -> 0
A45: 39 | G45: =SUM(E45:F45) -> 0 | L45: =SUM(H45:K45) -> 0 | N45: =SUM(L45,G45,M45) -> 0
A46: 40 | G46: =SUM(E46:F46) -> 0 | L46: =SUM(H46:K46) -> 0 | N46: =SUM(L46,G46,M46) -> 0
A47: 41 | G47: =SUM(E47:F47) -> 0 | L47: =SUM(H47:K47) -> 0 | N47: =SUM(L47,G47,M47) -> 0
A48: 42 | G48: =SUM(E48:F48) -> 0 | L48: =SUM(H48:K48) -> 0 | N48: =SUM(L48,G48,M48) -> 0
... A53: 47 | G53: =SUM(E53:F53) -> 0 | L53: =SUM(H53:K53) -> 0 | N53: =SUM(L53,G53,M53) -> 0
B54: 計 | C54: =O54 -> 0 | D54: 人 | E54: =SUM(E7:E53) -> 0 | F54: =SUM(F7:F53) -> 0 | G54: =SUM(E54:F54) -> 0 | H54: =SUM(H7:H53) -> 0 | I54: =SUM(I7:I53) -> 0 | J54: =SUM(J7:J53) -> 0 | K54: =SUM(K7:K53) -> 0 | L54: =SUM(H54:K54) -> 0 | M54: =SUM(M7:M53) -> 0 | N54: =SUM(L54,G54,M54) -> 0 | O54: =SUM(O7:O36) -> 0
B55: 注：林退共と中退共加入の従事者は、別葉で記載してください。
B56: 注2：伐出事業、造林事業の作業種内訳日数について、記録が無く集計ができない場合は、対象期間内の割合で算出してください。 （ただし、移行措置として令和４年度に限る。令和５年度からは記録に基づき作業種ごとに日数を記載する場合のみ対象予定。）

Sheet 10号-３(林退共)
A1: 別記第１０号様式の３
A2: 従事者別、月別就業日数及び掛け金額一覧表 （林退共）
K3: （単位：日）
A4: 従事者名 | B4: １月 | C4: ２月 | D4: ３月 | E4: ４月 | F4: ５月 | G4: ６月 | H4: ７月 | I4: ８月 | J4: ９月 | K4: １０月 | L4: １１月 | M4: １２月 | N4: 計
N5: =SUM(B5:M5) -> 0
N6: =SUM(B6:M6) -> 0
N7: =SUM(B7:M7) -> 0
N8: =SUM(B8:M8) -> 0
N9: =SUM(B9:M9) -> 0
N10: =SUM(B10:M10) -> 0
N11: =SUM(B11:M11) -> 0
N12: =SUM(B12:M12) -> 0
N13: =SUM(B13:M13) -> 0
N14: =SUM(B14:M14) -> 0
N15: =SUM(B15:M15) -> 0
N16: =SUM(B16:M16) -> 0
... N24: =SUM(B24:M24) -> 0
A25: 計 | B25: =SUM(B5:B24) -> 0 | C25: =SUM(C5:C24) -> 0 | D25: =SUM(D5:D24) -> 0 | E25: =SUM(E5:E24) -> 0 | F25: =SUM(F5:F24) -> 0 | G25: =SUM(G5:G24) -> 0 | H25: =SUM(H5:H24) -> 0 | I25: =SUM(I5:I24) -> 0 | ... N25: =SUM(N5:N24) -> 0
A26: 注 林退共と中退共は別様にしてください。

Sheet 10号-３(中退共)
A1: [別記第１０号様式の３]
A2: 従事者別、月別掛け金額一覧表 （中退共）
K3: （単位：円）
A4: 従事者名 | B4: １月 | C4: ２月 | D4: ３月 | E4: ４月 | F4: ５月 | G4: ６月 | H4: ７月 | I4: ８月 | J4: ９月 | K4: １０月 | L4: １１月 | M4: １２月 | N4: 計
N5: =SUM(B5:M5) -> 0
N6: =SUM(B6:M6) -> 0
N7: =SUM(B7:M7) -> 0
N8: =SUM(B8:M8) -> 0
N9: =SUM(B9:M9) -> 0
N10: =SUM(B10:M10) -> 0
N11: =SUM(B11:M11) -> 0
N12: =SUM(B12:M12) -> 0
N13: =SUM(B13:M13) -> 0
N14: =SUM(B14:M14) -> 0
N15: =SUM(B15:M15) -> 0
N16: =SUM(B16:M16) -> 0
... N24: =SUM(B24:M24) -> 0
A25: 計 | B25: =SUM(B5:B24) -> 0 | C25: =SUM(C5:C24) -> 0 | D25: =SUM(D5:D24) -> 0 | E25: =SUM(E5:E24) -> 0 | F25: =SUM(F5:F24) -> 0 | G25: =SUM(G5:G24) -> 0 | H25: =SUM(H5:H24) -> 0 | I25: =SUM(I5:I24) -> 0 | ... N25: =SUM(N5:N24) -> 0
A26: 注 林退共と中退共は別様にしてください。

Sheet 10号-4
A1: 別記第１０号様式の４
A2: 令和４年度 | D2: 社会保険加入促進事業実績書
A3: １ 事業実績総括表
A4: 保険等の種類 | B4: 事業種 | C4: 作業種 | D4: 実人員 | E4: 掛金総額 | F4: 事業主負担額 | G4: 摘 要
A5: 雇用保険 | B5: 伐出事業 | C5: 主伐 | D5: ='10号-5(対象)'!C62 -> 0 | F5: ='10号-5(対象)'!$E$62 -> 0
C6: 搬出間伐 | F6: ='10号-5(対象)'!$F$62 -> 0
C7: 小計 | E7: =SUM(E5:E6) -> 0 | F7: =SUM(F5:F6) -> 0
B8: 造林事業 | C8: 切捨間伐 | F8: ='10号-5(対象)'!$H$62 -> 0
C9: 植栽 | F9: ='10号-5(対象)'!$I$62 -> 0
C10: 下刈 | F10: ='10号-5(対象)'!$J$62 -> 0
C11: その他 | F11: ='10号-5(対象)'!$K$62 -> 0
C12: 小計 | E12: =SUM(E8:E11) -> 0 | F12: =SUM(F8:F11) -> 0
B13: 共販所 作業道ｵﾍﾟﾚｰﾀｰ | F13: ='10号-5(対象)'!$M$62 -> 0
B14: 計 | E14: =SUM(E12,E7,E13) -> 0 | F14: =SUM(F12,F7,F13) -> 0 | H14: =IF(ISERROR(F14/E14),"",(F14/E14))
A15: 健康保険 | B15: 伐出事業 | C15: 主伐 | D15: ='10号-5(対象)'!C62 -> 0 | F15: ='10号-5(対象)'!$O$62 -> 0 | H15: =IF(ISERROR(G15/F15),"",(G15/F15))
C16: 搬出間伐 | F16: ='10号-5(対象)'!$P$62 -> 0
C17: 小計 | E17: =SUM(E15:E16) -> 0 | F17: =SUM(F15:F16) -> 0
B18: 造林事業 | C18: 切捨間伐 | F18: ='10号-5(対象)'!$R$62 -> 0
C19: 植栽 | F19: ='10号-5(対象)'!$S$62 -> 0
C20: 下刈 | F20: ='10号-5(対象)'!$T$62 -> 0
C21: その他 | F21: ='10号-5(対象)'!$U$62 -> 0
C22: 小計 | E22: =SUM(E18:E21) -> 0 | F22: =SUM(F18:F21) -> 0
B23: 共販所 作業道ｵﾍﾟﾚｰﾀｰ | F23: ='10号-5(対象)'!$W$62 -> 0
B24: 計 | E24: =SUM(E22,E17,E23) -> 0 | F24: =SUM(F22,F17,F23) -> 0 | H24: =IF(ISERROR(F24/E24),"",(F24/E24))
A25: 厚生年金 | B25: 伐出事業 | C25: 主伐 | D25: ='10号-5(対象)'!C62 -> 0 | F25: ='10号-5(対象)'!$Y$62 -> 0 | H25: =IF(ISERROR(G25/F25),"",(G25/F25))
C26: 搬出間伐 | F26: ='10号-5(対象)'!$Z$62 -> 0
C27: 小計 | E27: =SUM(E25:E26) -> 0 | F27: =SUM(F25:F26) -> 0
B28: 造林事業 | C28: 切捨間伐 | F28: ='10号-5(対象)'!$AB$62 -> 0
C29: 植栽 | F29: ='10号-5(対象)'!$AC$62 -> 0
C30: 下刈 | F30: ='10号-5(対象)'!$AD$62 -> 0
C31: その他 | F31: ='10号-5(対象)'!$AE$62 -> 0
C32: 小計 | E32: =SUM(E28:E31) -> 0 | F32: =SUM(F28:F31) -> 0
B33: 共販所 作業道ｵﾍﾟﾚｰﾀｰ | F33: ='10号-5(対象)'!$AG$62 -> 0
B34: 計 | E34: =SUM(E32,E27,E33) -> 0 | F34: =SUM(F32,F27,F33) -> 0 | H34: =IF(ISERROR(F34/E34),"",(F34/E34))
A35: 合計 | D35: =MAX(D5,D15,D25) -> 0 | E35: =SUM(E14,E24,E34) -> 0 | F35: =SUM(F14,F24,F34) -> 0 | H35: =IF(ISERROR(F35/E35),"",(F35/E35))
A36: 注（１） | B36: 暦年（１～１２月）の実績を計上してください。
A37: （２） | B37: 事務職、加工場勤務、トラック運送を主たる業務とする者、または、社会保険３点セットのうち１～２点しか加入していない者は、当基金の助成対象となりません。
A39: ２ 添付書類
A40: （１） | B40: 従事者別社会保険料負担実績表［別記第１０号様式の５］
A41: （２） | B41: 社会保険料負担実績明細書［別記第１０号様式の６］

Sheet 10号-5(対象)
B1: 別記第１０号様式の５
B2: ２ 令和４年度 | E2: 従事者別社会保険料負担実績表（助成対象者） | AK2: 年齢算出基準日 | AL2: 44896
Y3: 単位：円
B4: 氏名 | C4: 生年月日 | D4: 年齢 | E4: 事業主の負担額
E5: 雇用保険 | O5: 健康保険 | Y5: 厚生年金 | AI5: 合計
E6: 伐出事業 | H6: 造林事業 | M6: 共販所、作業道 ｵﾍﾟﾚｰﾀｰ | N6: 計 | O6: 伐出事業 | R6: 造林事業 | W6: 共販所、作業道 ｵﾍﾟﾚｰﾀｰ | X6: 計 | Y6: 伐出事業 | AB6: 造林事業 | AG6: 共販所、作業道 ｵﾍﾟﾚｰﾀｰ | AH6: 計
E7: 主伐 | F7: 搬出間伐 | G7: 小計 | H7: 切捨間伐 | I7: 植栽 | J7: 下刈 | K7: その他 （除伐、枝打ち、附帯施設等） | L7: 小計 | O7: 主伐 | P7: 搬出間伐 | Q7: 小計 | R7: 切捨間伐 | S7: 植栽 | T7: 下刈 | U7: その他 （除伐、枝打ち、附帯施設等） | V7: 小計 | Y7: 主伐 | Z7: 搬出間伐 | AA7: 小計 | AB7: 切捨間伐 | AC7: 植栽 | AD7: 下刈 | AE7: その他 （除伐、枝打ち、附帯施設等） | AF7: 小計
A8: 1 | G8: =SUM(E8:F8) -> 0 | L8: =SUM(H8:K8) -> 0 | N8: =SUM(L8,G8,M8) -> 0 | Q8: =SUM(O8:P8) -> 0 | V8: =SUM(R8:U8) -> 0 | X8: =SUM(V8,Q8,W8) -> 0 | AA8: =SUM(Y8:Z8) -> 0 | AF8: =SUM(AB8:AE8) -> 0 | AH8: =SUM(AF8,AA8,AG8) -> 0 | AI8: =SUM(AH8,X8,N8) -> 0 | AJ8: =IF(ISBLANK(B8),"",1)
A9: 2 | D9: =IF(ISBLANK(C9),"",DATEDIF(C9,$AL$2,"y")) | G9: =SUM(E9:F9) -> 0 | L9: =SUM(H9:K9) -> 0 | N9: =SUM(L9,G9,M9) -> 0 | Q9: =SUM(O9:P9) -> 0 | V9: =SUM(R9:U9) -> 0 | X9: =SUM(V9,Q9,W9) -> 0 | AA9: =SUM(Y9:Z9) -> 0 | AF9: =SUM(AB9:AE9) -> 0 | AH9: =SUM(AF9,AA9,AG9) -> 0 | AI9: =SUM(AH9,X9,N9) -> 0 | AJ9: =IF(ISBLANK(B9),"",1)
A10: 3 | D10: =IF(ISBLANK(C10),"",DATEDIF(C10,$AL$2,"y")) | G10: =SUM(E10:F10) -> 0 | L10: =SUM(H10:K10) -> 0 | N10: =SUM(L10,G10,M10) -> 0 | Q10: =SUM(O10:P10) -> 0 | V10: =SUM(R10:U10) -> 0 | X10: =SUM(V10,Q10,W10) -> 0 | AA10: =SUM(Y10:Z10) -> 0 | AF10: =SUM(AB10:AE10) -> 0 | AH10: =SUM(AF10,AA10,AG10) -> 0 | AI10: =SUM(AH10,X10,N10) -> 0 | AJ10: =IF(ISBLANK(B10),"",1)
A11: 4 | D11: =IF(ISBLANK(C11),"",DATEDIF(C11,$AL$2,"y")) | G11: =SUM(E11:F11) -> 0 | L11: =SUM(H11:K11) -> 0 | N11: =SUM(L11,G11,M11) -> 0 | Q11: =SUM(O11:P11) -> 0 | V11: =SUM(R11:U11) -> 0 | X11: =SUM(V11,Q11,W11) -> 0 | AA11: =SUM(Y11:Z11) -> 0 | AF11: =SUM(AB11:AE11) -> 0 | AH11: =SUM(AF11,AA11,AG11) -> 0 | AI11: =SUM(AH11,X11,N11) -> 0 | AJ11: =IF(ISBLANK(B11),"",1)
A12: 5 | D12: =IF(ISBLANK(C12),"",DATEDIF(C12,$AL$2,"y")) | G12: =SUM(E12:F12) -> 0 | L12: =SUM(H12:K12) -> 0 | N12: =SUM(L12,G12,M12) -> 0 | Q12: =SUM(O12:P12) -> 0 | V12: =SUM(R12:U12) -> 0 | X12: =SUM(V12,Q12,W12) -> 0 | AA12: =SUM(Y12:Z12) -> 0 | AF12: =SUM(AB12:AE12) -> 0 | AH12: =SUM(AF12,AA12,AG12) -> 0 | AI12: =SUM(AH12,X12,N12) -> 0 | AJ12: =IF(ISBLANK(B12),"",1)
A13: 6 | D13: =IF(ISBLANK(C13),"",DATEDIF(C13,$AL$2,"y")) | G13: =SUM(E13:F13) -> 0 | L13: =SUM(H13:K13) -> 0 | N13: =SUM(L13,G13,M13) -> 0 | Q13: =SUM(O13:P13) -> 0 | V13: =SUM(R13:U13) -> 0 | X13: =SUM(V13,Q13,W13) -> 0 | AA13: =SUM(Y13:Z13) -> 0 | AF13: =SUM(AB13:AE13) -> 0 | AH13: =SUM(AF13,AA13,AG13) -> 0 | AI13: =SUM(AH13,X13,N13) -> 0 | AJ13: =IF(ISBLANK(B13),"",1)
A14: 7 | D14: =IF(ISBLANK(C14),"",DATEDIF(C14,$AL$2,"y")) | G14: =SUM(E14:F14) -> 0 | L14: =SUM(H14:K14) -> 0 | N14: =SUM(L14,G14,M14) -> 0 | Q14: =SUM(O14:P14) -> 0 | V14: =SUM(R14:U14) -> 0 | X14: =SUM(V14,Q14,W14) -> 0 | AA14: =SUM(Y14:Z14) -> 0 | AF14: =SUM(AB14:AE14) -> 0 | AH14: =SUM(AF14,AA14,AG14) -> 0 | AI14: =SUM(AH14,X14,N14) -> 0 | AJ14: =IF(ISBLANK(B14),"",1)
A15: 8 | D15: =IF(ISBLANK(C15),"",DATEDIF(C15,$AL$2,"y")) | G15: =SUM(E15:F15) -> 0 | L15: =SUM(H15:K15) -> 0 | N15: =SUM(L15,G15,M15) -> 0 | Q15: =SUM(O15:P15) -> 0 | V15: =SUM(R15:U15) -> 0 | X15: =SUM(V15,Q15,W15) -> 0 | AA15: =SUM(Y15:Z15) -> 0 | AF15: =SUM(AB15:AE15) -> 0 | AH15: =SUM(AF15,AA15,AG15) -> 0 | AI15: =SUM(AH15,X15,N15) -> 0 | AJ15: =IF(ISBLANK(B15),"",1)
A16: 9 | D16: =IF(ISBLANK(C16),"",DATEDIF(C16,$AL$2,"y")) | G16: =SUM(E16:F16) -> 0 | L16: =SUM(H16:K16) -> 0 | N16: =SUM(L16,G16,M16) -> 0 | Q16: =SUM(O16:P16) -> 0 | V16: =SUM(R16:U16) -> 0 | X16: =SUM(V16,Q16,W16) -> 0 | AA16: =SUM(Y16:Z16) -> 0 | AF16: =SUM(AB16:AE16) -> 0 | AH16: =SUM(AF16,AA16,AG16) -> 0 | AI16: =SUM(AH16,X16,N16) -> 0 | AJ16: =IF(ISBLANK(B16),"",1)
A17: 10 | D17: =IF(ISBLANK(C17),"",DATEDIF(C17,$AL$2,"y")) | G17: =SUM(E17:F17) -> 0 | L17: =SUM(H17:K17) -> 0 | N17: =SUM(L17,G17,M17) -> 0 | Q17: =SUM(O17:P17) -> 0 | V17: =SUM(R17:U17) -> 0 | X17: =SUM(V17,Q17,W17) -> 0 | AA17: =SUM(Y17:Z17) -> 0 | AF17: =SUM(AB17:AE17) -> 0 | AH17: =SUM(AF17,AA17,AG17) -> 0 | AI17: =SUM(AH17,X17,N17) -> 0 | AJ17: =IF(ISBLANK(B17),"",1)
A18: 11 | D18: =IF(ISBLANK(C18),"",DATEDIF(C18,$AL$2,"y")) | G18: =SUM(E18:F18) -> 0 | L18: =SUM(H18:K18) -> 0 | N18: =SUM(L18,G18,M18) -> 0 | Q18: =SUM(O18:P18) -> 0 | V18: =SUM(R18:U18) -> 0 | X18: =SUM(V18,Q18,W18) -> 0 | AA18: =SUM(Y18:Z18) -> 0 | AF18: =SUM(AB18:AE18) -> 0 | AH18: =SUM(AF18,AA18,AG18) -> 0 | AI18: =SUM(AH18,X18,N18) -> 0 | AJ18: =IF(ISBLANK(B18),"",1)
A19: 12 | D19: =IF(ISBLANK(C19),"",DATEDIF(C19,$AL$2,"y")) | G19: =SUM(E19:F19) -> 0 | L19: =SUM(H19:K19) -> 0 | N19: =SUM(L19,G19,M19) -> 0 | Q19: =SUM(O19:P19) -> 0 | V19: =SUM(R19:U19) -> 0 | X19: =SUM(V19,Q19,W19) -> 0 | AA19: =SUM(Y19:Z19) -> 0 | AF19: =SUM(AB19:AE19) -> 0 | AH19: =SUM(AF19,AA19,AG19) -> 0 | AI19: =SUM(AH19,X19,N19) -> 0 | AJ19: =IF(ISBLANK(B19),"",1)
A20: 13 | D20: =IF(ISBLANK(C20),"",DATEDIF(C20,$AL$2,"y")) | G20: =SUM(E20:F20) -> 0 | L20: =SUM(H20:K20) -> 0 | N20: =SUM(L20,G20,M20) -> 0 | Q20: =SUM(O20:P20) -> 0 | V20: =SUM(R20:U20) -> 0 | X20: =SUM(V20,Q20,W20) -> 0 | AA20: =SUM(Y20:Z20) -> 0 | AF20: =SUM(AB20:AE20) -> 0 | AH20: =SUM(AF20,AA20,AG20) -> 0 | AI20: =SUM(AH20,X20,N20) -> 0 | AJ20: =IF(ISBLANK(B20),"",1)
... A22: 15 | D22: =IF(ISBLANK(C22),"",DATEDIF(C22,$AL$2,"y")) | G22: =SUM(E22:F22) -> 0 | L22: =SUM(H22:K22) -> 0 | N22: =SUM(L22,G22,M22) -> 0 | Q22: =SUM(O22:P22) -> 0 | V22: =SUM(R22:U22) -> 0 | X22: =SUM(V22,Q22,W22) -> 0 | AA22: =SUM(Y22:Z22) -> 0 | AF22: =SUM(AB22:AE22) -> 0 | AH22: =SUM(AF22,AA22,AG22) -> 0 | AI22: =SUM(AH22,X22,N22) -> 0 | AJ22: =IF(ISBLANK(B22),"",1)
A23: 16 | G23: =SUM(E23:F23) -> 0 | L23: =SUM(H23:K23) -> 0 | N23: =SUM(L23,G23,M23) -> 0 | Q23: =SUM(O23:P23) -> 0 | V23: =SUM(R23:U23) -> 0 | X23: =SUM(V23,Q23,W23) -> 0 | AA23: =SUM(Y23:Z23) -> 0 | AF23: =SUM(AB23:AE23) -> 0 | AH23: =SUM(AF23,AA23,AG23) -> 0 | AI23: =SUM(AH23,X23,N23) -> 0
A24: 17 | G24: =SUM(E24:F24) -> 0 | L24: =SUM(H24:K24) -> 0 | N24: =SUM(L24,G24,M24) -> 0 | Q24: =SUM(O24:P24) -> 0 | V24: =SUM(R24:U24) -> 0 | X24: =SUM(V24,Q24,W24) -> 0 | AA24: =SUM(Y24:Z24) -> 0 | AF24: =SUM(AB24:AE24) -> 0 | AH24: =SUM(AF24,AA24,AG24) -> 0 | AI24: =SUM(AH24,X24,N24) -> 0
A25: 18 | G25: =SUM(E25:F25) -> 0 | L25: =SUM(H25:K25) -> 0 | N25: =SUM(L25,G25,M25) -> 0 | Q25: =SUM(O25:P25) -> 0 | V25: =SUM(R25:U25) -> 0 | X25: =SUM(V25,Q25,W25) -> 0 | AA25: =SUM(Y25:Z25) -> 0 | AF25: =SUM(AB25:AE25) -> 0 | AH25: =SUM(AF25,AA25,AG25) -> 0 | AI25: =SUM(AH25,X25,N25) -> 0
A26: 19 | G26: =SUM(E26:F26) -> 0 | L26: =SUM(H26:K26) -> 0 | N26: =SUM(L26,G26,M26) -> 0 | Q26: =SUM(O26:P26) -> 0 | V26: =SUM(R26:U26) -> 0 | X26: =SUM(V26,Q26,W26) -> 0 | AA26: =SUM(Y26:Z26) -> 0 | AF26: =SUM(AB26:AE26) -> 0 | AH26: =SUM(AF26,AA26,AG26) -> 0 | AI26: =SUM(AH26,X26,N26) -> 0
A27: 20 | G27: =SUM(E27:F27) -> 0 | L27: =SUM(H27:K27) -> 0 | N27: =SUM(L27,G27,M27) -> 0 | Q27: =SUM(O27:P27) -> 0 | V27: =SUM(R27:U27) -> 0 | X27: =SUM(V27,Q27,W27) -> 0 | AA27: =SUM(Y27:Z27) -> 0 | AF27: =SUM(AB27:AE27) -> 0 | AH27: =SUM(AF27,AA27,AG27) -> 0 | AI27: =SUM(AH27,X27,N27) -> 0
A28: 21 | G28: =SUM(E28:F28) -> 0 | L28: =SUM(H28:K28) -> 0 | N28: =SUM(L28,G28,M28) -> 0 | Q28: =SUM(O28:P28) -> 0 | V28: =SUM(R28:U28) -> 0 | X28: =SUM(V28,Q28,W28) -> 0 | AA28: =SUM(Y28:Z28) -> 0 | AF28: =SUM(AB28:AE28) -> 0 | AH28: =SUM(AF28,AA28,AG28) -> 0 | AI28: =SUM(AH28,X28,N28) -> 0
A29: 22 | G29: =SUM(E29:F29) -> 0 | L29: =SUM(H29:K29) -> 0 | N29: =SUM(L29,G29,M29) -> 0 | Q29: =SUM(O29:P29) -> 0 | V29: =SUM(R29:U29) -> 0 | X29: =SUM(V29,Q29,W29) -> 0 | AA29: =SUM(Y29:Z29) -> 0 | AF29: =SUM(AB29:AE29) -> 0 | AH29: =SUM(AF29,AA29,AG29) -> 0 | AI29: =SUM(AH29,X29,N29) -> 0
A30: 23 | G30: =SUM(E30:F30) -> 0 | L30: =SUM(H30:K30) -> 0 | N30: =SUM(L30,G30,M30) -> 0 | Q30: =SUM(O30:P30) -> 0 | V30: =SUM(R30:U30) -> 0 | X30: =SUM(V30,Q30,W30) -> 0 | AA30: =SUM(Y30:Z30) -> 0 | AF30: =SUM(AB30:AE30) -> 0 | AH30: =SUM(AF30,AA30,AG30) -> 0 | AI30: =SUM(AH30,X30,N30) -> 0
A31: 24 | G31: =SUM(E31:F31) -> 0 | L31: =SUM(H31:K31) -> 0 | N31: =SUM(L31,G31,M31) -> 0 | Q31: =SUM(O31:P31) -> 0 | V31: =SUM(R31:U31) -> 0 | X31: =SUM(V31,Q31,W31) -> 0 | AA31: =SUM(Y31:Z31) -> 0 | AF31: =SUM(AB31:AE31) -> 0 | AH31: =SUM(AF31,AA31,AG31) -> 0 | AI31: =SUM(AH31,X31,N31) -> 0
A32: 25 | G32: =SUM(E32:F32) -> 0 | L32: =SUM(H32:K32) -> 0 | N32: =SUM(L32,G32,M32) -> 0 | Q32: =SUM(O32:P32) -> 0 | V32: =SUM(R32:U32) -> 0 | X32: =SUM(V32,Q32,W32) -> 0 | AA32: =SUM(Y32:Z32) -> 0 | AF32: =SUM(AB32:AE32) -> 0 | AH32: =SUM(AF32,AA32,AG32) -> 0 | AI32: =SUM(AH32,X32,N32) -> 0
A33: 26 | G33: =SUM(E33:F33) -> 0 | L33: =SUM(H33:K33) -> 0 | N33: =SUM(L33,G33,M33) -> 0 | Q33: =SUM(O33:P33) -> 0 | V33: =SUM(R33:U33) -> 0 | X33: =SUM(V33,Q33,W33) -> 0 | AA33: =SUM(Y33:Z33) -> 0 | AF33: =SUM(AB33:AE33) -> 0 | AH33: =SUM(AF33,AA33,AG33) -> 0 | AI33: =SUM(AH33,X33,N33) -> 0
A34: 27 | G34: =SUM(E34:F34) -> 0 | L34: =SUM(H34:K34) -> 0 | N34: =SUM(L34,G34,M34) -> 0 | Q34: =SUM(O34:P34) -> 0 | V34: =SUM(R34:U34) -> 0 | X34: =SUM(V34,Q34,W34) -> 0 | AA34: =SUM(Y34:Z34) -> 0 | AF34: =SUM(AB34:AE34) -> 0 | AH34: =SUM(AF34,AA34,AG34) -> 0 | AI34: =SUM(AH34,X34,N34) -> 0
A35: 28 | G35: =SUM(E35:F35) -> 0 | L35: =SUM(H35:K35) -> 0 | N35: =SUM(L35,G35,M35) -> 0 | Q35: =SUM(O35:P35) -> 0 | V35: =SUM(R35:U35) -> 0 | X35: =SUM(V35,Q35,W35) -> 0 | AA35: =SUM(Y35:Z35) -> 0 | AF35: =SUM(AB35:AE35) -> 0 | AH35: =SUM(AF35,AA35,AG35) -> 0 | AI35: =SUM(AH35,X35,N35) -> 0
A36: 29 | D36: =IF(ISBLANK(C36),"",DATEDIF(C36,$AL$2,"y")) | G36: =SUM(E36:F36) -> 0 | L36: =SUM(H36:K36) -> 0 | N36: =SUM(L36,G36,M36) -> 0 | Q36: =SUM(O36:P36) -> 0 | V36: =SUM(R36:U36) -> 0 | X36: =SUM(V36,Q36,W36) -> 0 | AA36: =SUM(Y36:Z36) -> 0 | AF36: =SUM(AB36:AE36) -> 0 | AH36: =SUM(AF36,AA36,AG36) -> 0 | AI36: =SUM(AH36,X36,N36) -> 0 | AJ36: =IF(ISBLANK(B36),"",1)
A37: 30 | D37: =IF(ISBLANK(C37),"",DATEDIF(C37,$AL$2,"y")) | G37: =SUM(E37:F37) -> 0 | L37: =SUM(H37:K37) -> 0 | N37: =SUM(L37,G37,M37) -> 0 | Q37: =SUM(O37:P37) -> 0 | V37: =SUM(R37:U37) -> 0 | X37: =SUM(V37,Q37,W37) -> 0 | AA37: =SUM(Y37:Z37) -> 0 | AF37: =SUM(AB37:AE37) -> 0 | AH37: =SUM(AF37,AA37,AG37) -> 0 | AI37: =SUM(AH37,X37,N37) -> 0 | AJ37: =IF(ISBLANK(B37),"",1)
A38: 31 | D38: =IF(ISBLANK(C38),"",DATEDIF(C38,$AL$2,"y")) | G38: =SUM(E38:F38) -> 0 | L38: =SUM(H38:K38) -> 0 | N38: =SUM(L38,G38,M38) -> 0 | Q38: =SUM(O38:P38) -> 0 | V38: =SUM(R38:U38) -> 0 | X38: =SUM(V38,Q38,W38) -> 0 | AA38: =SUM(Y38:Z38) -> 0 | AF38: =SUM(AB38:AE38) -> 0 | AH38: =SUM(AF38,AA38,AG38) -> 0 | AI38: =SUM(AH38,X38,N38) -> 0 | AJ38: =IF(ISBLANK(B38),"",1)
A39: 32 | D39: =IF(ISBLANK(C39),"",DATEDIF(C39,$AL$2,"y")) | G39: =SUM(E39:F39) -> 0 | L39: =SUM(H39:K39) -> 0 | N39: =SUM(L39,G39,M39) -> 0 | Q39: =SUM(O39:P39) -> 0 | V39: =SUM(R39:U39) -> 0 | X39: =SUM(V39,Q39,W39) -> 0 | AA39: =SUM(Y39:Z39) -> 0 | AF39: =SUM(AB39:AE39) -> 0 | AH39: =SUM(AF39,AA39,AG39) -> 0 | AI39: =SUM(AH39,X39,N39) -> 0 | AJ39: =IF(ISBLANK(B39),"",1)
A40: 33 | D40: =IF(ISBLANK(C40),"",DATEDIF(C40,$AL$2,"y")) | G40: =SUM(E40:F40) -> 0 | L40: =SUM(H40:K40) -> 0 | N40: =SUM(L40,G40,M40) -> 0 | Q40: =SUM(O40:P40) -> 0 | V40: =SUM(R40:U40) -> 0 | X40: =SUM(V40,Q40,W40) -> 0 | AA40: =SUM(Y40:Z40) -> 0 | AF40: =SUM(AB40:AE40) -> 0 | AH40: =SUM(AF40,AA40,AG40) -> 0 | AI40: =SUM(AH40,X40,N40) -> 0 | AJ40: =IF(ISBLANK(B40),"",1)
A41: 34 | D41: =IF(ISBLANK(C41),"",DATEDIF(C41,$AL$2,"y")) | G41: =SUM(E41:F41) -> 0 | L41: =SUM(H41:K41) -> 0 | N41: =SUM(L41,G41,M41) -> 0 | Q41: =SUM(O41:P41) -> 0 | V41: =SUM(R41:U41) -> 0 | X41: =SUM(V41,Q41,W41) -> 0 | AA41: =SUM(Y41:Z41) -> 0 | AF41: =SUM(AB41:AE41) -> 0 | AH41: =SUM(AF41,AA41,AG41) -> 0 | AI41: =SUM(AH41,X41,N41) -> 0 | AJ41: =IF(ISBLANK(B41),"",1)
A42: 35 | D42: =IF(ISBLANK(C42),"",DATEDIF(C42,$AL$2,"y")) | G42: =SUM(E42:F42) -> 0 | L42: =SUM(H42:K42) -> 0 | N42: =SUM(L42,G42,M42) -> 0 | Q42: =SUM(O42:P42) -> 0 | V42: =SUM(R42:U42) -> 0 | X42: =SUM(V42,Q42,W42) -> 0 | AA42: =SUM(Y42:Z42) -> 0 | AF42: =SUM(AB42:AE42) -> 0 | AH42: =SUM(AF42,AA42,AG42) -> 0 | AI42: =SUM(AH42,X42,N42) -> 0 | AJ42: =IF(ISBLANK(B42),"",1)
A43: 36 | D43: =IF(ISBLANK(C43),"",DATEDIF(C43,$AL$2,"y")) | G43: =SUM(E43:F43) -> 0 | L43: =SUM(H43:K43) -> 0 | N43: =SUM(L43,G43,M43) -> 0 | Q43: =SUM(O43:P43) -> 0 | V43: =SUM(R43:U43) -> 0 | X43: =SUM(V43,Q43,W43) -> 0 | AA43: =SUM(Y43:Z43) -> 0 | AF43: =SUM(AB43:AE43) -> 0 | AH43: =SUM(AF43,AA43,AG43) -> 0 | AI43: =SUM(AH43,X43,N43) -> 0 | AJ43: =IF(ISBLANK(B43),"",1)
A44: 37 | D44: =IF(ISBLANK(C44),"",DATEDIF(C44,$AL$2,"y")) | G44: =SUM(E44:F44) -> 0 | L44: =SUM(H44:K44) -> 0 | N44: =SUM(L44,G44,M44) -> 0 | Q44: =SUM(O44:P44) -> 0 | V44: =SUM(R44:U44) -> 0 | X44: =SUM(V44,Q44,W44) -> 0 | AA44: =SUM(Y44:Z44) -> 0 | AF44: =SUM(AB44:AE44) -> 0 | AH44: =SUM(AF44,AA44,AG44) -> 0 | AI44: =SUM(AH44,X44,N44) -> 0 | AJ44: =IF(ISBLANK(B44),"",1)
A45: 38 | D45: =IF(ISBLANK(C45),"",DATEDIF(C45,$AL$2,"y")) | G45: =SUM(E45:F45) -> 0 | L45: =SUM(H45:K45) -> 0 | N45: =SUM(L45,G45,M45) -> 0 | Q45: =SUM(O45:P45) -> 0 | V45: =SUM(R45:U45) -> 0 | X45: =SUM(V45,Q45,W45) -> 0 | AA45: =SUM(Y45:Z45) -> 0 | AF45: =SUM(AB45:AE45) -> 0 | AH45: =SUM(AF45,AA45,AG45) -> 0 | AI45: =SUM(AH45,X45,N45) -> 0 | AJ45: =IF(ISBLANK(B45),"",1)
A46: 39 | D46: =IF(ISBLANK(C46),"",DATEDIF(C46,$AL$2,"y")) | G46: =SUM(E46:F46) -> 0 | L46: =SUM(H46:K46) -> 0 | N46: =SUM(L46,G46,M46) -> 0 | Q46: =SUM(O46:P46) -> 0 | V46: =SUM(R46:U46) -> 0 | X46: =SUM(V46,Q46,W46) -> 0 | AA46: =SUM(Y46:Z46) -> 0 | AF46: =SUM(AB46:AE46) -> 0 | AH46: =SUM(AF46,AA46,AG46) -> 0 | AI46: =SUM(AH46,X46,N46) -> 0 | AJ46: =IF(ISBLANK(B46),"",1)
A47: 40 | D47: =IF(ISBLANK(C47),"",DATEDIF(C47,$AL$2,"y")) | G47: =SUM(E47:F47) -> 0 | L47: =SUM(H47:K47) -> 0 | N47: =SUM(L47,G47,M47) -> 0 | Q47: =SUM(O47:P47) -> 0 | V47: =SUM(R47:U47) -> 0 | X47: =SUM(V47,Q47,W47) -> 0 | AA47: =SUM(Y47:Z47) -> 0 | AF47: =SUM(AB47:AE47) -> 0 | AH47: =SUM(AF47,AA47,AG47) -> 0 | AI47: =SUM(AH47,X47,N47) -> 0 | AJ47: =IF(ISBLANK(B47),"",1)
A48: 41 | G48: =SUM(E48:F48) -> 0 | L48: =SUM(H48:K48) -> 0 | Q48: =SUM(O48:P48) -> 0 | V48: =SUM(R48:U48) -> 0 | AA48: =SUM(Y48:Z48) -> 0 | AF48: =SUM(AB48:AE48) -> 0 | AI48: =SUM(AH48,X48,N48) -> 0
A49: 42 | G49: =SUM(E49:F49) -> 0 | L49: =SUM(H49:K49) -> 0 | Q49: =SUM(O49:P49) -> 0 | V49: =SUM(R49:U49) -> 0 | AA49: =SUM(Y49:Z49) -> 0 | AF49: =SUM(AB49:AE49) -> 0 | AI49: =SUM(AH49,X49,N49) -> 0
A50: 43 | G50: =SUM(E50:F50) -> 0 | L50: =SUM(H50:K50) -> 0 | Q50: =SUM(O50:P50) -> 0 | V50: =SUM(R50:U50) -> 0 | AA50: =SUM(Y50:Z50) -> 0 | AF50: =SUM(AB50:AE50) -> 0 | AI50: =SUM(AH50,X50,N50) -> 0
A51: 44 | G51: =SUM(E51:F51) -> 0 | L51: =SUM(H51:K51) -> 0 | Q51: =SUM(O51:P51) -> 0 | V51: =SUM(R51:U51) -> 0 | AA51: =SUM(Y51:Z51) -> 0 | AF51: =SUM(AB51:AE51) -> 0 | AI51: =SUM(AH51,X51,N51) -> 0
A52: 45 | G52: =SUM(E52:F52) -> 0 | L52: =SUM(H52:K52) -> 0 | Q52: =SUM(O52:P52) -> 0 | V52: =SUM(R52:U52) -> 0 | AA52: =SUM(Y52:Z52) -> 0 | AF52: =SUM(AB52:AE52) -> 0 | AI52: =SUM(AH52,X52,N52) -> 0
A53: 46 | G53: =SUM(E53:F53) -> 0 | L53: =SUM(H53:K53) -> 0 | Q53: =SUM(O53:P53) -> 0 | V53: =SUM(R53:U53) -> 0 | AA53: =SUM(Y53:Z53) -> 0 | AF53: =SUM(AB53:AE53) -> 0 | AI53: =SUM(AH53,X53,N53) -> 0
A54: 47 | D54: =IF(ISBLANK(C54),"",DATEDIF(C54,$AL$2,"y")) | G54: =SUM(E54:F54) -> 0 | L54: =SUM(H54:K54) -> 0 | N54: =SUM(L54,G54,M54) -> 0 | Q54: =SUM(O54:P54) -> 0 | V54: =SUM(R54:U54) -> 0 | X54: =SUM(V54,Q54,W54) -> 0 | AA54: =SUM(Y54:Z54) -> 0 | AF54: =SUM(AB54:AE54) -> 0 | AH54: =SUM(AF54,AA54,AG54) -> 0 | AI54: =SUM(AH54,X54,N54) -> 0 | AJ54: =IF(ISBLANK(B54),"",1)
A55: 48 | D55: =IF(ISBLANK(C55),"",DATEDIF(C55,$AL$2,"y")) | G55: =SUM(E55:F55) -> 0 | L55: =SUM(H55:K55) -> 0 | N55: =SUM(L55,G55,M55) -> 0 | Q55: =SUM(O55:P55) -> 0 | V55: =SUM(R55:U55) -> 0 | X55: =SUM(V55,Q55,W55) -> 0 | AA55: =SUM(Y55:Z55) -> 0 | AF55: =SUM(AB55:AE55) -> 0 | AH55: =SUM(AF55,AA55,AG55) -> 0 | AI55: =SUM(AH55,X55,N55) -> 0 | AJ55: =IF(ISBLANK(B55),"",1)
A56: 49 | D56: =IF(ISBLANK(C56),"",DATEDIF(C56,$AL$2,"y")) | G56: =SUM(E56:F56) -> 0 | L56: =SUM(H56:K56) -> 0 | N56: =SUM(L56,G56,M56) -> 0 | Q56: =SUM(O56:P56) -> 0 | V56: =SUM(R56:U56) -> 0 | X56: =SUM(V56,Q56,W56) -> 0 | AA56: =SUM(Y56:Z56) -> 0 | AF56: =SUM(AB56:AE56) -> 0 | AH56: =SUM(AF56,AA56,AG56) -> 0 | AI56: =SUM(AH56,X56,N56) -> 0 | AJ56: =IF(ISBLANK(B56),"",1)
A57: 50 | D57: =IF(ISBLANK(C57),"",DATEDIF(C57,$AL$2,"y")) | G57: =SUM(E57:F57) -> 0 | L57: =SUM(H57:K57) -> 0 | N57: =SUM(L57,G57,M57) -> 0 | Q57: =SUM(O57:P57) -> 0 | V57: =SUM(R57:U57) -> 0 | X57: =SUM(V57,Q57,W57) -> 0 | AA57: =SUM(Y57:Z57) -> 0 | AF57: =SUM(AB57:AE57) -> 0 | AH57: =SUM(AF57,AA57,AG57) -> 0 | AI57: =SUM(AH57,X57,N57) -> 0 | AJ57: =IF(ISBLANK(B57),"",1)
A58: 51 | D58: =IF(ISBLANK(C58),"",DATEDIF(C58,$AL$2,"y")) | G58: =SUM(E58:F58) -> 0 | L58: =SUM(H58:K58) -> 0 | N58: =SUM(L58,G58,M58) -> 0 | Q58: =SUM(O58:P58) -> 0 | V58: =SUM(R58:U58) -> 0 | X58: =SUM(V58,Q58,W58) -> 0 | AA58: =SUM(Y58:Z58) -> 0 | AF58: =SUM(AB58:AE58) -> 0 | AH58: =SUM(AF58,AA58,AG58) -> 0 | AI58: =SUM(AH58,X58,N58) -> 0 | AJ58: =IF(ISBLANK(B58),"",1)
A59: 52 | D59: =IF(ISBLANK(C59),"",DATEDIF(C59,$AL$2,"y")) | G59: =SUM(E59:F59) -> 0 | L59: =SUM(H59:K59) -> 0 | N59: =SUM(L59,G59,M59) -> 0 | Q59: =SUM(O59:P59) -> 0 | V59: =SUM(R59:U59) -> 0 | X59: =SUM(V59,Q59,W59) -> 0 | AA59: =SUM(Y59:Z59) -> 0 | AF59: =SUM(AB59:AE59) -> 0 | AH59: =SUM(AF59,AA59,AG59) -> 0 | AI59: =SUM(AH59,X59,N59) -> 0 | AJ59: =IF(ISBLANK(B59),"",1)
A60: 53 | D60: =IF(ISBLANK(C60),"",DATEDIF(C60,$AL$2,"y")) | G60: =SUM(E60:F60) -> 0 | L60: =SUM(H60:K60) -> 0 | N60: =SUM(L60,G60,M60) -> 0 | Q60: =SUM(O60:P60) -> 0 | V60: =SUM(R60:U60) -> 0 | X60: =SUM(V60,Q60,W60) -> 0 | AA60: =SUM(Y60:Z60) -> 0 | AF60: =SUM(AB60:AE60) -> 0 | AH60: =SUM(AF60,AA60,AG60) -> 0 | AI60: =SUM(AH60,X60,N60) -> 0 | AJ60: =IF(ISBLANK(B60),"",1)
A61: 54 | D61: =IF(ISBLANK(C61),"",DATEDIF(C61,$AL$2,"y")) | G61: =SUM(E61:F61) -> 0 | L61: =SUM(H61:K61) -> 0 | N61: =SUM(L61,G61,M61) -> 0 | Q61: =SUM(O61:P61) -> 0 | V61: =SUM(R61:U61) -> 0 | X61: =SUM(V61,Q61,W61) -> 0 | AA61: =SUM(Y61:Z61) -> 0 | AF61: =SUM(AB61:AE61) -> 0 | AH61: =SUM(AF61,AA61,AG61) -> 0 | AI61: =SUM(AH61,X61,N61) -> 0 | AJ61: =IF(ISBLANK(B61),"",1)
B62: 計 | C62: =AJ62 -> 0 | D62: 人 | E62: =SUM(E8:E61) -> 0 | F62: =SUM(F8:F61) -> 0 | G62: =SUM(E62:F62) -> 0 | H62: =SUM(H8:H61) -> 0 | I62: =SUM(I8:I61) -> 0 | J62: =SUM(J8:J61) -> 0 | K62: =SUM(K8:K61) -> 0 | L62: =SUM(H62:K62) -> 0 | M62: =SUM(M8:M61) -> 0 | N62: =SUM(L62,G62,M62) -> 0 | O62: =SUM(O8:O61) -> 0 | P62: =SUM(P8:P61) -> 0 | Q62: =SUM(O62:P62) -> 0 | R62: =SUM(R8:R61) -> 0 | S62: =SUM(S8:S61) -> 0 | T62: =SUM(T8:T61) -> 0 | U62: =SUM(U8:U61) -> 0 | V62: =SUM(R62:U62) -> 0 | W62: =SUM(W8:W61) -> 0 | X62: =SUM(V62,Q62,W62) -> 0 | Y62: =SUM(Y8:Y61) -> 0 | Z62: =SUM(Z8:Z61) -> 0 | AA62: =SUM(Y62:Z62) -> 0 | AB62: =SUM(AB8:AB61) -> 0 | AC62: =SUM(AC8:AC61) -> 0 | AD62: =SUM(AD8:AD61) -> 0 | AE62: =SUM(AE8:AE61) -> 0 | AF62: =SUM(AB62:AE62) -> 0 | AG62: =SUM(AG8:AG61) -> 0 | AH62: =SUM(AF62,AA62,AG62) -> 0 | AI62: =SUM(AH62,X62,N62) -> 0 | AJ62: =SUM(AJ8:AJ56) -> 0
B63: 注1：各保険等ごとの伐出事業、造林事業の作業種別内訳額については、各保険計の金額に退職金共済制度における作業種別加入割合を乗じて算出しても構いません。

Sheet 10号-7
A1: 別記第１０号様式の７
B2: 令和４年度 | C2: 新規参入者給与安定対策事業実績書
A3: １ 新規参入者給与安定対策事業対象者の雇用実績 | O3: 年齢算出基準日 | P3: 44896
B4: 新規参入者名 | C4: 生年月日 | D4: 年齢 | E4: 新規に雇用 した年月日 | F4: 緑の雇用の有無 | G4: 緑の雇用以外の場合、林業経験２年未満の確認 | H4: 対象期間の 現金給与総額 | I4: 対象期間 | L4: 退職金共済 加入年月日 | M4: 社会保険 ３点セット 加入年月日
H5: 円
D6: =IF(ISBLANK(C6),"",DATEDIF(C6,$P$3,"y")) | J6: =IF(ISBLANK(I6),"","～")
D7: =IF(ISBLANK(C7),"",DATEDIF(C7,$P$3,"y")) | J7: =IF(ISBLANK(I7),"","～")
D8: =IF(ISBLANK(C8),"",DATEDIF(C8,$P$3,"y")) | J8: =IF(ISBLANK(I8),"","～")
D9: =IF(ISBLANK(C9),"",DATEDIF(C9,$P$3,"y")) | J9: =IF(ISBLANK(I9),"","～")
D10: =IF(ISBLANK(C10),"",DATEDIF(C10,$P$3,"y")) | J10: =IF(ISBLANK(I10),"","～")
D11: =IF(ISBLANK(C11),"",DATEDIF(C11,$P$3,"y")) | J11: =IF(ISBLANK(I11),"","～")
D12: =IF(ISBLANK(C12),"",DATEDIF(C12,$P$3,"y")) | J12: =IF(ISBLANK(I12),"","～")
D13: =IF(ISBLANK(C13),"",DATEDIF(C13,$P$3,"y")) | J13: =IF(ISBLANK(I13),"","～")
D14: =IF(ISBLANK(C14),"",DATEDIF(C14,$P$3,"y")) | J14: =IF(ISBLANK(I14),"","～")
D15: =IF(ISBLANK(C15),"",DATEDIF(C15,$P$3,"y")) | J15: =IF(ISBLANK(I15),"","～")
D16: =IF(ISBLANK(C16),"",DATEDIF(C16,$P$3,"y")) | J16: =IF(ISBLANK(I16),"","～")
D17: =IF(ISBLANK(C17),"",DATEDIF(C17,$P$3,"y")) | J17: =IF(ISBLANK(I17),"","～")
B18: 計 | C18: =COUNTA(B6:B17) -> 0 | D18: 人
A20: ２ 添付書類
B21: 対象者の月別現金給与支給明細書［別記第１０号様式の８］

Sheet 10号-9
A1: 別記第１０号様式の９
B2: 令和４年度 | D2: 新規参入者確保促進事業実績書
A3: １ 新規参入者確保状況 | I3: 年齢算出基準日 | J3: 44896
A4: 新規参入者名 | B4: 生年月日 | C4: 年齢 | D4: 新規に雇用 した年月日 | E4: 林業経験２年 未満の確認 | F4: 社会保険 ３点セット 加入年月日 | G4: 継続 雇用
C6: =IF(ISBLANK(B6),"",DATEDIF(B6,$J$3,"y"))
C7: =IF(ISBLANK(B7),"",DATEDIF(B7,$J$3,"y"))
C8: =IF(ISBLANK(B8),"",DATEDIF(B8,$J$3,"y"))
C9: =IF(ISBLANK(B9),"",DATEDIF(B9,$J$3,"y"))
C10: =IF(ISBLANK(B10),"",DATEDIF(B10,$J$3,"y"))
C11: =IF(ISBLANK(B11),"",DATEDIF(B11,$J$3,"y"))
C12: =IF(ISBLANK(B12),"",DATEDIF(B12,$J$3,"y"))
C13: =IF(ISBLANK(B13),"",DATEDIF(B13,$J$3,"y"))
C14: =IF(ISBLANK(B14),"",DATEDIF(B14,$J$3,"y"))
C15: =IF(ISBLANK(B15),"",DATEDIF(B15,$J$3,"y"))
C16: =IF(ISBLANK(B16),"",DATEDIF(B16,$J$3,"y"))
C17: =IF(ISBLANK(B17),"",DATEDIF(B17,$J$3,"y"))
A18: 計 | B18: =COUNTA(A6:A17) -> 0 | C18: 人
A20: 注 継続雇用欄には、現在も継続して雇用している場合に○を付ける。

Sheet 10号-10
A1: 別記第１０号様式の１０
C2: 令和４年度 | E2: 新規参入者住宅確保支援事業（代理申請）実績書
A3: １ 新規参入者の住宅確保等状況 | M3: 年齢算出基準日 | N3: 44896
B4: 新規参入者名 | C4: 生年月日 | D4: 年齢 | E4: 現在の住所 | F4: 転居前の住所 | G4: 当該住宅での 居住期間 | I4: 出身都 道府県 | J4: 住宅区分
J5: 借家 | K5: 購入 自宅
D6: =IF(ISBLANK(C6),"",DATEDIF(C6,$N$3,"y")) | G6: 自
D7: =IF(ISBLANK(C7),"",DATEDIF(C7,$I$3,"y")) | G7: 至 | H7: =IF(ISBLANK(H6),"",N3+274)
D8: =IF(ISBLANK(C8),"",DATEDIF(C8,$N$3,"y")) | G8: 自
D9: =IF(ISBLANK(C9),"",DATEDIF(C9,$I$3,"y")) | G9: 至 | H9: =IF(ISBLANK(H8),"",$H$7)
D10: =IF(ISBLANK(C10),"",DATEDIF(C10,$N$3,"y")) | G10: 自
D11: =IF(ISBLANK(C11),"",DATEDIF(C11,$I$3,"y")) | G11: 至 | H11: =IF(ISBLANK(H10),"",$H$7)
D12: =IF(ISBLANK(C12),"",DATEDIF(C12,$N$3,"y")) | G12: 自
D13: =IF(ISBLANK(C13),"",DATEDIF(C13,$I$3,"y")) | G13: 至 | H13: =IF(ISBLANK(H12),"",$H$7)
D14: =IF(ISBLANK(C14),"",DATEDIF(C14,$N$3,"y")) | G14: 自
D15: =IF(ISBLANK(C15),"",DATEDIF(C15,$I$3,"y")) | G15: 至 | H15: =IF(ISBLANK(H14),"",$H$7)
D16: =IF(ISBLANK(C16),"",DATEDIF(C16,$N$3,"y")) | G16: 自
D17: =IF(ISBLANK(C17),"",DATEDIF(C17,$I$3,"y")) | G17: 至 | H17: =IF(ISBLANK(H16),"",$H$7)
B18: 計 | C18: =COUNTA(B6:B17) -> 0 | D18: 人
A20: ２ 勤務する事業体（本所、支所、担当区等）の所在地 | H20: 入居年数 | I20: =IF(ISBLANK(H6),"",DATEDIF(H6,H7,"y")) | J20: =IF(ISBLANK(H6),"",DATEDIF(H6,H7,"ym"))
C21: 市町村 | H21: =IF(ISBLANK(B8),"",$H$20) | I21: =IF(ISBLANK(H8),"",DATEDIF(H8,H9,"y")) | J21: =IF(ISBLANK(H8),"",DATEDIF(H8,H9,"ym"))
H22: =IF(ISBLANK(B10),"",$H$20) | I22: =IF(ISBLANK(H10),"",DATEDIF(H10,H11,"y")) | J22: =IF(ISBLANK(H10),"",DATEDIF(H10,H11,"ym"))
H23: =IF(ISBLANK(B12),"",$H$20) | I23: =IF(ISBLANK(H12),"",DATEDIF(H12,H13,"y")) | J23: =IF(ISBLANK(H12),"",DATEDIF(H12,H13,"ym"))
H24: =IF(ISBLANK(B14),"",$H$20) | I24: =IF(ISBLANK(H14),"",DATEDIF(H14,H15,"y")) | J24: =IF(ISBLANK(H14),"",DATEDIF(H14,H15,"ym"))
H25: =IF(ISBLANK(B16),"",$H$20) | I25: =IF(ISBLANK(H16),"",DATEDIF(H16,H17,"y")) | J25: =IF(ISBLANK(H16),"",DATEDIF(H16,H17,"ym"))

Sheet 15号
A1: 別記第１５号様式
A3: 助成事業名 | B3: 所属事業体 | C3: 氏名 | D3: 採用年月日 | E3: 助成初年度 | F3: 退職情報等
